BEGIN:VCALENDAR
VERSION:2.0
PRODID:-//Europebookings - ECPv6.15.20//NONSGML v1.0//EN
CALSCALE:GREGORIAN
METHOD:PUBLISH
X-ORIGINAL-URL:https://europebookings.com
X-WR-CALDESC:Events for Europebookings
REFRESH-INTERVAL;VALUE=DURATION:PT1H
X-Robots-Tag:noindex
X-PUBLISHED-TTL:PT1H
BEGIN:VTIMEZONE
TZID:Asia/Nicosia
BEGIN:DAYLIGHT
TZOFFSETFROM:+0200
TZOFFSETTO:+0300
TZNAME:EEST
DTSTART:20250330T010000
END:DAYLIGHT
BEGIN:STANDARD
TZOFFSETFROM:+0300
TZOFFSETTO:+0200
TZNAME:EET
DTSTART:20251026T010000
END:STANDARD
BEGIN:DAYLIGHT
TZOFFSETFROM:+0200
TZOFFSETTO:+0300
TZNAME:EEST
DTSTART:20260329T010000
END:DAYLIGHT
BEGIN:STANDARD
TZOFFSETFROM:+0300
TZOFFSETTO:+0200
TZNAME:EET
DTSTART:20261025T010000
END:STANDARD
BEGIN:DAYLIGHT
TZOFFSETFROM:+0200
TZOFFSETTO:+0300
TZNAME:EEST
DTSTART:20270328T010000
END:DAYLIGHT
BEGIN:STANDARD
TZOFFSETFROM:+0300
TZOFFSETTO:+0200
TZNAME:EET
DTSTART:20271031T010000
END:STANDARD
END:VTIMEZONE
BEGIN:VEVENT
DTSTART;VALUE=DATE:20260715
DTEND;VALUE=DATE:20260719
DTSTAMP:20260419T163521
CREATED:20191024T104051Z
LAST-MODIFIED:20251124T124428Z
UID:25498-1784073600-1784419199@europebookings.com
SUMMARY:Colours of Ostrava
DESCRIPTION:Get TicketsAccommodationTravel Info\nColours of Ostrava 2026 returns to the awe-inspiring industrial setting of Dolní Vítkovice\, transforming the heart of Ostrava into a dazzling fusion of music\, art\, and creativity. This one-of-a-kind festival turns a former steelworks into a living\, breathing cultural wonderland — a place where glowing furnaces\, steel towers\, and open-air stages form the backdrop to some of the world’s most exciting performances. \nSince its debut in 2002\, Colours of Ostrava has become one of Central Europe’s most distinctive and respected festivals\, renowned for its eclectic programming and breathtaking atmosphere. It brings together global superstars\, boundary-pushing artists\, and local talent across genres from rock and pop to world music\, electronica\, and jazz. Each year\, it attracts visitors from around the globe who come not only for the music but for the sense of discovery and community that defines the event. \nThe 2026 edition promises another unforgettable experience\, with early headliners including Twenty One Pilots\, Lorde\, Moby\, and Teddy Swims\, each set to light up the monumental steel structures of Dolní Vítkovice with their signature sounds. The festival’s dynamic lineup continues to grow\, blending household names with fresh voices and genre-crossing collaborations that keep the atmosphere electric from day to night. \nBeyond the music\, Colours of Ostrava celebrates art\, ideas\, and cultural dialogue through its Meltingpot Forum\, a renowned platform for thinkers\, creators\, and innovators from around the world. The festival also offers immersive visual installations\, film screenings\, food experiences\, and wellness zones\, making it a truly holistic summer escape. \nAs creativity meets industrial heritage\, Colours of Ostrava 2026 stands as a symbol of transformation and unity — where music connects people\, art sparks emotion\, and every note echoes through the steel heart of Ostrava. \n\nColours of Ostrava 2026 Lineup\nAll ArtistsBennett / Bert & Friends / Gufrau / Harry Strange / Jambinai / Kateřina Marie Tichá / Kirara / Lorde / Moby / Paris Paloma / Sofian Medjmedj / Tata Bojs / Teddy Swims / Twenty One Pilots / and many moreColours of Ostrava 2026 Tickets\nTickets\nColours of Ostrava\nvia Official Site \nBookAccommodation\nCamping during the festival requires a Camping Ticket purchased here. You will need basic camping gear\, like a tent\, a camping pad and a head torch (so useful in the night). \nAlternatively\, you can book nearby hotels and apartments using the map below or visit booking.com \nTravel Info\nBY CAR\nParking is available and tickets can be purchased here \nGet DirectionsBY BUS\nThe closest train stop to the festival is Ostrava-střed\, which is located approximately 500 metres from the festival grounds. The main destination station for long-distance trains is Ostrava -hlavní nádraží\, from where you can make your journey to the festival using Ostrava public transport (tram) or taking a train to Ostrava-střed. Extra train services will be put on for visitors during the course of the festival\, and your festival ticket will give you half price travel on trains operated by České dráhy from anywhere in the Czech Republic. \nBY PLANE\nThe nearest airport is Leoš Janáček Airport Ostrava (OSR) which is around a 20 minute drive away from the city centre. If you are flying\, we recommend getting either a bus or taxi into Ostrava\, because the airport doesn’t have its own train station. There are many buses that run via Ostrava from the airport. \nBook FlightsAirport TransfersCar RentalsTrain/Bus Tickets\nGallery\nRelated Festivals\nDownload Festival\n12 Jun – 14 Jun | Derby\, UK\nLytham Festival\n1 Jul – 5 Jul | Lytham Green\, UK\n		\n			\n\n				\n				\n					Search for:
URL:https://europebookings.com/festival/colours-of-ostrava/
LOCATION:Dolní Vítkovice\, Ruská 2993\, Ostrava\, 70300\, Czech Republic
CATEGORIES:Electronic,Indie,Pop,Rock
ATTACH;FMTTYPE=image/jpeg:https://europebookings.com/wp-content/uploads/colours-of-ostrava-stage-fireworks.jpg
END:VEVENT
END:VCALENDAR