BEGIN:VCALENDAR
VERSION:2.0
PRODID:-//Europebookings - ECPv6.15.20//NONSGML v1.0//EN
CALSCALE:GREGORIAN
METHOD:PUBLISH
X-WR-CALNAME:Europebookings
X-ORIGINAL-URL:https://europebookings.com
X-WR-CALDESC:Events for Europebookings
REFRESH-INTERVAL;VALUE=DURATION:PT1H
X-Robots-Tag:noindex
X-PUBLISHED-TTL:PT1H
BEGIN:VTIMEZONE
TZID:Asia/Nicosia
BEGIN:DAYLIGHT
TZOFFSETFROM:+0200
TZOFFSETTO:+0300
TZNAME:EEST
DTSTART:20220327T010000
END:DAYLIGHT
BEGIN:STANDARD
TZOFFSETFROM:+0300
TZOFFSETTO:+0200
TZNAME:EET
DTSTART:20221030T010000
END:STANDARD
BEGIN:DAYLIGHT
TZOFFSETFROM:+0200
TZOFFSETTO:+0300
TZNAME:EEST
DTSTART:20230326T010000
END:DAYLIGHT
BEGIN:STANDARD
TZOFFSETFROM:+0300
TZOFFSETTO:+0200
TZNAME:EET
DTSTART:20231029T010000
END:STANDARD
BEGIN:DAYLIGHT
TZOFFSETFROM:+0200
TZOFFSETTO:+0300
TZNAME:EEST
DTSTART:20240331T010000
END:DAYLIGHT
BEGIN:STANDARD
TZOFFSETFROM:+0300
TZOFFSETTO:+0200
TZNAME:EET
DTSTART:20241027T010000
END:STANDARD
END:VTIMEZONE
BEGIN:VEVENT
DTSTART;VALUE=DATE:20230819
DTEND;VALUE=DATE:20230820
DTSTAMP:20260423T143032
CREATED:20210722T132757Z
LAST-MODIFIED:20230116T120607Z
UID:45636-1692403200-1692489599@europebookings.com
SUMMARY:Secret Project presents Carl Cox Hybrid Live
DESCRIPTION:Secret Project presents Carl Cox Hybrid Live is a new event from Secret Project heading again in Amsterdam in August 2023. \nThis Hybrid Live set from Carl Cox is a truly special event\, exemplifying that true legends consistently work on their craft. Through the use of both software and hardware components to incorporate live elements into his DJ’ing\, a dynamic night of sound is coming in hot \nSecret Project is an emerging festival born in the prospering underground scene of downtown Los Angeles. Fusing art\, technology\, and exceptionally curated house and techno music\, the festival known for its daytime moments\, is ready to grow beyond its origin. With successful editions in LA\, Miami\, Amsterdam\, and Portugal\, Secret Project unites music lovers alike in new cities where there are no shortages of dance floors. \n\nSecret Project presents Carl Cox Hybrid Live Lineup\nAll ArtistsCarl Cox (HYBRID LIVE) / Christopher Coe (LIVE) / DIØN / DJ Rush / DYEN / Nico Moreno & SHLØMO / Sara Landry / TRYMSecret Project presents Carl Cox Hybrid Live Tickets\nRegular Tickets at €62.16 are on sale:\nTicketsSecret Project pres Carl Cox\nvia Official SiteBookAccommodation\nThe city of Amsterdam offers a wide range of accommodation options. Book your stay for Secret Project pres Carl Cox using the map below or visit visit booking.com \nBooking.comBook Hotels & Airbnbs near the Venue at the Lowest Price online!\n\nTravel Info\nBY CAR\nGet DirectionsBY PUBLIC TRANSPORT\nThe public transport network in Amsterdam is extensive with buses\, trams\, metro’s and trains\, serving almost all areas of the city and beyond. \nBY TRAIN\nAmsterdam is well connected by rail in the Netherlands and from main European cities. \nBY PLANE\nmsterdam Schiphol Airport is very close to the city centre. Trains depart from the airport every 10 minutes and take around 15 minutes to reach Amsterdam Centraal station. \nBook FlightsAirport TransfersCar RentalsTrain/Bus Tickets\nGallery\nRelated Festivals\nDGTL Amsterdam\n3 Apr – 5 Apr | Amsterdam\, Netherlands\nFree Your Mind Festival\n6 Jun – 7 Jun | Utrecht\, Netherlands\n		\n			\n\n				\n				\n					Search for:
URL:https://europebookings.com/festival/carl-cox-presents/
LOCATION:Het Hembrugterrein\, Hemkade 18\, Zaandam\, 1506 PR\, Netherlands
CATEGORIES:Electronic,Techno
ATTACH;FMTTYPE=image/jpeg:https://europebookings.com/wp-content/uploads/secret-project-presents-carl-cox-hybrid-live.jpg
END:VEVENT
END:VCALENDAR