BEGIN:VCALENDAR
VERSION:2.0
PRODID:-//Europebookings - ECPv6.15.20//NONSGML v1.0//EN
CALSCALE:GREGORIAN
METHOD:PUBLISH
X-ORIGINAL-URL:https://europebookings.com
X-WR-CALDESC:Events for Europebookings
REFRESH-INTERVAL;VALUE=DURATION:PT1H
X-Robots-Tag:noindex
X-PUBLISHED-TTL:PT1H
BEGIN:VTIMEZONE
TZID:Asia/Nicosia
BEGIN:DAYLIGHT
TZOFFSETFROM:+0200
TZOFFSETTO:+0300
TZNAME:EEST
DTSTART:20220327T010000
END:DAYLIGHT
BEGIN:STANDARD
TZOFFSETFROM:+0300
TZOFFSETTO:+0200
TZNAME:EET
DTSTART:20221030T010000
END:STANDARD
BEGIN:DAYLIGHT
TZOFFSETFROM:+0200
TZOFFSETTO:+0300
TZNAME:EEST
DTSTART:20230326T010000
END:DAYLIGHT
BEGIN:STANDARD
TZOFFSETFROM:+0300
TZOFFSETTO:+0200
TZNAME:EET
DTSTART:20231029T010000
END:STANDARD
BEGIN:DAYLIGHT
TZOFFSETFROM:+0200
TZOFFSETTO:+0300
TZNAME:EEST
DTSTART:20240331T010000
END:DAYLIGHT
BEGIN:STANDARD
TZOFFSETFROM:+0300
TZOFFSETTO:+0200
TZNAME:EET
DTSTART:20241027T010000
END:STANDARD
END:VTIMEZONE
BEGIN:VEVENT
DTSTART;VALUE=DATE:20230902
DTEND;VALUE=DATE:20230903
DTSTAMP:20260423T130959
CREATED:20210629T132624Z
LAST-MODIFIED:20230426T132018Z
UID:44878-1693612800-1693699199@europebookings.com
SUMMARY:Elrow Town Holland
DESCRIPTION:Get TicketsAccommodationTravel Info\nElrow Town Holland is a surreal electronic music festival returning again to the Netherlands to bring its wild party. \nOn Saturday 2nd of September\, the gates will open in Geestmerambacht\, near Alkmaar for a mindblowing experience. \nThe most immersive festival series in the world\, Elrow is known for their all-out parties featuring confetti\, streamers\, costumes\, and thousands of ecstatic party animals. \n\nElrow Town Holland 2023 Lineup\nLineup to be announced soon: \n2022 Lineup\nAmedeo Picone / Bastian Bux / Benny Rodrigues / Clapton / Dan Shake / Florentia / Ida Engberg / Jamie Jones / Jeremy Underground / Joëlla Jackson / Kerri Chandler / Michel De Hey b2b Prunk / Rendher / Shermanology / Sonny Fodera / Toni Varga / Viviana Casanova / Wade \nElrow Town Holland 2023 Tickets\nGeneral Admission & VIP Tickets from €75.00 are on sale:\nTicketsElrow Town Holland\nvia Official SiteBookBuy or Sell Tickets\nElrow Town Hollandvia Ticketswap \nBookAccommodation\nThe city of Alkmaar and nearby areas offer a wide range of accommodation options. Book your stay for Elrow Town Holland using the map below or visit booking.com \nBooking.comBook Hotels & Airbnbs near the Venue at the Lowest Price online!\n\nTravel Info\nBY CAR\nGet DirectionsBY TRAIN\nThe easiest way to reach the festival is to get a train to Alkmaar station\, where there festival will be running shuttle buses to the festival site. Train run direct to Alkmaar from Amsterdam and Zaandam. \nBY SHUTTLE BUS\nShuttel buses will take you Alkmaar Station to the festival and back. You can buy your ticket online here \nBY PLANE\nAmsterdam Schiphol Airport (AMS) is the closest to the festival. Take the train from Schiphol Airport to Zaandam station. Take the train from Zaandam station to Alkmaar station (45 min journey).\nFrom Eindhoven Airport (EIN) take the bus to Station Eindhoven and from there take the train to Alkmaar station (2 hours journey). \nBook FlightsAirport TransfersCar RentalsTrain/Bus Tickets\nGallery\nRelated Festivals\nAirbeat One Festival\n8 Jul – 12 Jul | Neustadt-Glewe\, Germany\nSea You Festival\n17 Jul – 19 Jul | Freiburg\, Germany\n		\n			\n\n				\n				\n					Search for:\n													\n											\n				\n				\n					\n										\n									\n\n				\n			\n\n\n							\n			\n		\n		\nAmsterdam Travel Guide
URL:https://europebookings.com/festival/elrow-town-amsterdam/
LOCATION:Geestmerambacht\, Wagenweg 16\, Oudkarspel\, 1724 PT\, Netherlands
CATEGORIES:Electronic,House
ATTACH;FMTTYPE=image/jpeg:https://europebookings.com/wp-content/uploads/elrow-town-amsterdam-festival-night-stage.jpg
END:VEVENT
BEGIN:VEVENT
DTSTART;VALUE=DATE:20230916
DTEND;VALUE=DATE:20230917
DTSTAMP:20260423T130959
CREATED:20200303T220621Z
LAST-MODIFIED:20230921T144851Z
UID:34047-1694822400-1694908799@europebookings.com
SUMMARY:TIKTAK Festival
DESCRIPTION:Get TicketsAccommodationTravel Info\nTIKTAK Festival is dance music and hip hop festival in Rotterdam\, put on by one of the most prolific promoters in the country. \nLast edition was sold out and thousands of TIKTAKKERs went wild. Nobody has forgotten the fireworks show\, the smashing end show of Ronnie Flex and the afterparty. \nTIKTAK Festival put on events throughout the year with their unique mix of urban and electronic sounds\, so expect the most popular eclectic artists\, expect the best peripheral programming and expect the most beautiful party people in the Netherlands! \nWith a focus on national talent\, TIKTAK Festival is going down at the centrally located Lloyd Multiplein\, overlooking the Nieuwe Maas. \n\nTIKTAK Festival 2023 Lineup\nAll Artists\nTIKTAK\nSFB / Jonna Fraser / Bilal Wahib / Poke / Cristian D / $hirak / Trobi / Afro Bros / Johnny 500 / Jack / Jacin Trill / DJ Dylvn / WEF / Miguell Kaidel \nPAPI CHULO\nIr Sais / Mimi / Jorda / Karyo / Elin Valery / Lapendo / Q-Bah MCTIKTAK Festival 2023 Tickets\nRegular Tickets from €40.50 are on sale:\nTicketsTIKTAK Music Festival\nvia Official SiteBookAccommodation\nThe city of Amsterdam offers a wide range of accommodation options. Book your stay for TIKTAK Festival using the map below or visit booking.com \nBooking.comBook Hotels & Airbnbs near the Venue at the Lowest Price online!\n\nTravel Info\nBY CAR\nGet DirectionsBY TRAIN\nRotterdam Centraal Station is accessible from most European cities. Upon arrival take the 8 tram to Oostkousdijk (15 min journey). The festival site is a 5 minute walk southwest from the tram stop. \nBY PLANE\nThe nearest airport is Rotterdam The Hague Airport (RTM). Upon arrival take the 33 bus to Rotterdam Centraal Station (20 min journey). Here get on the 8 tram to Oostkousdijk (15 min journey). The festival site is a 5 minute walk southwest from the tram stop. \nBook FlightsAirport TransfersCar RentalsTrain/Bus Tickets\nGallery\nRelated Festivals\nAirbeat One Festival\n8 Jul – 12 Jul | Neustadt-Glewe\, Germany\nSea You Festival\n17 Jul – 19 Jul | Freiburg\, Germany\n		\n			\n\n				\n				\n					Search for:
URL:https://europebookings.com/festival/tiktak-music-festival/
LOCATION:Lloyd Multiplein\, Lloyd Multiplein\, Rotterdam\, Netherlands
CATEGORIES:Electronic,House,Urban
ATTACH;FMTTYPE=image/jpeg:https://europebookings.com/wp-content/uploads/tiktak-music-festival-stage-fire-show.jpg
END:VEVENT
END:VCALENDAR