BEGIN:VCALENDAR
VERSION:2.0
PRODID:-//Europebookings - ECPv6.15.20//NONSGML v1.0//EN
CALSCALE:GREGORIAN
METHOD:PUBLISH
X-ORIGINAL-URL:https://europebookings.com
X-WR-CALDESC:Events for Europebookings
REFRESH-INTERVAL;VALUE=DURATION:PT1H
X-Robots-Tag:noindex
X-PUBLISHED-TTL:PT1H
BEGIN:VTIMEZONE
TZID:Asia/Nicosia
BEGIN:DAYLIGHT
TZOFFSETFROM:+0200
TZOFFSETTO:+0300
TZNAME:EEST
DTSTART:20230326T010000
END:DAYLIGHT
BEGIN:STANDARD
TZOFFSETFROM:+0300
TZOFFSETTO:+0200
TZNAME:EET
DTSTART:20231029T010000
END:STANDARD
BEGIN:DAYLIGHT
TZOFFSETFROM:+0200
TZOFFSETTO:+0300
TZNAME:EEST
DTSTART:20240331T010000
END:DAYLIGHT
BEGIN:STANDARD
TZOFFSETFROM:+0300
TZOFFSETTO:+0200
TZNAME:EET
DTSTART:20241027T010000
END:STANDARD
BEGIN:DAYLIGHT
TZOFFSETFROM:+0200
TZOFFSETTO:+0300
TZNAME:EEST
DTSTART:20250330T010000
END:DAYLIGHT
BEGIN:STANDARD
TZOFFSETFROM:+0300
TZOFFSETTO:+0200
TZNAME:EET
DTSTART:20251026T010000
END:STANDARD
END:VTIMEZONE
BEGIN:VEVENT
DTSTART;VALUE=DATE:20241231
DTEND;VALUE=DATE:20250101
DTSTAMP:20260421T144741
CREATED:20230921T160024Z
LAST-MODIFIED:20241101T123608Z
UID:74042-1735603200-1735689599@europebookings.com
SUMMARY:TIKTAK NYE Rotterdam
DESCRIPTION:Get TicketsAccommodationTravel Info\nTikTak NYE Rotterdam 2024: A Spectacular New Year’s Eve Celebration \nRing in the New Year in style at TikTak NYE Rotterdam 2024\, one of the Netherlands’ biggest New Year’s Eve parties\, hosted at the iconic Maassilo. Known for its electrifying energy and all-star lineup\, this annual event transforms Rotterdam’s industrial venue into the ultimate end-of-year celebration. Expect a mix of the hottest urban\, hip-hop\, house\, and eclectic beats as top DJs take over the stage for an unforgettable night. \nIn 2024\, TikTak NYE will once again deliver an epic lineup\, featuring a blend of local heroes and international stars. Previous editions have hosted incredible performances from artists like Lil Kleine\, Ronnie Flex\, and Kris Kross Amsterdam. This year promises to raise the bar even higher\, offering multiple stages and a vibrant party atmosphere that will keep you dancing into the early hours of 2025. \nThe Maassilo\, with its raw industrial vibe and stunning visuals\, creates the perfect backdrop for this massive celebration. Whether you’re a fan of hard-hitting beats or chilled-out vibes\, TikTak NYE Rotterdam caters to every taste. With thousands of party-goers coming together to celebrate\, this is the place to be when the clock strikes midnight. Don’t miss out on one of Rotterdam’s most iconic New Year’s Eve events! \n\nTIKTAK NYE Rotterdam 2024 Lineup\nAll Artists & Stages\nMain Stage\nADF Samski / Afro Bros / Bizzey / CHO / Dolore / Idaly / Jonna Fraser / Kevin / La Bunga / Poke / Trobi \nMain 2\nKaya Imani / Kingdom Sound / Miguell Kaidel / NEMS / Yssi SB \nAfro 2 The World\nDJ Dior / BLVCK Nola / Criss / Rose Lea / Rudy Lima / MC LeyTIKTAK NYE Rotterdam 2024 Tickets\nTickets from €48.00 are on sale\nTickets\nTIKTAK Kingsnight Rotterdamvia Official Site \nBookAccommodation\nThe city of Rotterdam offers a wide range of accommodation options. Book your stay using the map below or visit booking.com \nBook Hotels & Airbnbs near the Venue at the Lowest Price online!\n\nTravel Info\nBY CAR\nGet DirectionsBY PUBLIC TRANSPORT\n\nMetro: Maassilo is accessible via Metro Line D and Metro Line E. The nearest metro station is “Maashaven”. Once you exit the metro station\, it’s a short walk to the venue.\nBus: You can also take Bus numbers 44\, 77\, or 84. Alight at the Maashaven bus stop\, which is in close proximity to Maassilo.\n\nBY TRAIN\n\nFrom Rotterdam Centraal: Take Metro Line D or Metro Line E to Maashaven station. From there\, Maassilo is within walking distance.\nFrom Amsterdam Centraal: Take the Intercity Direct train towards Breda and alight at Rotterdam Centraal. From Rotterdam Centraal\, follow the directions mentioned above.\n\nBY PLANE\n\nFrom Rotterdam The Hague Airport (RTM): Take Bus 33 to Rotterdam Centraal. From there\, take Metro Line D or Metro Line E to Maashaven station.\nFrom Amsterdam Schiphol Airport (AMS): Board the Intercity Direct train towards Breda or the Intercity train towards Vlissingen. Alight at Rotterdam Centraal. From there\, take Metro Line D or Metro Line E to Maashaven station.\n\nBook FlightsAirport TransfersCar RentalsTrain/Bus Tickets\nGallery\nRelated Festivals\nHeroes Festival\n20 Jun – 21 Jun | Geiselwind\, Germany\nMarsatac Festival\n13 Jun – 15 Jun | Marseille\, France\n		\n			\n\n				\n				\n					Search for:
URL:https://europebookings.com/festival/tiktak-nye-rotterdam/
LOCATION:Maassilo\, Maassilo\, Maashaven Zuidzijde 1-2\, Rotterdam\, 3081 AE\, Netherlands
CATEGORIES:Electronic,Hip Hop,House,NewYearsEve,Pop
ATTACH;FMTTYPE=image/jpeg:https://europebookings.com/wp-content/uploads/tiktak-nye-rotterdam-stage-lights-show-confetti.jpg
END:VEVENT
END:VCALENDAR