BEGIN:VCALENDAR
VERSION:2.0
PRODID:-//Europebookings - ECPv6.15.20//NONSGML v1.0//EN
CALSCALE:GREGORIAN
METHOD:PUBLISH
X-WR-CALNAME:Europebookings
X-ORIGINAL-URL:https://europebookings.com
X-WR-CALDESC:Events for Europebookings
REFRESH-INTERVAL;VALUE=DURATION:PT1H
X-Robots-Tag:noindex
X-PUBLISHED-TTL:PT1H
BEGIN:VTIMEZONE
TZID:Asia/Nicosia
BEGIN:DAYLIGHT
TZOFFSETFROM:+0200
TZOFFSETTO:+0300
TZNAME:EEST
DTSTART:20240331T010000
END:DAYLIGHT
BEGIN:STANDARD
TZOFFSETFROM:+0300
TZOFFSETTO:+0200
TZNAME:EET
DTSTART:20241027T010000
END:STANDARD
BEGIN:DAYLIGHT
TZOFFSETFROM:+0200
TZOFFSETTO:+0300
TZNAME:EEST
DTSTART:20250330T010000
END:DAYLIGHT
BEGIN:STANDARD
TZOFFSETFROM:+0300
TZOFFSETTO:+0200
TZNAME:EET
DTSTART:20251026T010000
END:STANDARD
BEGIN:DAYLIGHT
TZOFFSETFROM:+0200
TZOFFSETTO:+0300
TZNAME:EEST
DTSTART:20260329T010000
END:DAYLIGHT
BEGIN:STANDARD
TZOFFSETFROM:+0300
TZOFFSETTO:+0200
TZNAME:EET
DTSTART:20261025T010000
END:STANDARD
END:VTIMEZONE
BEGIN:VEVENT
DTSTART;VALUE=DATE:20250411
DTEND;VALUE=DATE:20250414
DTSTAMP:20260421T091050
CREATED:20191003T185721Z
LAST-MODIFIED:20241209T000318Z
UID:24722-1744329600-1744588799@europebookings.com
SUMMARY:REBiRTH Festival
DESCRIPTION:Get TicketsAccommodationTravel Info\nREBiRTH Festival 2025 promises an unforgettable weekend from April 11th to 13th in Haaren\, Netherlands. As the premier kick-off event of the festival season\, REBiRTH offers three days of high-energy entertainment featuring over 200 of the best harder styles artists across 18 stages. \nThis year’s lineup includes top acts like Gunz for Hire\, D-Sturb\, Phuture Noize\, and Rebelion\, ensuring a non-stop musical journey that will keep you dancing from start to finish. From the mainstage to the raw stages\, each area delivers an extraordinary experience for fans of hardstyle\, rawstyle\, and hardcore. \nREBiRTH Festival is more than just music; it’s an immersive experience that brings together a passionate community of ravers from around the globe. The REBiRTH Residence Campsite offers a unique and communal atmosphere\, providing the perfect home for dedicated weekend warriors. \nCelebrate the start of the festival season with thrilling performances\, stunning stage productions\, and the vibrant energy that only REBiRTH can offer. Secure your tickets now and be part of the ultimate harder styles festival in the Netherlands. \n\nRebirth Festival 2025 Lineup\nAll ArtistsAdaro vs. B-Front / Adjuzt vs. B-Front / Adjuzt vs. Sickmode / Aversion / Bloodlust / Coldax vs. Element vs. Omnya / Cyber & Jay Reeve / D-Block & S-te-Fan / D-Sturb / Deezl AEON / Devin Wild vs. Phuture Noize / Dual Damage / Ecstatic / Galactixx / Gunz For Hire / Hard Driver vs. Ran-D / High Power / Manifest Destiny vs. Unresolved / Melo-3 / Mish / Noisecult / Partyraiser vs. Spitnoise / Phuture Noize / Primeshock / Radical Redemption / Ran-D / Rebelion / Rebelion Global / Rebelion vs. Vertile / Regain vs. Rejecta vs. Unresolved / Rejecta / Rooler / Sickmode / Solstice / Sound Rush / The Straikerz / Unresolved / Vertile / Warface / Winner Road To REBiRTH / Zelecter / and many moreRebirth Festival 2025 Tickets\n1-Day\, 2-Day & Full Weekend Tickets from €39.95 are on sale:\nTicketsRebirth Festival\nvia Official SiteBookAccommodation\nCamping during the festival requires a Camping Ticket purchased here. All you need is basic camping gear\, like a tent\, a camping pad and a head torch (so useful in the night). If you don’t like setting up a tent the festival offers Pre-pitched Tents with extra comfort purchased here \nAlternatively\, you can book nearby hotels and apartments using the map below or visit booking.com \nBook Hotels & Airbnbs near the Venue at the Lowest Price online!\n\nTravel Info\nBY CAR\nDay (€18.00) & Weekend (€30.50) Parking tickets can be purchased here \nGet DirectionsFESTIVAL SHUTTLE BUSES\nShuttle busses operate according to a continuous schedule from Oisterwijk railway station. The shuttle runs on Friday\, Saturday\, Sunday and Monday. Tickets at €15.50 can be purchased here \nBY TRAIN\nFrom Amsterdam Centraal Station take the train to Boxtel (1h 10 min journey) and then take the train to Oisterwijk (6 min journey). You can then take the Festival Shuttle bus or a taxi to the Venue (10 min journey). \nBY PLANE\nThe nearest airport Amsterdam Schiphol Airport (AMS). You can take the train from Schiphol Airport to Breda (52 min journey)\, then take the train from Breda to Tilburg (13 min journey) and lastly take the train from Tilburg to Oisterwijk Station. From Oisterwijk Station take the festival shuttle bus or a taxi to the festival (10 min journey). \nBook FlightsAirport TransfersCar RentalsTrain/Bus Tickets\nGallery\nRelated Festivals\nEmporium Festival\n24 May | Wijchen\, Netherlands\nIntents Festival\n30 May – 1 Jun | Oisterwijk\, Netherlands\n		\n			\n\n				\n				\n					Search for:
URL:https://europebookings.com/festival/rebirth-festival/
LOCATION:Raamse Akkers\, Raamse Akkers\, Haaren\, Netherlands
CATEGORIES:Hardcore,Hardstyle
ATTACH;FMTTYPE=image/jpeg:https://europebookings.com/wp-content/uploads/rebirth-festival-stage-fire-show.jpg
END:VEVENT
BEGIN:VEVENT
DTSTART;VALUE=DATE:20250412
DTEND;VALUE=DATE:20250413
DTSTAMP:20260421T091050
CREATED:20230825T093909Z
LAST-MODIFIED:20250207T131431Z
UID:71861-1744416000-1744502399@europebookings.com
SUMMARY:Transmission Netherlands
DESCRIPTION:Get TicketsAccommodationTravel Info\nTransmission Festival Netherlands 2025 is set to take place on April 12 at the iconic GelreDome in Arnhem. This event promises a night filled with the finest trance music\, captivating visual effects\, and an atmosphere that brings together trance enthusiasts from around the world. \nKnown for its high-energy performances and immersive experience\, Transmission Festival is celebrated for its cutting-edge production and unparalleled stage designs. The 2025 lineup features an impressive array of top-tier trance artists\, ensuring a dynamic and unforgettable musical journey. \nThis festival stands out for its unique combination of music and visual storytelling\, transforming the venue into a trance haven. Attendees can expect a meticulously curated experience that highlights the very best of the trance music scene\, making it a must-visit for any electronic music aficionado. \nWith its stellar lineup and commitment to providing an extraordinary festival experience\, Transmission Festival Netherlands 2025 is set to be a landmark event in the European festival calendar. \n\nTransmission Netherlands 2025 Lineup\nAll ArtistsCosmic Gate / Daxson / Digital Culture / Driftmoon / Gouryella / Markus Schulz / Paul Van DykTransmission Netherlands 2025 Tickets\nRegular & VIP Tickets from €84.00 are on sale:\nTickets\nTransmission Netherlandsvia Official Site \nBookAccommodation\nThe city of Arnhem offers a wide range of accommodation options. Book your stay for Transmission Netherlands using the map below or visit booking.com \nBook Hotels & Airbnbs near the Venue at the Lowest Price online!\n\nTravel Info\nBY CAR\nDirectionsBY TRAIN\nArnhem is well connected by rail in the Netherlands and major European cities. From Arnhem Central Station take local buses that run between the4 station and GelreDome. \nBY PLANE\nAmsterdam Airport Schiphol (AMS) is the closest to the venue. There are direct Intercity trains from Schiphol to Arnhem Central Station. This journey takes approximately 1 hour and 15 minutes. Once you reach Arnhem Central Station\, you can take a local bus or taxi to GelreDome\, which is approximately 3-4 km away. \nBook FlightsAirport TransfersCar RentalsTrain/Bus Tickets\nGallery\nRelated Festivals\nKappa Futur Festival\n4 Jul – 6 Jul | Turin\, Italy\nUltra Europe Festival\n11 Jul – 13 Jul | Split\, Croatia\n		\n			\n\n				\n				\n					Search for:
URL:https://europebookings.com/festival/transmission-netherlands/
LOCATION:GelreDome\, Batavierenweg 25\, Arnhem\, 6841 HN\, Netherlands
CATEGORIES:Electronic,Trance
ATTACH;FMTTYPE=image/jpeg:https://europebookings.com/wp-content/uploads/transmission-netherlands-laser-show.jpg
END:VEVENT
BEGIN:VEVENT
DTSTART;VALUE=DATE:20250425
DTEND;VALUE=DATE:20250426
DTSTAMP:20260421T091050
CREATED:20220124T114943Z
LAST-MODIFIED:20250207T133238Z
UID:52235-1745539200-1745625599@europebookings.com
SUMMARY:TIKTAK Kingsnight Rotterdam
DESCRIPTION:Get TicketsAccommodationTravel Info\nTIKTAK Kingsday 2025: The Ultimate Party in Rotterdam \nGet ready to celebrate Kingsday 2025 in style as TIKTAK brings its signature high-energy vibes to Rotterdam on 25th April 2025. Known for its unbeatable mix of urban\, house\, hip-hop\, and eclectic beats\, TIKTAK promises an unforgettable party that will have you dancing from start to finish. \nThe lineup this year is absolutely stacked\, featuring some of the biggest names in Dutch music. Superstar Ronnie Flex will take the stage with his infectious energy and chart-topping hits\, alongside the smooth sounds of Jonna Fraser and the inimitable presence of Lil Kleine\, who always brings the crowd to life. Adding to the stellar line-up\, Idaly and Bokoesam will deliver their signature flows\, ensuring the urban vibes are on point. \nFor those craving electrifying DJ sets\, Irwan will bring his genre-defying mixes\, while Four Soundsystem guarantees bass-heavy energy to keep the party going. The festival also features rising stars Miguell Kaidel and an unforgettable b2b performance by Demi Maria and SHE\, blending dynamic beats with infectious rhythms for a dancefloor-ready experience. \nSet against the vibrant backdrop of Rotterdam\, TIKTAK Kingsday is more than just a music festival—it’s a full-on celebration of Dutch pride\, community\, and unforgettable music. With electrifying performances and a crowd buzzing with Kingsday excitement\, this is the place to be for anyone looking to party like royalty. \n\nTIKTAK Kingsnight Rotterdam 2025 Lineup\nAll ArtistsBokoesam / Demi Maria b2b SHE / Four Soundsystem / Idaly / Irwan / Jonna Fraser / Lil Kleine / Miguell Kaidel / Ronnie FlexTIKTAK Kingsnight Rotterdam 2025 Tickets\nTickets from €29.50 are on sale:\nTicketsTIKTAK Kingsnight Rotterdam\nvia Official SiteBookAccommodation\nThe city of Rotterdam offers a wide range of accommodation options. Book your stay using the map below or visit booking.com \nBook Hotels & Airbnbs near the Venue at the Lowest Price online!\n\nTravel Info\nBY CAR\nGet DirectionsBY PUBLIC TRANSPORT\n\nMetro: Maassilo is accessible via Metro Line D and Metro Line E. The nearest metro station is “Maashaven”. Once you exit the metro station\, it’s a short walk to the venue.\nBus: You can also take Bus numbers 44\, 77\, or 84. Alight at the Maashaven bus stop\, which is in close proximity to Maassilo.\n\nBY TRAIN\n\nFrom Rotterdam Centraal: Take Metro Line D or Metro Line E to Maashaven station. From there\, Maassilo is within walking distance.\nFrom Amsterdam Centraal: Take the Intercity Direct train towards Breda and alight at Rotterdam Centraal. From Rotterdam Centraal\, follow the directions mentioned above.\n\nBY PLANE\n\nFrom Rotterdam The Hague Airport (RTM): Take Bus 33 to Rotterdam Centraal. From there\, take Metro Line D or Metro Line E to Maashaven station.\nFrom Amsterdam Schiphol Airport (AMS): Board the Intercity Direct train towards Breda or the Intercity train towards Vlissingen. Alight at Rotterdam Centraal. From there\, take Metro Line D or Metro Line E to Maashaven station.\n\nBook FlightsAirport TransfersCar RentalsTrain/Bus Tickets\nGallery\nRelated Festivals\nHeroes Festival\n20 Jun – 21 Jun | Geiselwind\, Germany\nMarsatac Festival\n13 Jun – 15 Jun | Marseille\, France\n		\n			\n\n				\n				\n					Search for:
URL:https://europebookings.com/festival/tiktak-kingsnight-rotterdam/
LOCATION:Maassilo\, Maassilo\, Maashaven Zuidzijde 1-2\, Rotterdam\, 3081 AE\, Netherlands
CATEGORIES:Electronic,Hip Hop,House,Pop
ATTACH;FMTTYPE=image/jpeg:https://europebookings.com/wp-content/uploads/tiktak-kingsnight-rotterdam-stage-fireworks.jpg
END:VEVENT
BEGIN:VEVENT
DTSTART;VALUE=DATE:20250426
DTEND;VALUE=DATE:20250427
DTSTAMP:20260421T091050
CREATED:20190902T195503Z
LAST-MODIFIED:20250207T113950Z
UID:23037-1745625600-1745711999@europebookings.com
SUMMARY:Kingsland Festival Amsterdam
DESCRIPTION:Get TicketsAccommodationTravel Info\nKingsland Festival Amsterdam 2025: The Ultimate King’s Day Celebration \nOn 26th April 2025\, join thousands of revelers at the Kingsland Festival in Amsterdam—one of the largest one-day dance events in the Netherlands. Held at the iconic RAI Amsterdam\, this electrifying festival transforms the city into a pulsating hub of music\, energy\, and celebration\, all in honour of King Willem-Alexander’s birthday. \nExpect an incredible lineup featuring top-tier DJs and live acts that promise to keep you dancing from noon until late evening. With multiple stages\, including the main stage headlined by global sensations like Martin Garrix and Sunnery James & Ryan Marciano\, and specialised stages for hardstyle\, house\, and hip-hop\, there’s something for every music lover. The festival is not just about the beats—it’s a full-on cultural experience\, drenched in Dutch pride and the vibrant colour of orange. Don’t miss the chance to be part of this unforgettable celebration! \nWhether you’re a local or a visitor\, Kingsland Festival is the place to be for King’s Day 2025. \n\nKingsland Festival Amsterdam 2025 Lineup\nAll ArtistsBankzitters / Benny Rodrigues b2b De Sluwe Vos / Bilal Wahib / Bizzey / Bokoesam / Cloonee / CRUSH3d / Daelorian b2b DUIV / Deion Dwight / Diffrent / Dolore / DJ Dylvn / Emilija / Idaly / Indigo b2b Shaeef / Jonna Fraser / JUWLS / Kolter b2b Marsolo / Kris Kross Amsterdam / Kyle Starkey b2b Rozie / LAMMER / La Fuente / Lil Kleine / Milolaathetlukken / Monica Geuze / Mr Belt & Wezol / NOA / Poke / Prunk b2b Luuk van Dijk / Ronnie Flex / Roxy Dekker / Russo / SAIDAH / Sam Hofman / Samuel Deep b2b Julian Anthony / Surf 2 Glory / Trobi / Turfy Gang / Vin Postega b2b Charles Moody / Yves Berendse / Zoë TauranKingsland Festival Amsterdam 2025 Tickets\nTickets from €54.50 are on sale:\nTickets\nKingsland Festival Amsterdam\nvia Official Site \nBookAccommodation\nThe city of Amsterdam offers a wide range of accommodation options. Book your stay for kingsland Festival Amsterdam using the map below or visit booking.com \nBook Hotels & Airbnbs near the Venue at the Lowest Price online!\n\nTravel Info\nBY CAR\nGet DirectionsBY TRAIN\nAmsterdam Centraal Station is accessible from most European cities but may require a transfer along the way. Upon arrival take the 51\, 53 or 54 metro line to Amstelstation (6 minutes). Here get on the 65 bus to Scheldeplein (8 minutes). The venue is immediately to the west from the bus stop. \nBY PLANE\nThe nearest airport is Amsterdam Airport Schiphol (AMS). Upon arrival take the train to Amsterdam RAI (9 minutes). The venue is a 10 minute walk from the station. \nBook FlightsAirport TransfersCar RentalsTrain/Bus Tickets\nGallery\nRelated Festivals\nKingsland Festival Groningen\n26 Apr | Groningen\, Netherlands\n Loveland Van Oranje \n26 Apr | Amsterdam\, Netherlands\n		\n			\n\n				\n				\n					Search for:\n													\n											\n				\n				\n					\n										\n									\n\n				\n			\n\n\n							\n			\n		\n		Amsterdam Travel Guide
URL:https://europebookings.com/festival/kingsland-festival-amsterdam/
LOCATION:RAI Amsterdam\, RAI Amsterdam\, Europaplein 22\, Amsterdam\, 1078 GZ\, Netherlands
CATEGORIES:EDM,Electronic,House,Techno
ATTACH;FMTTYPE=image/jpeg:https://europebookings.com/wp-content/uploads/kingsland-festival-amsterdam-stage-fireworks.jpg
END:VEVENT
BEGIN:VEVENT
DTSTART;VALUE=DATE:20250426
DTEND;VALUE=DATE:20250427
DTSTAMP:20260421T091050
CREATED:20200212T123230Z
LAST-MODIFIED:20250207T114252Z
UID:32713-1745625600-1745711999@europebookings.com
SUMMARY:Kingsland Festival Groningen
DESCRIPTION:Get TicketsAccommodationTravel Info\nKingsland Festival Groningen 2025: The Ultimate Kickoff to King’s Day \nGet ready for an extraordinary start to King’s Day on 26th April 2025\, as Kingsland Festival returns to Groningen\, transforming the vibrant Stadspark into a haven for music lovers. Known for its electrifying atmosphere\, this event sets the stage for a high-energy celebration that pulses with the beat of the best Dutch and international dance music. \nKingsland Groningen offers a dynamic blend of performances across multiple stages. The main stage is set to explode with live acts\, including the sensational Maan and Rolf Sanchez\, bringing an infectious energy to the crowd. Meanwhile\, the ANTS stage will take you on a journey through cutting-edge house music\, featuring top talents like Joris Voorn and Ukrainian sensation ARTBAT. For those who crave harder beats\, the Kings Hard stage delivers with artists like Brennan Heart\, ensuring an adrenaline-packed experience. \nImmerse yourself in the festive spirit\, surrounded by a sea of orange\, as you dance through the night. Kingsland Festival Groningen isn’t just a prelude to King’s Day—it’s a vibrant\, must-attend celebration that sets the tone for the festivities ahead. \n\nKingsland Festival Groningen 2025 Lineup\nAll ArtistsAAT / Bankzitters / Benny Rodrigues / Berkan V8 / Bilal Wahib / Bizzey / Bokoesam / Brennan Heart / Broederliefde / Chicks Luv Us / Cloonee / CRUSH3d / David Penn / Diffrent / DJ Dylvn / Ella Noar / ESSY / Goldband / Idaly / Karim Soliman / Kleine John & Chavante / Kris Kross Amsterdam / La Fuente / La June / Lil Kleine / MC Roga / Mensa / Monica Geuze / Mr Belt & Wezol / Mula B / Nachtdienst / Olivia Lensen / Philou Louzolo / Poke / Ronnie Flex / Roxy Dekker / Russo / Sam Hofman / Spacerwoman / STUK / Surf 2 Glory / Thyrza / Trobi / Turfy Gang / Yves Berendse / Zoë TauranKingsland Festival Groningen 2025 Tickets\nTickets from €44.50 are on sale:\nTickets\nKingsland Festival Groningenvia Official Site \nBookAccommodation\nThe city of Groningen offers a wide range of accommodation options. Book your stay for Kingsland Festival Rotterdam using the map below or visit booking.com \nBook Hotels & Airbnbs near the Venue at the Lowest Price online!\n\nTravel Info\nBY CAR\nGet DirectionsBY TRAIN\nGroningen is easily accessible by rail from the rest of the Netherlands and neighboring Europe\, however many services will require a change. \nBY BUS\nBus numbers 3 and 4 will take you to Groningen\, Bedrijven Peizerweg\, which is just on the edge of the park. It is just a 12 minute walk from there to the festival site. Alternatively\, you could get a taxi which will take less than 10 minutes and will cost around €20. \nBY PLANE\nIf you are unable to fly into Groningen\, then we recommend flying into Amsterdam Schiphol (AMS)\, where you can catch a train directly onto Groningen. Groningen Airport is just a 40 minute bus (2\, 402) or a 15 minute taxi ride from the city centre. \nBook FlightsAirport TransfersCar RentalsTrain/Bus Tickets\nGallery\nRelated Festivals\nKingsland Festival Amsterdam\n26 Apr | Amsterdam\, Netherlands\n Loveland Van Oranje \n26 Apr | Amsterdam\, Netherlands\n		\n			\n\n				\n				\n					Search for:
URL:https://europebookings.com/festival/kingsland-festival-groningen/
LOCATION:Stadspark Draftbaan\, Stadspark Draftbaan\, Concourslaan 10\, Groningen\, 9727 KD\, Netherlands
CATEGORIES:EDM,Electronic
ATTACH;FMTTYPE=image/jpeg:https://europebookings.com/wp-content/uploads/kingsland-festival-groningen-fireworks.jpg
END:VEVENT
END:VCALENDAR