BEGIN:VCALENDAR
VERSION:2.0
PRODID:-//Europebookings - ECPv6.15.20//NONSGML v1.0//EN
CALSCALE:GREGORIAN
METHOD:PUBLISH
X-WR-CALNAME:Europebookings
X-ORIGINAL-URL:https://europebookings.com
X-WR-CALDESC:Events for Europebookings
REFRESH-INTERVAL;VALUE=DURATION:PT1H
X-Robots-Tag:noindex
X-PUBLISHED-TTL:PT1H
BEGIN:VTIMEZONE
TZID:Asia/Nicosia
BEGIN:DAYLIGHT
TZOFFSETFROM:+0200
TZOFFSETTO:+0300
TZNAME:EEST
DTSTART:20250330T010000
END:DAYLIGHT
BEGIN:STANDARD
TZOFFSETFROM:+0300
TZOFFSETTO:+0200
TZNAME:EET
DTSTART:20251026T010000
END:STANDARD
BEGIN:DAYLIGHT
TZOFFSETFROM:+0200
TZOFFSETTO:+0300
TZNAME:EEST
DTSTART:20260329T010000
END:DAYLIGHT
BEGIN:STANDARD
TZOFFSETFROM:+0300
TZOFFSETTO:+0200
TZNAME:EET
DTSTART:20261025T010000
END:STANDARD
BEGIN:DAYLIGHT
TZOFFSETFROM:+0200
TZOFFSETTO:+0300
TZNAME:EEST
DTSTART:20270328T010000
END:DAYLIGHT
BEGIN:STANDARD
TZOFFSETFROM:+0300
TZOFFSETTO:+0200
TZNAME:EET
DTSTART:20271031T010000
END:STANDARD
END:VTIMEZONE
BEGIN:VEVENT
DTSTART;VALUE=DATE:20260808
DTEND;VALUE=DATE:20260809
DTSTAMP:20260420T191748
CREATED:20191108T190725Z
LAST-MODIFIED:20251215T193258Z
UID:26610-1786147200-1786233599@europebookings.com
SUMMARY:Dance Valley Festival
DESCRIPTION:Get TicketsAccommodationTravel Info\n Dance Valley Festival 2026 returns to the iconic Spaarnwoude recreation area in the Netherlands\, once again transforming its rolling hills into one of Europe’s most legendary open-air electronic music playgrounds. Known worldwide as the “Mother of all Dance Festivals”\, Dance Valley continues to unite generations of dance music lovers in a single-day journey through sound\, style and atmosphere\, set within one of the most unique natural festival locations in Europe. \nFirst launched in 1995\, Dance Valley played a defining role in shaping the European electronic music scene long before mega-festivals became the norm. Its pioneering multi-stage concept introduced fans to a wide spectrum of genres\, from trance and techno to house and harder styles\, all coexisting across hills\, forests and open fields. Over three decades later\, the festival remains a cultural landmark\, respected for its legacy while constantly evolving with modern production and contemporary artists. \nThe first wave of artists announced for Dance Valley Festival 2026 already signals a powerful and diverse edition. Global superstar Calvin Harris leads the charge with a rare festival appearance\, bringing his unmistakable blend of euphoric anthems and mainstage energy to Spaarnwoude. He is joined by Dutch icon Hardwell\, whose explosive sound and emotional builds have defined festival mainstages for over a decade. Trance royalty Ferry Corsten adds timeless melodic depth\, while the formidable duo Charly Lownoise & Mental Theo deliver classic rave energy rooted in Dance Valley’s early history. Rising talent Konstantin Sibold and the driving techno sound of Outsiders further showcase the festival’s commitment to variety and forward momentum. \nBeyond the headliners\, the lineup expands with influential names across the electronic spectrum\, including Markus Schulz\, Quintino\, Gregor Salto\, Radical Redemption\, Yoji Biomehanika\, Tom Harding\, Darkraver\, Driftmoon\, Chuckie\, and JP\, ensuring that every stage delivers its own distinct identity. From euphoric trance journeys to hard-hitting rave and festival-ready house\, Dance Valley 2026 promises a true cross-section of global dance culture. \nThe Spaarnwoude setting remains central to the experience\, offering panoramic views\, grassy slopes and natural amphitheatres that enhance both daytime dancing and sunset moments. Carefully designed stages\, powerful sound systems and immersive visuals allow each genre to shine while giving visitors the freedom to move between musical worlds throughout the day. \nWith its close proximity to Amsterdam and Haarlem\, Dance Valley is easily accessible via public transport and shuttle services\, making it an ideal destination for both international travellers and local fans. Food courts\, chill-out zones and efficient bar setups ensure comfort without distracting from the music-first ethos. \nDance Valley Festival 2026 stands as a celebration of past\, present and future\, where legendary names and new generations meet on the same dancefloor. With a strong first lineup announcement and more artists still to come\, the festival is once again shaping up to be a defining moment in the European summer festival calendar. \n\nDance Valley 2026 Lineup\nAll ArtistsCalvin Harris / Charly Lownoise & Mental Theo / Chuckie / Darkraver / Driftmoon / Ferry Corsten / Ginia / Gregor Salto / Hardwell / JP / Konstantin Sibold / Markus Schulz / MC Marxman / Outsiders / Quintino / Radical Redemption / Tom Harding / Yoji BiomehanikaDance Valley 2026 Tickets\nTicketsDance Valley Festival\nOfficial SiteBookAccommodation\nThe city of Spaarnwoude offers a wide range of accommodation options. Book your stay using the interactive map below or visit booking.com \nBook Hotels & Airbnbs near the Venue at the Lowest Price online!\n\nTravel Info\nBY CAR\nParking Tickets can be purchased here \nGet DirectionsBY TRAIN\nIf you are traveling by public transport take the train to Amsterdam Sloterdijk railway station. From here shuttle buses depart to the festival grounds. The shuttle buses are located at the main entrance of the station. \nBY SHUTTLE BUS\nShuttle buses will drive from Amsterdam Sloterdijk railway station to the festival site. \nBY TAXI\nThere is a special taxi stand at Dance Valley Festival. This stand is clearly indicated through signing and is easily accessible for both the event visitor and the taxi driver. Do not arrange any other taxi pick-up location. Taxi’s will not be allowed to pass. \nBY BICYCLE\nIf you come to Dance Valley by bicycle or scooter\, you can use the designated bicycle parking. The bicycle parking is free of charge\, but not monitored or guarded. It is located near the entrance of Dance Valley Festival and is indicated through signing. Bikes parked outside this designated area or placed on emergency routes will be removed\, if necessary. \nBY PLANE\nInternational travellers can fly into Amsterdam Schiphol Airport (AMS). From the airport take the train to Amsterdam Sloterdijk (10 min journey) and then take the festival’s Shuttle Bus to the festival site. \nBook FlightsAirport TransfersCar RentalsTrain/Bus Tickets\nGallery\nRelated Festivals\nParklife Festival\n13 – 15 Jun | Manchester\, UK\nIsle of Wight Festival\n19 Jun – 22 Jun | Newport\, UK\n		\n			\n\n				\n				\n					Search for:\n													\n											\n				\n				\n					\n										\n									\n\n				\n			\n\n\n							\n			\n		\n		\nAmsterdam Travel Guide
URL:https://europebookings.com/festival/dance-valley-festival/
LOCATION:Velsen Valley\, Velsen Valley\, Spaarnwoude\, Netherlands
CATEGORIES:EDM,Electronic,Hardstyle,House,Techno,Trance
ATTACH;FMTTYPE=image/jpeg:https://europebookings.com/wp-content/uploads/dance-valley-festival-stage-lights-show.jpg
END:VEVENT
BEGIN:VEVENT
DTSTART;VALUE=DATE:20260808
DTEND;VALUE=DATE:20260810
DTSTAMP:20260420T191749
CREATED:20190416T164512Z
LAST-MODIFIED:20260129T114613Z
UID:19220-1786147200-1786319999@europebookings.com
SUMMARY:Loveland Festival
DESCRIPTION:Get TicketsAccommodationTravel Info\nLoveland Festival 2026 will once again ignite the Sloterpark in Amsterdam with two days of pure electronic euphoria\, uniting the world’s best DJs and a passionate crowd of dance music lovers in one of the Netherlands’ most beautiful green spaces. Known for its seamless blend of music\, nature\, and emotion\, Loveland captures the very essence of the Amsterdam electronic scene — sophisticated\, soulful\, and endlessly energetic. \nSince its inception in 1995\, Loveland has evolved from intimate club nights into a globally renowned festival brand\, standing as one of the oldest and most respected events in Dutch dance culture. Its idyllic setting by the lake at Sloterpark creates a perfect backdrop for the festival’s signature atmosphere — lush greenery\, shimmering water\, and the deep\, hypnotic pulse of world-class techno and house music echoing through the park. \nThe 2026 edition promises another exceptional line-up that embodies Loveland’s commitment to quality and diversity. Past years have featured iconic artists such as Adam Beyer\, Solomun\, Amelie Lens\, Tale of Us\, Charlotte de Witte\, Marco Carola\, Carl Cox\, Adriatique\, Joris Voorn\, Reinier Zonneveld\, Chris Stussy\, Hot Since 82\, and ANNA\, alongside emerging names from the global underground. Each stage offers a distinct journey — from deep\, melodic grooves to pounding techno and sunlit house anthems — all curated with the precision and artistry Loveland is celebrated for. \nBeyond the music\, Loveland is an experience that engages all senses. Its immersive light shows\, art installations\, and open-air design create an atmosphere of freedom and unity\, while Amsterdam’s creative edge infuses every corner with innovation and style. The crowd — a blend of local devotees and international travellers — adds to the electric energy\, making every drop\, sunrise\, and smile feel like part of something timeless. \nWith its perfect mix of world-class production\, stunning natural beauty\, and uncompromising sound\, Loveland Festival 2026 promises to once again deliver an unforgettable weekend in the heart of Amsterdam — a celebration of connection\, creativity\, and the unifying power of electronic music. \n\nLoveland Festival 2026 Lineup\nAll ArtistsBen Klock / Camelphat / Chris Liebing B2B Speedy J / Collabs 3000 / East End Dubs / Enrico Sangiuliano B2B Kevin De Vries / Eric Prydz / Fatboy Slim / Franky Rizardo / Guy J B2B Guy Mantzur / Hernan Cattaneo B2B Nick Warren / Jamie Jones / Joris Voorn / Kölsch / Kyle Starkey / Lammer B2B Tjade / Mahmut Orhan / Max Dean / Mau P / Mind Against / Robert Hood / and many moreLoveland Festival 2026 Tickets\nTicketsLoveland Festival\nOfficial SiteBookAccommodation\nThe city of Amsterdam offers a wide range of accommodation options. Book your stay for Loveland Festival using the map below or visit booking.com \nBook Hotels & Airbnbs near the Venue at the Lowest Price online!\n\nTravel Info\nBY CAR\nWeekend Parking Tickets at €30.00 can be purchased here \nGet DirectionsBY SHUTTLE\nReturn ticket for the route Amsterdam Sloterdijk to Loveland Festival at Sloterpark for both 9 & 10 August can be purchased here \nBY TRAIN\nAmsterdam Centraal station is accessible from most European cities. Upon arrival\, take the train 1 stop to Amsterdam Lelylaan (11 minutes). From here\, transfer to the 63 bus and get off at Amsterdam\, Geer Ban (8 minutes). Sloterpark is a 5 minute walk from the stop. \nBY PLANE\nThe nearest airport is Amsterdam Airport Schiphol (AMS). Upon arrival take the 69 bus to Amsterdam\, Oeverpad (25 minutes). The venue is a 5 minute walk from here. \nBook FlightsAirport TransfersCar RentalsTrain/Bus Tickets\nGallery\nRelated Festivals\nLoveland Van Oranje\n26 Apr | Amsterdam Netherlands\n909 Festival\n6 Jun – 7 Jun | Amsterdam\, Netherlands\n		\n			\n\n				\n				\n					Search for:\n													\n											\n				\n				\n					\n										\n									\n\n				\n			\n\n\n							\n			\n		\n		Amsterdam Travel Guide
URL:https://europebookings.com/festival/loveland-festival/
LOCATION:Sloterpark\, Sloterpark\, President Allendelaan 3\, Amsterdam\, Netherlands
CATEGORIES:Electronic,House,Techno
ATTACH;FMTTYPE=image/jpeg:https://europebookings.com/wp-content/uploads/loveland-festival-stage-fire-show.jpg
END:VEVENT
BEGIN:VEVENT
DTSTART;VALUE=DATE:20260828
DTEND;VALUE=DATE:20260831
DTSTAMP:20260420T191749
CREATED:20190930T095219Z
LAST-MODIFIED:20251114T180000Z
UID:24611-1787875200-1788134399@europebookings.com
SUMMARY:Decibel Outdoor
DESCRIPTION:Get TicketsAccommodationTravel Info\nDecibel Outdoor Festival 2026 will once again ignite Beekse Bergen\, Hilvarenbeek\, with an explosive weekend of sound\, energy\, and unity — a celebration of the harder styles that stands as one of the most iconic electronic festivals in the world. Known for its massive stages\, adrenaline-fuelled atmosphere\, and unparalleled production\, Decibel Outdoor is more than a festival — it’s a statement of pure power\, passion\, and devotion to hard dance culture. \nSince its debut in 2002\, Decibel has grown into a monumental event\, representing every facet of the harder spectrum: hardstyle\, rawstyle\, hardcore\, uptempo\, and freestyle. Each summer\, tens of thousands of fans gather by the lakeside of Beekse Bergen to experience three full days of unrelenting beats\, pyrotechnic mayhem\, and the unity that defines the hard dance community. Its immersive stage design\, precision sound\, and thematic storytelling create a world where intensity meets creativity — a place where every drop\, light flash\, and kickdrum syncs perfectly with the crowd’s heartbeat. \nThe 2026 edition will continue Decibel’s legacy of explosive energy\, following in the footsteps of previous years that featured some of the biggest names in the scene\, including Sub Zero Project\, Warface\, Rebelion\, Headhunterz\, Ran-D\, D-Sturb\, Angerfist\, Cryex\, Sefa\, D-Block & S-te-Fan\, Frequencerz\, Act of Rage\, Deadly Guns\, The Purge\, Korsakoff\, and B-Front. From euphoric melodies to raw and uptempo chaos\, the lineup always delivers a perfectly balanced showcase of the harder styles at their absolute peak. \nBeyond the music\, Decibel Outdoor offers a complete weekend experience. Its Decibel City camping turns the festival into a 24/7 adventure — with pre-parties\, afterparties\, pool sessions\, silent discos\, and exclusive artist takeovers. Each area\, from the towering Mainstage to the intimate Raw and Hardcore zones\, offers a distinct energy and a unique connection between artist and crowd. \nWith its unmatched production\, passionate crowd\, and the purest atmosphere in hard dance\, Decibel Outdoor Festival 2026 promises to once again push boundaries and deliver three days of non-stop energy. For every true raver\, it’s not just a festival — it’s a homecoming to the sound that never dies. \n\nDecibel Outdoor 2026 Lineup\nLineup to be announced soon: \n2025 LineupAftermath / Akira / Alpha Twins / Anderex / Angerfist / Artifact / Atmozfears / Aversion / Bass Chaserz / Bass-D / Brennan Heart / Bruhze / Catscan / Chapter V / Coldax / Cryex / D-Block & S-Te-Fan / D-Fence / Da Syndrome / Damaxx / Dark Entities / Dazzler / Deepack / DJ Thera / Dolphin / Drokz / E-Force / Ecstatic / Elite Enemy / Revealer / EMS / Flo / Franky Jones / Fraw / Geck-O / Gridkiller / Hard Driver / Iosio / Jones / Juliëx / Karun / Ketting / Kili And Samynator / Lars / Livid / Low Frequency / Marc Acardipane / Maxtreme / Mutilator / Neophyte / Nightcraft / Noize Suppressor / Noxiouz / Odium / Onyx / Pat B / Radical Redemption / Ran-D / Refuzion / Regain / Resolute / Restrained / Rosbeek / Sanctuary / Satirized / Solstice / Starving Insect / Tha Watcher / The Pitcher / The Purge / The Saints / Titan / Unlocked / Vasto / Xrtn / Zany / more TBADecibel Outdoor 2026 Tickets\nTickets\nDecibel Outdoorvia Official Site \nBookAccommodation\nCamping during the festival is included with the Festival ticket that includes campsite. All you need is basic camping gear\, like a tent\, a camping pad and a head torch (so useful in the night). If you don’t want to bring your own tent\, the festival offers Premium Camping options. \nAlternatively\, you can book nearby hotels and apartments using the map below or visit booking.com \nBook Hotels & Airbnbs near the Venue at the Lowest Price online!\n\nTravel Info\nBY CAR\nGet DirectionsBY TRAIN\nFrom Amsterdam Centraal Station take the train to Hertogenbosch (55 min journey) and from there take the train to Tilburg (15 min journey). From Tilburg Centraal Station take the bus to Hilvarenbeek\, Safaripark (15 min journey). \nBY PLANE\nThe nearest airport is Amsterdam Schiphol Airport (AMS). From the airport take the train to Breda (55 min journey) and from there\, take the train to Tilburg (15 min journey). From Tilburg Centraal Station take the bus to Hilvarenbeek\, Safaripark (15 min journey). \nBook FlightsAirport TransfersCar RentalsTrain/Bus Tickets\nGallery\nRelated Festivals\nDecibel Outdoor\n15 Jun – 17 Aug | Hilvarenbeek\, Netherlands\nDreamfields Festival\n5 Jul | Lathum\, Netherlands\n		\n			\n\n				\n				\n					Search for:
URL:https://europebookings.com/festival/decibel-outdoor/
LOCATION:Safaripark Beekse Bergen\, Safaripark Beekse Bergen\, Beekse Bergen\, Hilvarenbeek\, 5081\, Netherlands
CATEGORIES:Hardstyle,Techno
ATTACH;FMTTYPE=image/webp:https://europebookings.com/wp-content/uploads/decibel-outdoor-festival-stage-fireworks.webp
END:VEVENT
END:VCALENDAR