BEGIN:VCALENDAR
VERSION:2.0
PRODID:-//Europebookings - ECPv6.15.20//NONSGML v1.0//EN
CALSCALE:GREGORIAN
METHOD:PUBLISH
X-ORIGINAL-URL:https://europebookings.com
X-WR-CALDESC:Events for Europebookings
REFRESH-INTERVAL;VALUE=DURATION:PT1H
X-Robots-Tag:noindex
X-PUBLISHED-TTL:PT1H
BEGIN:VTIMEZONE
TZID:Asia/Nicosia
BEGIN:DAYLIGHT
TZOFFSETFROM:+0200
TZOFFSETTO:+0300
TZNAME:EEST
DTSTART:20220327T010000
END:DAYLIGHT
BEGIN:STANDARD
TZOFFSETFROM:+0300
TZOFFSETTO:+0200
TZNAME:EET
DTSTART:20221030T010000
END:STANDARD
BEGIN:DAYLIGHT
TZOFFSETFROM:+0200
TZOFFSETTO:+0300
TZNAME:EEST
DTSTART:20230326T010000
END:DAYLIGHT
BEGIN:STANDARD
TZOFFSETFROM:+0300
TZOFFSETTO:+0200
TZNAME:EET
DTSTART:20231029T010000
END:STANDARD
BEGIN:DAYLIGHT
TZOFFSETFROM:+0200
TZOFFSETTO:+0300
TZNAME:EEST
DTSTART:20240331T010000
END:DAYLIGHT
BEGIN:STANDARD
TZOFFSETFROM:+0300
TZOFFSETTO:+0200
TZNAME:EET
DTSTART:20241027T010000
END:STANDARD
END:VTIMEZONE
BEGIN:VEVENT
DTSTART;VALUE=DATE:20230715
DTEND;VALUE=DATE:20230716
DTSTAMP:20260424T163942
CREATED:20190425T202358Z
LAST-MODIFIED:20230201T142024Z
UID:19670-1689379200-1689465599@europebookings.com
SUMMARY:Oh My! Music Festival
DESCRIPTION:Get TicketsAccommodationTravel Info\nOh My! Music is the biggest urban music festival in The Netherlands\, taking place in Almere Beach\, just outside of Amsterdam. \nWith music that ranges from rap\, hip-hop\, through to dubstep\, R&B and house\, Oh My! Music Festival has something for all. Recent lineups have featured the likes of Wiz Khalifa\, Tory Lanez and Giggs\, who performed alongside some of the scene’s hottest up-and-coming artists\, in a perfect early summer outdoor setting. \n\nOh My! Music 2023 Lineup\nLineup to be announced soon: \n2022 Lineup & Program\nSat 25 June 2022\nWizkid / D-Block Europe / Mabel / Rick Ross / Tory Lanez / Ty Dolla $ign / Tyga / Bilal Wahib / Cho / Dopebwoy / Fabolous / Ginuwine / Henkie TJ. Holiday / Josylvio / Kevin / Lijpe / Ronnie Flex / Sevn Alias / Sigourney K. / Spanker & Friends \nSun 26 June 2022\nDaBaby / Lil Baby / Frenna / Lil Durk / Stefflon Don / Tion Wayne / Boyz In De Hood / BNXN / Broederliefde / Chivv / Ckay / COR / Darkoo / Idaly / Jonna Fraser / Ka / King Promise / Major League DJz / Omah Lay / Qlas & Blacka / Rema / Rich2gether / Yssi SB / Yxng Le \n+ more artists TBA \nOh My! Music 2023 Tickets\nEarly Bird Regular\, Golden Circle & VIP Tickets from €95.19 are on sale:\nTicketsOh my! Music\nvia Official SideBookAccommodation\nThe city of Amsterdam offers a wide range of accommodation options. Book your stay for Oh My! Music Festival using the map below or visit booking.com \nBooking.comBook Hotels & Airbnbs near the Venue at the Lowest Price online!\n\nTravel Info\nBY CAR\nParking is available and tickets from €19.60 can be purchased here \nGet DirectionsBY PUBLIC TRANSPORT\nThe public transport network in Amsterdam is extensive with buses\, trams\, metro’s and trains\, serving almost all areas of the city and beyond. \nBY TRAIN\nAmsterdam is well connected by rail in the Netherlands and from main European cities. From Amsterdam Centraal you can take the train to IJmeerdijk (40 min journey)\, close to the venue. \nBY PLANE\nFrom Amsterdam Schiphol Airport (AMS) take the train to Amsterdam Centraal station (14 min journey – departs every 10 min). \nBook FlightsAirport TransfersCar RentalsTrain/Bus Tickets\nGallery\nRelated Festivals\nAfro Nation Portugal\n9 – 11 Jul | Portimao\, Portugal\nWireless Festival\nDates TBA | London\, UK\n		\n			\n\n				\n				\n					Search for:
URL:https://europebookings.com/festival/oh-my-music-festival/
LOCATION:Almere Strand\, Olympialaan\, Almere\, 1362 LC\, Netherlands
CATEGORIES:Electronic,Hip Hop,Urban
ATTACH;FMTTYPE=image/jpeg:https://europebookings.com/wp-content/uploads/oh-my-music-festival-stage-lights.jpg
END:VEVENT
END:VCALENDAR