BEGIN:VCALENDAR
VERSION:2.0
PRODID:-//Europebookings - ECPv6.15.20//NONSGML v1.0//EN
CALSCALE:GREGORIAN
METHOD:PUBLISH
X-WR-CALNAME:Europebookings
X-ORIGINAL-URL:https://europebookings.com
X-WR-CALDESC:Events for Europebookings
REFRESH-INTERVAL;VALUE=DURATION:PT1H
X-Robots-Tag:noindex
X-PUBLISHED-TTL:PT1H
BEGIN:VTIMEZONE
TZID:Asia/Nicosia
BEGIN:DAYLIGHT
TZOFFSETFROM:+0200
TZOFFSETTO:+0300
TZNAME:EEST
DTSTART:20210328T010000
END:DAYLIGHT
BEGIN:STANDARD
TZOFFSETFROM:+0300
TZOFFSETTO:+0200
TZNAME:EET
DTSTART:20211031T010000
END:STANDARD
BEGIN:DAYLIGHT
TZOFFSETFROM:+0200
TZOFFSETTO:+0300
TZNAME:EEST
DTSTART:20220327T010000
END:DAYLIGHT
BEGIN:STANDARD
TZOFFSETFROM:+0300
TZOFFSETTO:+0200
TZNAME:EET
DTSTART:20221030T010000
END:STANDARD
BEGIN:DAYLIGHT
TZOFFSETFROM:+0200
TZOFFSETTO:+0300
TZNAME:EEST
DTSTART:20230326T010000
END:DAYLIGHT
BEGIN:STANDARD
TZOFFSETFROM:+0300
TZOFFSETTO:+0200
TZNAME:EET
DTSTART:20231029T010000
END:STANDARD
END:VTIMEZONE
BEGIN:VEVENT
DTSTART;VALUE=DATE:20221021
DTEND;VALUE=DATE:20221023
DTSTAMP:20260424T084215
CREATED:20210709T215645Z
LAST-MODIFIED:20230112T175309Z
UID:45148-1666310400-1666483199@europebookings.com
SUMMARY:Secret Project Amsterdam
DESCRIPTION:Secret Project heads again in Amsterdam in 2022\, as part of the world-renowned ADE series for a two night \nOn Friday the 21st of October Secret Project will present FCKNG Serious at Hembrugterrein\, with the likes of Ann Clue\, Boris Brejcha\, Deniz Bul and Moritz Hofbauer from 6PM till 1AM. \nOn Saturday the 22nd of October\, Secret Project will once again unite for a massive daytime event with Michael Bibi\, Marco Carola\, Sven Väth and many more. With 4 stages\, Secret Project Festival will return during Amsterdam Dance Event with a bang. Get ready for the finest Techno\, Disco & House. \nThe unique features and industrial environment of the Hembrugterrein make it the perfect dance floor for Secret Project during Amsterdam Dance Event. From immersive\, glowing environments to large-scale murals and live graffiti\, Secret Project is an urban outdoor oasis of art and culture. \nSecret Project is an emerging festival born in the prospering underground scene of downtown Los Angeles. Fusing art\, technology\, and exceptionally curated house and techno music\, the festival known for its daytime moments\, is ready to grow beyond its origin. With successful editions in LA\, Miami\, Amsterdam\, and Portugal\, Secret Project unites music lovers alike in new cities where there are no shortages of dance floors. \n\nSecret Project Amsterdam 2022 Lineup\nAll Artists\nFri 21 October 2022\nBoris Brejcha / Ann Clue / Deniz Bul / Moritz Hofbauer (Live) \nSat 22 October 2022\nBella / Deborah de Luca / Dom Dolla / Dutchafro / Ewan McVicar / Fatima Yamaha / HAAI / Klangkuenstler / KODE 9 / LF System / Marcel Fengler / Marco Carola / Matrixxman / Michael Bibi / Moktar / Nala Brown / Olympe / Patrick Topping / Prospa / Sherelle / Skream / SNTS / Sven Väth / Thys / + Secret Guest to be announcedSecret Project Amsterdam 2022 Tickets\nTickets for both dates €54.50 are on sale:\nTickets\nSecret Project Amsterdamvia Official Site \nBookAccommodation\nThe city of Amsterdam offers a wide range of accommodation options. Book your stay for Secret Project Amsterdam using the map below or visit visit booking.com \nBook Hotels & Airbnbs near the Venue at the Lowest Price online!\n\nTravel Info\nBY CAR\nGet DirectionsBY PUBLIC TRANSPORT\nThe public transport network in Amsterdam is extensive with buses\, trams\, metro’s and trains\, serving almost all areas of the city and beyond. \nBY TRAIN\nAmsterdam is well connected by rail in the Netherlands and from main European cities. \nBY PLANE\nmsterdam Schiphol Airport is very close to the city centre. Trains depart from the airport every 10 minutes and take around 15 minutes to reach Amsterdam Centraal station. \nBook FlightsAirport TransfersCar RentalsTrain/Bus Tickets\nGallery\nRelated Festivals\nAmsterdam Dance Event (ADE)\n19 Oct – 23 Oct | Amsterdam\, Netherlands\nAmsterdam Music Festival (AMF)\n22 Oct | Amsterdam\, Netherlands\n		\n			\n\n				\n				\n					Search for:
URL:https://europebookings.com/festival/secret-project-amsterdam/
LOCATION:Het Hembrugterrein\, Hemkade 18\, Zaandam\, 1506 PR\, Netherlands
CATEGORIES:Electronic,House,Techno
ATTACH;FMTTYPE=image/jpeg:https://europebookings.com/wp-content/uploads/secret-project-amsterdam-stage-fire-show.jpg
END:VEVENT
END:VCALENDAR