BEGIN:VCALENDAR
VERSION:2.0
PRODID:-//Europebookings - ECPv6.15.20//NONSGML v1.0//EN
CALSCALE:GREGORIAN
METHOD:PUBLISH
X-ORIGINAL-URL:https://europebookings.com
X-WR-CALDESC:Events for Europebookings
REFRESH-INTERVAL;VALUE=DURATION:PT1H
X-Robots-Tag:noindex
X-PUBLISHED-TTL:PT1H
BEGIN:VTIMEZONE
TZID:Asia/Nicosia
BEGIN:DAYLIGHT
TZOFFSETFROM:+0200
TZOFFSETTO:+0300
TZNAME:EEST
DTSTART:20210328T010000
END:DAYLIGHT
BEGIN:STANDARD
TZOFFSETFROM:+0300
TZOFFSETTO:+0200
TZNAME:EET
DTSTART:20211031T010000
END:STANDARD
BEGIN:DAYLIGHT
TZOFFSETFROM:+0200
TZOFFSETTO:+0300
TZNAME:EEST
DTSTART:20220327T010000
END:DAYLIGHT
BEGIN:STANDARD
TZOFFSETFROM:+0300
TZOFFSETTO:+0200
TZNAME:EET
DTSTART:20221030T010000
END:STANDARD
BEGIN:DAYLIGHT
TZOFFSETFROM:+0200
TZOFFSETTO:+0300
TZNAME:EEST
DTSTART:20230326T010000
END:DAYLIGHT
BEGIN:STANDARD
TZOFFSETFROM:+0300
TZOFFSETTO:+0200
TZNAME:EET
DTSTART:20231029T010000
END:STANDARD
END:VTIMEZONE
BEGIN:VEVENT
DTSTART;VALUE=DATE:20221126
DTEND;VALUE=DATE:20221127
DTSTAMP:20260424T071609
CREATED:20220616T195558Z
LAST-MODIFIED:20221217T150800Z
UID:56920-1669420800-1669507199@europebookings.com
SUMMARY:Verknipt Hard Special
DESCRIPTION:Get TicketsAccommodationTravel Info\nVerknipt is an Amsterdam party institution focusing on house\, techno and dance music\, and has been pushing the Dutch party scene forward since 2012\, promoting local and up-and-coming talent in the process. \nOver the past years the organisation has shown her face all over the country\, conquering the hearts of fans all over the Netherlands. \nVerknipt Hard Special will be their biggest indoor event\, with huge laser show and Led screen with freaky visuals. \n\nVerknipt Hard Special 2022 Lineup\nAll Artists & Stages\nArea 1\nBASSWELL / CASSIE RAPTOR / CERA KHIN / DIØN / DYEN / LORENZO RAGANZINI B2B PAOLO FERRARA / SHLØMO / SNTS / STAN CHRIST / TRYM \nArea 2\nCALLUSH / DION VISSER / DISSOLVER (LIVE) / DXPE / MZPERX / WNDRLST / XRTVerknipt Hard Special 2022 Tickets\nTickets are SOLD OUT. Check Ticketswap for resale tickets:\nBuy & Sell TicketsVerknipt Hard Special\nvia TicketswapBookVerknipt NYE Special\n31 Dec | Eindhoven\, Netherlands\nTICKETS ON SALE\nVerknipt Festival\n10 Jun – 11 Jun | Utrecht\, Netherlands\nTICKETS ON SALE\nAccommodation\nThe city of Amsterdam offers a wide range of accommodation options. Book your stay for the festival using the map below or visit booking.com \nBook Hotels & Airbnbs near the Venue at the Lowest Price online!\n\nTravel Info\nBY CAR\nGet DirectionsBY SUBWAY\nOnce in the centre of Amsterdam you can take the subway from Amsterdam\, Waterlooplein to Amsterdam\, Station Bijlmer ArenA (13 min journey)\, just a short walk away to the venue. \nBY TRAIN\nAmsterdam Centraal Station is accessible from most European cities. From Amsterdam Centraal take the train to AFAS Live (17 min journey). \nBY PLANE\nFrom Amsterdam Airport Schiphol (AMS) take the train to AFAS Live (15 min journey). \nBook FlightsAirport TransfersCar RentalsTrain/Bus Tickets\nGallery\nRelated Festivals\nDownload Festival\n12 Jun – 14 Jun | Derby\, UK\nLytham Festival\n1 Jul – 5 Jul | Lytham Green\, UK\n		\n			\n\n				\n				\n					Search for:
URL:https://europebookings.com/festival/verknipt-hard-special/
LOCATION:AFAS Live\, Arena Boulevard 590\, Amsterdam\, 1101 DS\, Netherlands
CATEGORIES:Electronic,Techno
ATTACH;FMTTYPE=image/jpeg:https://europebookings.com/wp-content/uploads/verknipt-hard-special.jpg
END:VEVENT
END:VCALENDAR