BEGIN:VCALENDAR
VERSION:2.0
PRODID:-//Europebookings - ECPv6.15.20//NONSGML v1.0//EN
CALSCALE:GREGORIAN
METHOD:PUBLISH
X-WR-CALNAME:Europebookings
X-ORIGINAL-URL:https://europebookings.com
X-WR-CALDESC:Events for Europebookings
REFRESH-INTERVAL;VALUE=DURATION:PT1H
X-Robots-Tag:noindex
X-PUBLISHED-TTL:PT1H
BEGIN:VTIMEZONE
TZID:Asia/Nicosia
BEGIN:DAYLIGHT
TZOFFSETFROM:+0200
TZOFFSETTO:+0300
TZNAME:EEST
DTSTART:20220327T010000
END:DAYLIGHT
BEGIN:STANDARD
TZOFFSETFROM:+0300
TZOFFSETTO:+0200
TZNAME:EET
DTSTART:20221030T010000
END:STANDARD
BEGIN:DAYLIGHT
TZOFFSETFROM:+0200
TZOFFSETTO:+0300
TZNAME:EEST
DTSTART:20230326T010000
END:DAYLIGHT
BEGIN:STANDARD
TZOFFSETFROM:+0300
TZOFFSETTO:+0200
TZNAME:EET
DTSTART:20231029T010000
END:STANDARD
BEGIN:DAYLIGHT
TZOFFSETFROM:+0200
TZOFFSETTO:+0300
TZNAME:EEST
DTSTART:20240331T010000
END:DAYLIGHT
BEGIN:STANDARD
TZOFFSETFROM:+0300
TZOFFSETTO:+0200
TZNAME:EET
DTSTART:20241027T010000
END:STANDARD
END:VTIMEZONE
BEGIN:VEVENT
DTSTART;VALUE=DATE:20230708
DTEND;VALUE=DATE:20230709
DTSTAMP:20260423T173334
CREATED:20220714T152143Z
LAST-MODIFIED:20230203T122714Z
UID:58350-1688774400-1688860799@europebookings.com
SUMMARY:18hrs Festival
DESCRIPTION:Get TicketsAccommodationTravel Info\nThe 18hours Festival was cancelled. You can read the festival’s statement here \n18hrs Festival is an multi-genre electronic music festival taking place near Amsterdam. A marathon experience\, the festival goes on for 18 straight hours from 12:00 PM to 6:00 AM! \nThe longest running one-day festival in Holland\, 18hrs Festival manage to squeeze some of the biggest names into its 18 hour lifespan\, starting with an outdoor festival from noon\, then turning into a warehouse indoor party as the clock strikes midnight\, until 6:00 am the following morning. \nPrevious lineups have included Claptone\, Franky Rizardo\, Juan Sanchez\, Ben Sims\, Surgeon and Benny Rodrigues. \n\n18hrs Festival 2023 Lineup\nLineup to be announced soon: \n2022 Lineup\nArchie Hamilton / Clouds / Cyntia Spiering / Darius Syrossian / Detlef / Fatima Hajji / Ghost in the Machine / Joey Daniel / Juan Sanhez / Low Steppa / Manni Dee / Nic Fanciulli b2b Franky Rizardo / Prunk b2b Michel De Hey / Randomer / Remco Beek Wilder / Riva Starr / Rpd / Sam Divine / Spektre / T78 b2b Asys / Toman \nAxel Nielsen / Bofkonten / Chicago Vice Soundsystem / Dani / Dida/ Dylan Lucky / Eduardo Cruz / Franc Fala / Janneman / Jasper Fioole / Jermain Cikicg / Kyrah Khaldi / Molly / Nathalie Patty / Ramon / Super Social Soundsystem / Tahko / Tensen / William \n18hrs Festival 2023 Tickets\nPre-register for Super Early Bird Tickets at the link below:\nTickets18hours Festival\nPre-registerBookAccommodation\nNearby city of Amsterdam offers a wide range of accommodation options. Book your stay for 18hours Festival using the map below or visit booking.com \nBooking.comBook Hotels & Airbnbs near the Venue at the Lowest Price online!\n\nTravel Info\nBY CAR\nGet DirectionsBY TRAIN\nAmsterdam is well connected by rail in the Netherlands and major European cities. From Amsterdam Centraal Station take the train to Zaandam (12 min journey) and from there you can either take the Bus or a short taxi ride to Hembrugterrein (3 min journey). \nBY PLANE\nFrom Amsterdam Schiphol Airport (AMS) you can take the train to Zaandam (16 min journey) and from there you can either take the Bus or a short taxi ride to Hembrugterrein (3 min journey). \nBook FlightsAirport TransfersCar RentalsTrain/Bus Tickets\nGallery\nRelated Festivals\nKappa Futur Festival\n4 Jul – 6 Jul | Turin\, Italy\nUltra Europe Festival\n11 Jul – 13 Jul | Split\, Croatia\n		\n			\n\n				\n				\n					Search for:
URL:https://europebookings.com/festival/18hrs-festival/
LOCATION:Het Hembrugterrein\, Hemkade 18\, Zaandam\, 1506 PR\, Netherlands
CATEGORIES:Electronic,House,Techno
ATTACH;FMTTYPE=image/jpeg:https://europebookings.com/wp-content/uploads/18hours-festival-fireworks.jpg
END:VEVENT
END:VCALENDAR