BEGIN:VCALENDAR
VERSION:2.0
PRODID:-//Europebookings - ECPv6.15.20//NONSGML v1.0//EN
CALSCALE:GREGORIAN
METHOD:PUBLISH
X-WR-CALNAME:Europebookings
X-ORIGINAL-URL:https://europebookings.com
X-WR-CALDESC:Events for Europebookings
REFRESH-INTERVAL;VALUE=DURATION:PT1H
X-Robots-Tag:noindex
X-PUBLISHED-TTL:PT1H
BEGIN:VTIMEZONE
TZID:Asia/Nicosia
BEGIN:DAYLIGHT
TZOFFSETFROM:+0200
TZOFFSETTO:+0300
TZNAME:EEST
DTSTART:20220327T010000
END:DAYLIGHT
BEGIN:STANDARD
TZOFFSETFROM:+0300
TZOFFSETTO:+0200
TZNAME:EET
DTSTART:20221030T010000
END:STANDARD
BEGIN:DAYLIGHT
TZOFFSETFROM:+0200
TZOFFSETTO:+0300
TZNAME:EEST
DTSTART:20230326T010000
END:DAYLIGHT
BEGIN:STANDARD
TZOFFSETFROM:+0300
TZOFFSETTO:+0200
TZNAME:EET
DTSTART:20231029T010000
END:STANDARD
BEGIN:DAYLIGHT
TZOFFSETFROM:+0200
TZOFFSETTO:+0300
TZNAME:EEST
DTSTART:20240331T010000
END:DAYLIGHT
BEGIN:STANDARD
TZOFFSETFROM:+0300
TZOFFSETTO:+0200
TZNAME:EET
DTSTART:20241027T010000
END:STANDARD
END:VTIMEZONE
BEGIN:VEVENT
DTSTART;VALUE=DATE:20231201
DTEND;VALUE=DATE:20231205
DTSTAMP:20260423T085156
CREATED:20231106T133133Z
LAST-MODIFIED:20231106T155438Z
UID:75671-1701388800-1701734399@europebookings.com
SUMMARY:Abode in the Dam
DESCRIPTION:Get TicketsAccommodationTravel Info\nAbode in the Dam 2023 promises to amplify Amsterdam’s winter with a curation that showcases the city’s vibrant character through hand-selected venues\, each echoing its unique pulse. These intimate spaces are set to become the city’s heartbeats\, offering distinct slices of Amsterdam’s dynamic atmosphere. The revered party brand ABODE meticulously tailors an experience across the city’s many faces\, from the intimacy of hidden gems to the expansive embrace of the iconic warehouses. \nThe festival showcases ABODE’s dedication to immersive house music experiences\, meticulously designed to complement Amsterdam’s eclectic spirit. It’s an event that transforms the cityscape into a diverse canvas of celebration\, marking each location with the indelible rhythm of house beats. Abode in the Dam is more than an event—an intimate journey through Amsterdam’s most charismatic spaces\, promising an unforgettable chapter in the winter calendar for every house music enthusiast. \n\nAbode in the Dam 2023 Lineup\nAll ArtistsArielle Free / Cross / Florentia / GW Harrison / Larry London / Late Replies / Louis Millne / Low Steppa / Mas Fuego / Mikey / Oden & Fatzo (LIVE) / Perry Lane / Rennie Peters / Seb Zito / Will Taylor / Will WileyAbode in the Dam 2023 Tickets\nFestival Pass Tickets\, Boat Party & Packages from €11.87 are on sale:\nTicketsAbode in the Dam\nvia Official SiteBookAccommodation\nThe city of Amsterdam offers a wide range of accommodation options. Book your stay using the interactive map below or visit booking.com \nBooking.comBook Hotels & Airbnbs near the Venue at the Lowest Price online!\n\n\n  \n   \n  \n  Travel Info\nBY CAR\nGet DirectionsBY PUBLIC TRANSPORT\nThe public transport network in Amsterdam is extensive with buses\, trams\, metro’s and trains\, serving almost all areas of the city and beyond. \nBY TRAIN\nAmsterdam is well connected by rail in the Netherlands and from main European cities. \nBY PLANE\nFrom Amsterdam Schiphol Airport (AMS) to the city centre take the train to Amsterdam Centraal station (14 min journey – departs every 10 min). \nBook FlightsAirport TransfersCar RentalsTrain/Bus Tickets\nGallery\nRelated Festivals\nParookaville Festival\n17 Jul – 19 Jul | Weeze\, Germany\nUntold Festival\nDates TBA | Cluj-Napoca\, Romania\n		\n			\n\n				\n				\n					Search for:\n													\n											\n				\n				\n					\n										\n									\n\n				\n			\n\n\n							\n			\n		\n		\nAmsterdam Travel Guide
URL:https://europebookings.com/festival/abode-in-the-dam/
LOCATION:Amsterdam\, Amsterdam\, Netherlands
CATEGORIES:Electronic,House
ATTACH;FMTTYPE=image/jpeg:https://europebookings.com/wp-content/uploads/abode-in-the-dam-2023.jpg
END:VEVENT
END:VCALENDAR