BEGIN:VCALENDAR
VERSION:2.0
PRODID:-//Europebookings - ECPv6.15.20//NONSGML v1.0//EN
CALSCALE:GREGORIAN
METHOD:PUBLISH
X-WR-CALNAME:Europebookings
X-ORIGINAL-URL:https://europebookings.com
X-WR-CALDESC:Events for Europebookings
REFRESH-INTERVAL;VALUE=DURATION:PT1H
X-Robots-Tag:noindex
X-PUBLISHED-TTL:PT1H
BEGIN:VTIMEZONE
TZID:Asia/Nicosia
BEGIN:DAYLIGHT
TZOFFSETFROM:+0200
TZOFFSETTO:+0300
TZNAME:EEST
DTSTART:20220327T010000
END:DAYLIGHT
BEGIN:STANDARD
TZOFFSETFROM:+0300
TZOFFSETTO:+0200
TZNAME:EET
DTSTART:20221030T010000
END:STANDARD
BEGIN:DAYLIGHT
TZOFFSETFROM:+0200
TZOFFSETTO:+0300
TZNAME:EEST
DTSTART:20230326T010000
END:DAYLIGHT
BEGIN:STANDARD
TZOFFSETFROM:+0300
TZOFFSETTO:+0200
TZNAME:EET
DTSTART:20231029T010000
END:STANDARD
BEGIN:DAYLIGHT
TZOFFSETFROM:+0200
TZOFFSETTO:+0300
TZNAME:EEST
DTSTART:20240331T010000
END:DAYLIGHT
BEGIN:STANDARD
TZOFFSETFROM:+0300
TZOFFSETTO:+0200
TZNAME:EET
DTSTART:20241027T010000
END:STANDARD
END:VTIMEZONE
BEGIN:VEVENT
DTSTART;VALUE=DATE:20231230
DTEND;VALUE=DATE:20240101
DTSTAMP:20260423T103927
CREATED:20221030T224631Z
LAST-MODIFIED:20231125T083221Z
UID:63816-1703894400-1704067199@europebookings.com
SUMMARY:Verknipt NYE Specials
DESCRIPTION:Get TicketsAccommodationTravel Info\nVerknipt host their New Year’s Eve party this December in Klokgebouw Eindhoven. As with all Verknipt events\, this end of year celebration will showcase the finest underground electronic music\, with the hardest artists out there\, that will provide an extra special Verknipt show to end the year on a high note. \nOne of The Netherlands’ most prolific promoters\, Verknipt has been pushing the Dutch party scene forward since 2012\, promoting local and up-and-coming talent in the process. Over the past years the organisation has shown her face all over the country\, conquering the hearts of fans all over the Netherlands. \nWhat you can expect? Several area’s with quality music\, big raw warehouse\, a lot of fireworks in combination with the BIGGEST laser show! \n\nVerknipt NYE Specials 2023 Lineup\nAll Artists & Program\nSat 30 Dec 2023\n12.00 – 23.00\n6EJOU (Hybrid Live) / Alignment B2B Anxhela / AXL / BLK. / DYEN / Fatima Hajji / Farrago / Franky-B / Karah / Ketting Live / OGUZ / ØRGIE / Raxeller / Sara Landry / Stan Christ / XRTN \nSun 31 Dec 2023\n20.00 – 09.00\n7 Circle / Alignment / AND / Aphøtic B2B NYCΘ / Basswell / BIIA / CLTX / Daniella Da Silva / Diøn / Don Woezik / Japau / Karaxheller / Køzłøv / Lessss / Luca Van Oss B2B N00M1 / Shlømo / The Hunters Live (6EJOU & BSLS) / VendexVerknipt NYE Special 2023 Tickets\nTickets for both dates from €59.95 are on sale:\nTicketsVerknipt NYE Special\nvia Official SiteBookVerknipt Festival\n8 Jun – 9 Jun | Utrecht\, Netheralnds\nTICKETS INFO \nAccommodation\nThe city of Eindhoven offers a wide range of accommodation options. Book your stay for Verknipt NYE Special using the map below or visit booking.com \nBook Hotels & Airbnbs near the Venue at the Lowest Price online!\n\nTravel Info\nBY CAR\nGet DirectionsBY TRAIN\nEindhoven is well connected by rail in the Netherlands and from main European cities. From Eindhoven Centraal take the Bus to Strijp S Station ((5 min journey)\, just 200 meters from the venue. \nBY PLANE\nFrom Amsterdam Schiphol Airport (AMS) take the train to Eindhoven Centraal (1h 25 min journey) and from there take the Bus to Strijp S Station ((5 min journey)\, just 200 meters from the venue. \nBook FlightsAirport TransfersCar RentalsTrain/Bus Tickets\nGallery\nRelated Festivals\nKappa Futur Festival\n4 Jul – 6 Jul | Turin\, Italy\nUltra Europe Festival\n11 Jul – 13 Jul | Split\, Croatia\n		\n			\n\n				\n				\n					Search for:
URL:https://europebookings.com/festival/verknipt-new-years-eve/
LOCATION:Klokgebouw\, Klokgebouw 50\, Eindhoven\, 5617 AB\, Netherlands
CATEGORIES:Electronic,House,NewYearsEve,Techno
ATTACH;FMTTYPE=image/jpeg:https://europebookings.com/wp-content/uploads/verknipt-nye-specials-2023.jpg
END:VEVENT
END:VCALENDAR