BEGIN:VCALENDAR
VERSION:2.0
PRODID:-//Europebookings - ECPv6.15.20//NONSGML v1.0//EN
CALSCALE:GREGORIAN
METHOD:PUBLISH
X-ORIGINAL-URL:https://europebookings.com
X-WR-CALDESC:Events for Europebookings
REFRESH-INTERVAL;VALUE=DURATION:PT1H
X-Robots-Tag:noindex
X-PUBLISHED-TTL:PT1H
BEGIN:VTIMEZONE
TZID:Asia/Nicosia
BEGIN:DAYLIGHT
TZOFFSETFROM:+0200
TZOFFSETTO:+0300
TZNAME:EEST
DTSTART:20230326T010000
END:DAYLIGHT
BEGIN:STANDARD
TZOFFSETFROM:+0300
TZOFFSETTO:+0200
TZNAME:EET
DTSTART:20231029T010000
END:STANDARD
BEGIN:DAYLIGHT
TZOFFSETFROM:+0200
TZOFFSETTO:+0300
TZNAME:EEST
DTSTART:20240331T010000
END:DAYLIGHT
BEGIN:STANDARD
TZOFFSETFROM:+0300
TZOFFSETTO:+0200
TZNAME:EET
DTSTART:20241027T010000
END:STANDARD
BEGIN:DAYLIGHT
TZOFFSETFROM:+0200
TZOFFSETTO:+0300
TZNAME:EEST
DTSTART:20250330T010000
END:DAYLIGHT
BEGIN:STANDARD
TZOFFSETFROM:+0300
TZOFFSETTO:+0200
TZNAME:EET
DTSTART:20251026T010000
END:STANDARD
END:VTIMEZONE
BEGIN:VEVENT
DTSTART;VALUE=DATE:20240328
DTEND;VALUE=DATE:20240331
DTSTAMP:20260423T022659
CREATED:20230104T160050Z
LAST-MODIFIED:20231219T210557Z
UID:66719-1711584000-1711843199@europebookings.com
SUMMARY:Awakenings Easter Festival
DESCRIPTION:Get TicketsAccommodationTravel Info\nAwakenings Easter Festival 2024 marks a triumphant return to the Temple of Techno\, celebrating the roots of this iconic genre. Set against the backdrop of the legendary Gashouder\, the festival is a three-event series\, spanning from the night of Thursday\, March 28\, to the day of Saturday\, March 30. \nAwakenings\, renowned for orchestrating some of the most legendary techno events in the Netherlands\, continues its tradition of excellence. The festival is a haven for techno enthusiasts\, where the best artists in the genre converge to deliver electrifying performances. Each night and the day event promises a unique atmosphere\, blending the energy of techno with the historical aura of the Gashouder. \nThis festival is more than just a series of concerts; it’s a cultural phenomenon where the pulsating beats of techno reverberate through the heart of the Netherlands. Awakenings Easter Festival is an essential pilgrimage for techno-purists and newcomers alike\, offering an unparalleled celebration of the genre in its most authentic form. \n\nAwakenings Easter Festival 2024 Lineup\nAll Artists & Program\nEASTER THURSDAY BY NIGHT\nDax J / Futre.666 / Grace Dahl / Klangkuenstler / Rikhter / SPFDJ \nEASTER FRIDAY BY NIGHT\n8Kays / Camelphat / Hollt / Kevin De Vries / Mind Against / Miss Monique \nEASTER SATURDAY BY DAY\nAmber Broos / Dj Rush / Ilario Alicante / Joseph Capriati / Juliet Fox / Pan-PotAwakenings Easter Festival 2023 Tickets\nFriday & Saturday Tickets from €69.50 are on sale:\nTicketsAwakenings Easter Festival\nvia Official SiteBookAwakenings Spring Festival\nDATE TBA | Spaarnwoude\, Netherlands\nTICKETS INFO \nAwakenings Summer Festival5 Jul – 7 Jul | Hilvarenbeek\, NetherlandsTICKETS INFO \nAccommodation\nThe city of Amsterdam offers a wide range of accommodation options. Book your stay using the interactive map below or visit booking.com \nBook Hotels & Airbnbs near the Venue at the Lowest Price online!\n\nTravel Info\nBY CAR\nGet DirectionsBY PUBLIC TRANSPORT\nThe public transport network in Amsterdam is extensive with buses\, trams\, metro’s and trains\, serving almost all areas of the city and beyond. \nBY TRAIN\nAmsterdam is well connected by rail in the Netherlands and from main European cities. From Amsterdam Central Station you can take Bus line 21 to Gashouder (9 min journey). Taxi is a short 4 min ride to the venue. \nBY PLANE\nFrom Amsterdam Schiphol Airport (AMS) to the city centre take the train to Amsterdam Centraal station (14 min journey – departs every 10 min). \nBook FlightsAirport TransfersCar RentalsTrain/Bus Tickets\nGallery\nRelated Festivals\nKappa Futur Festival\n4 Jul – 6 Jul | Turin\, Italy\nUltra Europe Festival\n11 Jul – 13 Jul | Split\, Croatia\n		\n			\n\n				\n				\n					Search for:
URL:https://europebookings.com/festival/awakenings-easter-festival/
LOCATION:Gashouder\, Gashouder\, Klönneplein 1\, Amsterdam\, 1014 DD\, Netherlands
CATEGORIES:Electronic,House,Techno
ATTACH;FMTTYPE=image/jpeg:https://europebookings.com/wp-content/uploads/awakenings-easter-festival-stage-fireworks.jpg
END:VEVENT
END:VCALENDAR