BEGIN:VCALENDAR
VERSION:2.0
PRODID:-//Europebookings - ECPv6.15.20//NONSGML v1.0//EN
CALSCALE:GREGORIAN
METHOD:PUBLISH
X-ORIGINAL-URL:https://europebookings.com
X-WR-CALDESC:Events for Europebookings
REFRESH-INTERVAL;VALUE=DURATION:PT1H
X-Robots-Tag:noindex
X-PUBLISHED-TTL:PT1H
BEGIN:VTIMEZONE
TZID:Asia/Nicosia
BEGIN:DAYLIGHT
TZOFFSETFROM:+0200
TZOFFSETTO:+0300
TZNAME:EEST
DTSTART:20230326T010000
END:DAYLIGHT
BEGIN:STANDARD
TZOFFSETFROM:+0300
TZOFFSETTO:+0200
TZNAME:EET
DTSTART:20231029T010000
END:STANDARD
BEGIN:DAYLIGHT
TZOFFSETFROM:+0200
TZOFFSETTO:+0300
TZNAME:EEST
DTSTART:20240331T010000
END:DAYLIGHT
BEGIN:STANDARD
TZOFFSETFROM:+0300
TZOFFSETTO:+0200
TZNAME:EET
DTSTART:20241027T010000
END:STANDARD
BEGIN:DAYLIGHT
TZOFFSETFROM:+0200
TZOFFSETTO:+0300
TZNAME:EEST
DTSTART:20250330T010000
END:DAYLIGHT
BEGIN:STANDARD
TZOFFSETFROM:+0300
TZOFFSETTO:+0200
TZNAME:EET
DTSTART:20251026T010000
END:STANDARD
END:VTIMEZONE
BEGIN:VEVENT
DTSTART;VALUE=DATE:20241115
DTEND;VALUE=DATE:20241117
DTSTAMP:20260422T002655
CREATED:20230914T211612Z
LAST-MODIFIED:20241023T141610Z
UID:73615-1731628800-1731801599@europebookings.com
SUMMARY:Soenda Indoor Festival
DESCRIPTION:Get TicketsAccommodationTravel Info\nSoenda Indoor Festival 2024 is set to take place on November 15-16 at the iconic Werkspoorkathedraal in Utrecht. Known for its exceptional techno and house music\, this festival offers a thrilling indoor experience with a lineup that features some of the most exciting names in the electronic music scene. \nThe 2024 lineup includes stellar acts such as 999999999\, Paula Temple\, DYEN\, and Klangkuenstler\, ensuring a diverse and dynamic musical journey over the two days. The festival will transform the industrial venue with an enormous light show\, cutting-edge visuals\, and immersive sound systems\, creating an electrifying atmosphere that captivates attendees. \nSoenda Indoor Festival stands out for its commitment to delivering high-quality production and a vibrant community experience. The carefully curated lineup and the unique setting make it a must-visit event for electronic music enthusiasts looking for an unforgettable festival experience in the heart of Utrecht. \n\nSoenda Indoor Festival 2024 Lineup\nAll Artists999999999 / Angelboy / Azyr / Colin Benders / DYEN / Effy / Emilija / Klangkuenstler / Lena / Mischluft / Patrick Mason / Paula Temple / Pegassi / S-candalo / Salome / SHDW / Skin On Skin / Stan Christ / TwienaSoenda Indoor Festival 2024 Tickets\nRegular Tickets from €54.50 are on sale:\nTicketsSoenda Indoor\nvia Official SiteBookSoenda Festival\n31 May | Utrecht\, Netherlands\nTICKETS INFO \nAccommodation\nThe city of Utrecht offers a wide range of accommodation options. Book your stay for Soenda Festival using the map below or visit booking.com \nBook Hotels & Airbnbs near the Venue at the Lowest Price online!\n\nTravel Info\nBY CAR\nGet DirectionsBY SHUTTLE BUS\nShuttle Bus Tickets from Utrecht at €10.00 can be purchased here \nBY TRAIN\nUtrecht Centraal Station is accessible from most European cities\, but may require a transfer in Amsterdam. \nBY PLANE\nThe nearest airport is Amsterdam Airport Schiphol (AMS). Upon arrival take the train to Utrecht Centraal Station (30 min journey). \nBook FlightsAirport TransfersCar RentalsTrain/Bus Tickets\nGallery\nRelated Festivals\nParklife Festival\n13 – 15 Jun | Manchester\, UK\nIsle of Wight Festival\n19 Jun – 22 Jun | Newport\, UK\n		\n			\n\n				\n				\n					Search for:
URL:https://europebookings.com/festival/soenda-indoor-festival/
LOCATION:Werkspoorkathedraal Utrecht\, Tractieweg 41\, Utrecht\, 3534 AP\, Netherlands
CATEGORIES:Electronic,House,Techno
ATTACH;FMTTYPE=image/jpeg:https://europebookings.com/wp-content/uploads/soenda-indoor-festival-stage-lights-show.jpg
END:VEVENT
END:VCALENDAR