BEGIN:VCALENDAR
VERSION:2.0
PRODID:-//Europebookings - ECPv6.15.20//NONSGML v1.0//EN
CALSCALE:GREGORIAN
METHOD:PUBLISH
X-WR-CALNAME:Europebookings
X-ORIGINAL-URL:https://europebookings.com
X-WR-CALDESC:Events for Europebookings
REFRESH-INTERVAL;VALUE=DURATION:PT1H
X-Robots-Tag:noindex
X-PUBLISHED-TTL:PT1H
BEGIN:VTIMEZONE
TZID:Asia/Nicosia
BEGIN:DAYLIGHT
TZOFFSETFROM:+0200
TZOFFSETTO:+0300
TZNAME:EEST
DTSTART:20240331T010000
END:DAYLIGHT
BEGIN:STANDARD
TZOFFSETFROM:+0300
TZOFFSETTO:+0200
TZNAME:EET
DTSTART:20241027T010000
END:STANDARD
BEGIN:DAYLIGHT
TZOFFSETFROM:+0200
TZOFFSETTO:+0300
TZNAME:EEST
DTSTART:20250330T010000
END:DAYLIGHT
BEGIN:STANDARD
TZOFFSETFROM:+0300
TZOFFSETTO:+0200
TZNAME:EET
DTSTART:20251026T010000
END:STANDARD
BEGIN:DAYLIGHT
TZOFFSETFROM:+0200
TZOFFSETTO:+0300
TZNAME:EEST
DTSTART:20260329T010000
END:DAYLIGHT
BEGIN:STANDARD
TZOFFSETFROM:+0300
TZOFFSETTO:+0200
TZNAME:EET
DTSTART:20261025T010000
END:STANDARD
END:VTIMEZONE
BEGIN:VEVENT
DTSTART;VALUE=DATE:20250613
DTEND;VALUE=DATE:20250616
DTSTAMP:20260421T060331
CREATED:20190503T175406Z
LAST-MODIFIED:20250207T161250Z
UID:19941-1749772800-1750031999@europebookings.com
SUMMARY:Best Kept Secret
DESCRIPTION:Get TicketsAccommodationTravel Info\nBest Kept Secret Festival 2025: A Sonic Escape to the Heart of the Netherlands \nMark your calendars for Best Kept Secret Festival 2025\, taking place from June 13-15 at the picturesque Beekse Bergen in Hilvarenbeek\, Netherlands. Known for its eclectic blend of indie\, rock\, and electronic music\, this festival is a haven for music enthusiasts looking to discover both big-name artists and hidden gems in an enchanting natural setting. \nThe 2025 edition promises an exciting lineup\, featuring top international acts as well as emerging talents across multiple genres. Previous years have seen performances by artists like Arctic Monkeys\, The National\, and LCD Soundsystem\, so 2025 is expected to deliver a similarly diverse and high-caliber roster. Surrounded by lakes and forests\, the festival’s location adds to the magical atmosphere\, making every performance feel intimate and unforgettable. \nWhat truly sets Best Kept Secret apart is its focus on creating a unique experience for attendees\, from top-notch music to gourmet food stalls and innovative art installations. Whether you’re a seasoned festival-goer or a first-timer\, this event promises an unparalleled weekend of discovery\, connection\, and incredible performances. Secure your tickets now and prepare for an unforgettable summer festival adventure! \n\nBest Kept Secret 2025 Lineup\nAll ArtistsBarry Can’t Swim / Big Special / Blanco White / Brass Rave Unit / Brihang / Caribou / Cassandra Jenkins / Deftones / Djo / Divorce / Dummy / Droom Dit / Elephant / Eefje De Visser / Fcukers / Fat Dog / Gouge Away / Jasmine.4.t / Kabeaushé / Khana Bierbood / King Hannah / Kin’Gongolo Kiniata / Kneecap / Lander & Adriaan / L’Impératrice / Magdalena Bay / Michael Kiwanuka / Nia Archives / Nilüfer Yanya / Paceshifters / Personal Trainer / Pigs Pigs Pigs Pigs Pigs Pigs Pigs / Sailor Honeymoon / Seun Kuti & Egypt 80 / Split System / The Backseat Lovers / The Dare / The Pill / The Thing / This Is Lorelei / TV On The Radio / TVOD / Waxahatchee / WITCH / Wilco / Wine Lips / and many moreBest Kept Secret 2025 Tickets\nWeekend Tickets from €270.00 are on sale:\nTickets\nBest Kept Secret\nvia Official Site \nBookAccommodation\nCamping during the festival requires a Weekend Ticket with Camping purchased here. All you need is basic camping gear\, like a tent\, a camping pad and a head torch (so useful in the night). If you don’t feel like dragging your tent\, the festival offers Premium camping options. \nAlternatively\, you can book nearby hotels & apartments using map below or visit booking.com \nBook Hotels & Airbnbs near the Venue at the Lowest Price online!\n\nTravel Info\nBY CAR\nDay & Weekend Parking tickets at €25.00 can be purchased here \nGet DirectionsBY TRAIN\nTilburg Central Station is well connected to the rest of Holland as well as Belgium. Once you arrive\, the festival will be running shuttle buses to the festival. \nBY PLANE\nIf you’re flying to the festival\, your options are Amsterdam\, Eindhoven\, Antwerp or Brussels\, depending on which is easiest for you. From each\, take a train to Tilburg Central Station and catch one of the festival shuttle buses direct to the site. \nBook FlightsAirport TransfersCar RentalsTrain/Bus Tickets\nGallery\nRelated Festivals\nDownload Festival\n12 Jun – 14 Jun | Derby\, UK\nLytham Festival\n1 Jul – 5 Jul | Lytham Green\, UK\n		\n			\n\n				\n				\n					Search for:
URL:https://europebookings.com/festival/best-kept-secret/
LOCATION:Safaripark Beekse Bergen\, Safaripark Beekse Bergen\, Beekse Bergen\, Hilvarenbeek\, 5081\, Netherlands
CATEGORIES:Indie,Rock
ATTACH;FMTTYPE=image/jpeg:https://europebookings.com/wp-content/uploads/best-kept-secret-festival-stage-lights.jpg
END:VEVENT
END:VCALENDAR