BEGIN:VCALENDAR
VERSION:2.0
PRODID:-//Europebookings - ECPv6.15.20//NONSGML v1.0//EN
CALSCALE:GREGORIAN
METHOD:PUBLISH
X-WR-CALNAME:Europebookings
X-ORIGINAL-URL:https://europebookings.com
X-WR-CALDESC:Events for Europebookings
REFRESH-INTERVAL;VALUE=DURATION:PT1H
X-Robots-Tag:noindex
X-PUBLISHED-TTL:PT1H
BEGIN:VTIMEZONE
TZID:Asia/Nicosia
BEGIN:DAYLIGHT
TZOFFSETFROM:+0200
TZOFFSETTO:+0300
TZNAME:EEST
DTSTART:20240331T010000
END:DAYLIGHT
BEGIN:STANDARD
TZOFFSETFROM:+0300
TZOFFSETTO:+0200
TZNAME:EET
DTSTART:20241027T010000
END:STANDARD
BEGIN:DAYLIGHT
TZOFFSETFROM:+0200
TZOFFSETTO:+0300
TZNAME:EEST
DTSTART:20250330T010000
END:DAYLIGHT
BEGIN:STANDARD
TZOFFSETFROM:+0300
TZOFFSETTO:+0200
TZNAME:EET
DTSTART:20251026T010000
END:STANDARD
BEGIN:DAYLIGHT
TZOFFSETFROM:+0200
TZOFFSETTO:+0300
TZNAME:EEST
DTSTART:20260329T010000
END:DAYLIGHT
BEGIN:STANDARD
TZOFFSETFROM:+0300
TZOFFSETTO:+0200
TZNAME:EET
DTSTART:20261025T010000
END:STANDARD
END:VTIMEZONE
BEGIN:VEVENT
DTSTART;VALUE=DATE:20250705
DTEND;VALUE=DATE:20250706
DTSTAMP:20260421T045149
CREATED:20191013T214456Z
LAST-MODIFIED:20250208T090452Z
UID:24776-1751673600-1751759999@europebookings.com
SUMMARY:Dreamfields Festival
DESCRIPTION:Get TicketsAccommodationTravel Info\nDreamfields Festival 2025 is set to captivate electronic music enthusiasts on July 5th at the stunning Recreational Area Rhederlaag in Lathum\, Netherlands. Known for its extraordinary production standards\, Dreamfields transforms into an immersive wonderland\, blending breathtaking stage designs with cutting-edge sound and lighting ￼ ￼. \nThe festival consistently delivers an impressive lineup\, and while 2025’s artists are yet to be announced\, past lineups have featured global icons like Lost Fuente\, Freddy Moreira\, and Oliver Heldens. These artists have previously energized crowds with their electrifying performances\, making Dreamfields a premier destination for dance music lovers ￼. \nAttendees can expect a diverse range of activities beyond the music. Enjoy gourmet food and drinks\, unwind in the chill zones\, or partake in exciting water sports by the lake. The festival’s commitment to offering a holistic experience ensures there’s something for everyone\, whether you’re there to dance\, relax\, or explore new activities ￼. \nDreamfields Festival 2025 promises a magical experience where music\, art\, and community unite. Don’t miss your chance to be part of this unforgettable celebration of electronic music culture in the heart of the Netherlands. \n\nDreamfields Festival 2025 Lineup\nAll ArtistsAdjuzt / Adaro & Rejecta / Adrenalize / Afro Bros / Aversion Live / Bilal Wahib / Coldax & Dark Entities / Cynthia Spiering / Cyber / Die Ene Sjors / DJ Patjoo / D-Block & S-te-Fan / Dual Damage / Fiene / Galactixx / Housequake / Infliction vs Unload / Jay Reeve & Solstice / Joey Maarse / Karim Soliman / KELLAR / Kris Kross Amsterdam / La Fuente / Luca v/d Hombergh / Michael Amani / Nicky Romero / Outsiders / Paul Elstak / RSCL / Senders / Sonny Wern / Sylvie Thijs / The Rocketman / The Straikerz / Tim Hox / Tino Martin / Trobi / VE/RA / Vince Smix / WeDamnz / and many moreDreamfields Festival 2025 Tickets\nRegular & VIP Tickets from €60.00 are on sale:\nTicketsDreamfields Festival\nvia Official SiteBookAccommodation\nThe city of Lathum and nearby areas offer a wide range of accommodation options. Book your stay for Dreamfields Festival using the map below or visit booking.com \nBooking.comBook Hotels & Airbnbs near the Venue at the Lowest Price online!\n\nTravel Info\nBY CAR\nFor those driving\, there will be clear signposts to the various car parks or drop-off points as you approach the festival site. Parking tickets cost £10 in advance\, and £20 on the gate. \nGet DirectionsBY BUS\nCoach Travel packages are available from partnered bus tour operators and offer direct transportation from major cities in the Netherlands\, Germany and Belgium. Get in the luxury coaches of one of the festival’s bus partners:\nPartybussen.nl\nEvent Travel\nParty-Vervoer.nl\nHardTours (DE) \nFESTIVAL SHUTTLE BUS\nThe festival will be operating shuttle services from Arnhem Central Station to and from the festival. \nBY TRAIN\nYou can take intercity trains from most major cities around the Netherlands directly to Arnhem Central Station. Official festival shuttles will be available to transfer visitors to and from the festival. \nBY PLANE\nThe nearest airport is Amsterdam Schiphol Airport (AMS). From the airport you can take the train to Arnhem Central Station. \nBook FlightsAirport TransfersCar RentalsTrain/Bus Tickets\nGallery\nRelated Festivals\nEmporium Festival\n24 May | Wijchen\, Netherlands\nIntents Festival\n30 May – 1 Jun | Oisterwijk\, Netherlands\n		\n			\n\n				\n				\n					Search for:
URL:https://europebookings.com/festival/dreamfields-festival/
LOCATION:Muggenwaard Lathum\, Dreamfields Festival\, Rhederlaag\, Lathum\, 6988 BG\, Netherlands
CATEGORIES:Hardstyle,Urban
ATTACH;FMTTYPE=image/jpeg:https://europebookings.com/wp-content/uploads/dreamfields-festival-fireworks.jpg
END:VEVENT
END:VCALENDAR