BEGIN:VCALENDAR
VERSION:2.0
PRODID:-//Europebookings - ECPv6.15.20//NONSGML v1.0//EN
CALSCALE:GREGORIAN
METHOD:PUBLISH
X-WR-CALNAME:Europebookings
X-ORIGINAL-URL:https://europebookings.com
X-WR-CALDESC:Events for Europebookings
REFRESH-INTERVAL;VALUE=DURATION:PT1H
X-Robots-Tag:noindex
X-PUBLISHED-TTL:PT1H
BEGIN:VTIMEZONE
TZID:Asia/Nicosia
BEGIN:DAYLIGHT
TZOFFSETFROM:+0200
TZOFFSETTO:+0300
TZNAME:EEST
DTSTART:20240331T010000
END:DAYLIGHT
BEGIN:STANDARD
TZOFFSETFROM:+0300
TZOFFSETTO:+0200
TZNAME:EET
DTSTART:20241027T010000
END:STANDARD
BEGIN:DAYLIGHT
TZOFFSETFROM:+0200
TZOFFSETTO:+0300
TZNAME:EEST
DTSTART:20250330T010000
END:DAYLIGHT
BEGIN:STANDARD
TZOFFSETFROM:+0300
TZOFFSETTO:+0200
TZNAME:EET
DTSTART:20251026T010000
END:STANDARD
BEGIN:DAYLIGHT
TZOFFSETFROM:+0200
TZOFFSETTO:+0300
TZNAME:EEST
DTSTART:20260329T010000
END:DAYLIGHT
BEGIN:STANDARD
TZOFFSETFROM:+0300
TZOFFSETTO:+0200
TZNAME:EET
DTSTART:20261025T010000
END:STANDARD
END:VTIMEZONE
BEGIN:VEVENT
DTSTART;VALUE=DATE:20250830
DTEND;VALUE=DATE:20250831
DTSTAMP:20260421T031107
CREATED:20200310T170716Z
LAST-MODIFIED:20250130T133031Z
UID:34348-1756512000-1756598399@europebookings.com
SUMMARY:Ground Zero Festival
DESCRIPTION:Get TicketsAccommodationTravel Info\nGround Zero Festival 2025 – The Ultimate Night for Hardcore Fans \nGet ready for Ground Zero Festival 2025\, the hardest night festival in Europe\, taking place on 30th August at Bussloo Recreational Area\, Netherlands. As the only all-night festival dedicated entirely to hardcore\, uptempo\, frenchcore\, and industrial sounds\, Ground Zero has established itself as the go-to event for fans of the hardest styles. Running from dusk till dawn\, this festival transforms the scenic lakeside setting of Bussloo into a dark\, high-energy world\, where thousands of ravers gather to experience the most intense beats. \nThis event offers a multi-sensory experience\, with world-class DJs performing across multiple stages\, accompanied by mesmerizing light shows and cutting-edge production. Expect top names in hardcore and uptempo music alongside underground legends\, creating a diverse yet cohesive line-up that will keep you dancing all night long. Ground Zero’s distinctive vibe and powerful atmosphere make it an essential experience for fans of the harder styles. \nFrom its immersive setting to its relentless energy\, Ground Zero Festival 2025 promises a unique and unforgettable night for hardcore fans across Europe. Don’t miss your chance to be part of this ultimate rave experience! \n\nGround Zero Festival 2025 Lineup\nLineup to be announced soon: \n2024 LineupAnime / Catscan / Dimitri K / Dr. Peacock / Drokz / Major Conspiracy / Marc Acardipane / Miss K8 / N-Vitral / Partyraiser / The Dark Horror / The Destroyer / The Dj Producer / Thrasher / and many moreGround Zero Festival 2025 Tickets\nEntrance & VIP Tickets from €69.75 are on sale:\nTicketsGround Zero Festival\nvia Official SiteBookAccommodation\nThe city of Bussloo and nearby areas offer a wide range of accommodation options. Book your stay using the map below or visit booking.com \nBook Hotels & Airbnbs near the Venue at the Lowest Price online!\n\nTravel Info\nBY CAR\nParking is available and tickets can be purchased here \nGet DirectionsBY COACH\nBook your Coach Travel to the festival from:\nFeierreissen [DE]\nHardtours [DE]\nAkkros [FR]\nFestimove [FR] \nBY TRAIN\nTake the train to Apeldoorn station. From this station a shuttle service will commute to and from the Ground Zero festival grounds. \nBY SHUTTLE BUS\nShuttle buses will commute between Apeldoorn Train Station and the festival site (25 min journey) from 8:30PM onwards.\nTo the festivalgrounds: 19:00 – 00:00 Hours\nFrom the festivalgrounds: 05:30 – 09:00 Hours \nBY TAXI\nThere is a special taxi-stand at the festival site. The stand is clearly indicated and is easily accessible for both visitors as well as taxi drivers. \nBY BICYCLE\nIf you come to Ground Zero by bike or scooter\, you can make use of the bicycle parking. The bicycle parking\, located near the entrance of the event\, is free of charge\, but not monitored. \nBY PLANE\nThe nearest airport is Amsterdam Schipol (AMS). From here take the train to Apeldoorn (1h 10 min journey). Once here you can take a train to Station Voorst-Empe (13 min journey) before catching a 507 bus to the festival (7 min journey)\, or take the festival’s shuttle bus. \nBook FlightsAirport TransfersCar RentalsTrain/Bus Tickets\nGallery\nRelated Festivals\nDecibel Outdoor\n15 Jun – 17 Aug | Hilvarenbeek\, Netherlands\nDreamfields Festival\n5 Jul | Lathum\, Netherlands\n		\n			\n\n				\n				\n					Search for:
URL:https://europebookings.com/festival/ground-zero-festival/
LOCATION:Bussloo Recreation Area\, Bussloo Recreation Area\, Kneuterstraat 13\, CM Wilp\, 7384\, Netherlands
CATEGORIES:Electronic,Hardcore,Hardstyle
ATTACH;FMTTYPE=image/jpeg:https://europebookings.com/wp-content/uploads/ground-zero-festival-stage-lights-show.jpg
END:VEVENT
END:VCALENDAR