BEGIN:VCALENDAR
VERSION:2.0
PRODID:-//Europebookings - ECPv6.15.20//NONSGML v1.0//EN
CALSCALE:GREGORIAN
METHOD:PUBLISH
X-ORIGINAL-URL:https://europebookings.com
X-WR-CALDESC:Events for Europebookings
REFRESH-INTERVAL;VALUE=DURATION:PT1H
X-Robots-Tag:noindex
X-PUBLISHED-TTL:PT1H
BEGIN:VTIMEZONE
TZID:Asia/Nicosia
BEGIN:DAYLIGHT
TZOFFSETFROM:+0200
TZOFFSETTO:+0300
TZNAME:EEST
DTSTART:20250330T010000
END:DAYLIGHT
BEGIN:STANDARD
TZOFFSETFROM:+0300
TZOFFSETTO:+0200
TZNAME:EET
DTSTART:20251026T010000
END:STANDARD
BEGIN:DAYLIGHT
TZOFFSETFROM:+0200
TZOFFSETTO:+0300
TZNAME:EEST
DTSTART:20260329T010000
END:DAYLIGHT
BEGIN:STANDARD
TZOFFSETFROM:+0300
TZOFFSETTO:+0200
TZNAME:EET
DTSTART:20261025T010000
END:STANDARD
BEGIN:DAYLIGHT
TZOFFSETFROM:+0200
TZOFFSETTO:+0300
TZNAME:EEST
DTSTART:20270328T010000
END:DAYLIGHT
BEGIN:STANDARD
TZOFFSETFROM:+0300
TZOFFSETTO:+0200
TZNAME:EET
DTSTART:20271031T010000
END:STANDARD
END:VTIMEZONE
BEGIN:VEVENT
DTSTART;VALUE=DATE:20260710
DTEND;VALUE=DATE:20260713
DTSTAMP:20260420T192055
CREATED:20210310T220213Z
LAST-MODIFIED:20251121T144841Z
UID:43105-1783641600-1783900799@europebookings.com
SUMMARY:Awakenings Festival
DESCRIPTION:Get TicketsAccommodationTravel Info\nAwakenings Festival 2026 will once again set the techno world ablaze\, returning to the green fields of Hilvarenbeek\, Netherlands\, for a weekend of pure rhythm\, power\, and precision. Recognised globally as the ultimate pilgrimage for techno lovers\, Awakenings combines world-class production\, breathtaking stage design\, and an expertly curated line-up of the genre’s finest artists — a gathering where sound becomes energy and every beat feels like electricity in the air. \nSince its founding in 1997\, Awakenings has grown from an underground movement into a global symbol of techno culture. What began as intimate events in Amsterdam’s iconic Gashouder has evolved into a monumental open-air experience that welcomes over 100\,000 visitors each year. Every edition reflects the pulse of modern electronic music — celebrating both legendary pioneers and the next generation of boundary-pushing artists. \nThe 2026 edition is expected to deliver another unmatched roster of global techno talent. While the full line-up has yet to be revealed\, past editions have featured performances from the scene’s most respected names\, including Adam Beyer\, Amelie Lens\, Charlotte de Witte\, Reinier Zonneveld\, Carl Cox\, Nina Kraviz\, Dax J\, ANNA\, Joseph Capriati\, Peggy Gou\, Ben Klock\, Tale of Us\, and Len Faki. With its signature blend of driving rhythms\, hypnotic melodies\, and industrial soundscapes\, Awakenings 2026 will once again stand as a masterclass in techno excellence. \nBeyond the music\, Awakenings is a multi-sensory experience — from towering LED structures and immersive light tunnels to the deep bass vibrations that ripple through the air. Its new home in Hilvarenbeek offers an expansive natural setting where forest\, water\, and sky merge with technology\, creating an atmosphere that is both raw and transcendent. \nWith its flawless production\, legendary sound\, and unmatched devotion to techno culture\, Awakenings Festival 2026 promises to once again redefine what an electronic music festival can be — a euphoric fusion of nature\, innovation\, and rhythm that unites thousands of hearts to one unstoppable beat. \n\nAwakenings Festival 2026 Lineup\nLineup to be announced soon: \n2025 Lineup\nFri 11 Jul 2025\nAdriatique / Alex Wann / Âme (Live) / Ben Böhmer (Live) / Dixon & Jimi Jules / Eli Brown / Estella Boersma / FJAAK / Freddy K / Funk Assault / Indira Paganotto / KASIA / Reinier Zonneveld (Live) / Sara Landry / The Lady Machine / TWIENA / Yulia Niko \nSat 12 Jul 2025\nAdam Beyer / Azyr / Ben Klock / Benwal / Carl Cox / Carmen Lisa / Cincity / Clara Cuvé / Damian Lazarus / Daria Kolosova / DIØN / DJ Rush / Ellen Allien / Fatima Hajji / Hot Since 82 & Prunk / Innellea / Izee & Orleus / Jamie Jones & Joseph Capriati / Joris Voorn / Josh Baker & Rossi. / Kettama / Kevin de Vries / Kobosil / LAMMER / LB Aka Labat / Len Faki / Locus Error / M-high / Mau P / Mind Against / Miss Monique / Pegassi / Recondite (Live) / Richie Hawtin / Setaoc Mass / Shimza / Siren333 / Vera Grace / Vintage Culture / VNTM (Live) / VTSS / Wakyin / X CLUB. \nSun 13 Jul 2025\n6EJOU (Live) / 999999999 / Alan Fitzpatrick (Live) / AnD (Live) / Anfisa Letyago / Bart Skils / Bullzeye & Secret Cinema / CARLITA / Charlotte de Witte / Chris Stussy / Delano Legito / DJ Gigola / DJ Nobu / Elli Acula / Enrico Sangiuliano / Funk Tribu / Hyperaktivist / I Hate Models / Inox Traxx / Joëlla Jackson / Joyhauser / Luuk van Dijk (Live) / Marco Carola / Marrøn / Mha Iri / Milo Spykers / Nina Kraviz / Novah / ØTTA / Pan-Pot / Turbulence (Space 92 & POPOF) / Rødhåd / The Martinez BrothersAwakenings Festival 2026 Tickets\nTickets\nAwakenings Festival\nvia Official Site \nBookAccommodation\nWeekend tickets grant access to the festival and campsite. All you need is basic camping gear\, like a tent\, a camping pad and a head torch (so useful in the night). If you don’t want to bring your own tent the festival offers Premium Camping options purchased here \nAlternatively\, you can book nearby hotels and apartments using the map below or visit booking.com \nBook Hotels & Airbnbs near the Venue at the Lowest Price online!\n\nTravel Info\nBY CAR\nGet DirectionsBY TRAIN\nFrom Amsterdam Centraal Station take the train to Hertogenbosch (55 min journey) and from there take the train to Tilburg (15 min journey). From Tilburg Centraal Station take the bus to Hilvarenbeek\, Safaripark (15 min journey). \nBY PLANE\nThe nearest airport is Amsterdam Schiphol Airport (AMS). From the airport take the train to Breda (55 min journey) and from there\, take the train to Tilburg (15 min journey). From Tilburg Centraal Station take the bus to Hilvarenbeek\, Safaripark (15 min journey). \nBook FlightsAirport TransfersCar RentalsTrain/Bus Tickets\nGallery\nRelated Festivals\nDGTL Amsterdam\n3 Apr – 5 Apr | Amsterdam\, Netherlands\nFree Your Mind Festival\n6 Jun – 7 Jun | Utrecht\, Netherlands\n		\n			\n\n				\n				\n					Search for:
URL:https://europebookings.com/festival/awakenings-festival/
LOCATION:Hilvarenbeek\, Hilvarenbeek\, Netherlands
CATEGORIES:Electronic,House,Techno
ATTACH;FMTTYPE=image/jpeg:https://europebookings.com/wp-content/uploads/awakenings-summer-festival-fireworks.jpg
END:VEVENT
END:VCALENDAR