BEGIN:VCALENDAR
VERSION:2.0
PRODID:-//Europebookings - ECPv6.15.20//NONSGML v1.0//EN
CALSCALE:GREGORIAN
METHOD:PUBLISH
X-ORIGINAL-URL:https://europebookings.com
X-WR-CALDESC:Events for Europebookings
REFRESH-INTERVAL;VALUE=DURATION:PT1H
X-Robots-Tag:noindex
X-PUBLISHED-TTL:PT1H
BEGIN:VTIMEZONE
TZID:Asia/Nicosia
BEGIN:DAYLIGHT
TZOFFSETFROM:+0200
TZOFFSETTO:+0300
TZNAME:EEST
DTSTART:20240331T010000
END:DAYLIGHT
BEGIN:STANDARD
TZOFFSETFROM:+0300
TZOFFSETTO:+0200
TZNAME:EET
DTSTART:20241027T010000
END:STANDARD
BEGIN:DAYLIGHT
TZOFFSETFROM:+0200
TZOFFSETTO:+0300
TZNAME:EEST
DTSTART:20250330T010000
END:DAYLIGHT
BEGIN:STANDARD
TZOFFSETFROM:+0300
TZOFFSETTO:+0200
TZNAME:EET
DTSTART:20251026T010000
END:STANDARD
BEGIN:DAYLIGHT
TZOFFSETFROM:+0200
TZOFFSETTO:+0300
TZNAME:EEST
DTSTART:20260329T010000
END:DAYLIGHT
BEGIN:STANDARD
TZOFFSETFROM:+0300
TZOFFSETTO:+0200
TZNAME:EET
DTSTART:20261025T010000
END:STANDARD
END:VTIMEZONE
BEGIN:VEVENT
DTSTART;VALUE=DATE:20250806
DTEND;VALUE=DATE:20250810
DTSTAMP:20260420T011555
CREATED:20230917T185552Z
LAST-MODIFIED:20250206T124525Z
UID:73898-1754438400-1754783999@europebookings.com
SUMMARY:Oyafestivalen
DESCRIPTION:Get TicketsAccommodationTravel Info\nØya Festival 2025 – Oslo’s Sustainable Music Haven \nFrom 6th to 9th August 2025\, Øya Festival returns to the lush Tøyen Park in Oslo\, bringing four days of incredible live music from global superstars and local talents alike. Known as one of Norway’s largest outdoor festivals\, Øya features a diverse line-up that spans genres like indie\, rock\, electronic\, and pop. Past headliners include Gorillaz\, Lana Del Rey\, and Robyn\, and the 2025 edition promises to be just as impressive. \nBut Øya is more than just music. Proudly hailed as the “world’s greenest festival\,” it leads the way in sustainability by running on renewable energy and maintaining eco-friendly practices\, such as banning single-use plastics and serving organic\, locally-sourced food. This dedication to the environment sets Øya apart as a pioneer in green festival experiences. \nLocated just minutes from central Oslo\, the festival’s scenic park setting offers a perfect blend of urban energy and natural beauty. Whether you’re dancing to your favourite band or enjoying the sustainable food stalls\, Øya Festival 2025 promises an unforgettable experience! \n\nOyafestivalen 2025 Lineup\nAll ArtistsAmenra / Ane Brun / Anna Lille / Anna of the North / Arp Frique & The Perpetual Singers / Beth Gibbons / Brenn. / Chappell Roan / Charli XCX / Charlie Skien / Daniel Romano’s Outfit / Envy / Erlend Ropstad / Fontaines D.C. / Geordie Greep / GiddyGang & Vuyo / Girl in Red / Hermanos Gutiérrez / Honningbarna / Isah / KLIKK9 / Kelly Lee Owens / Khruangbin / Kneecap / Lola Young / MJ Lenderman and the Wind / Mk.gee / Montell Fish / Musti / Nilüfer Yanya / No. 4 / Pa Salieu / Queens of the Stone Age / RABO / Ramón / Refused / The Chats / The Impossible Green / The Mary Wallopers / Veslemøy Narvesen / Wet LegOyafestivalen 2025 Tickets\nWeek Pass Tickets from NOK 4084.00 (€342.51) are on sale:\nTicketsØyafestivalen\nvia TicketmasterBookAccommodation\nThe city of Oslo offers a wide range of accommodation options. Book your stay using the map below or visit booking.com \nBook Hotels & Airbnbs near the Venue at the Lowest Price online!\n\nTravel Info\nBY CAR\nGet DirectionsBY TRAIN\nOslo Central Station is accessible from most Norwegian and Swedish cities but may require a transfer along the way. Upon arrival take the 5 or 1 metro line and get off at Tøyen. The venue is a 5 minute walk east from the metro station. \nBY PLANE\nThe nearest airport is Oslo Airport (OSL). Upon arrival take the F2\, F1x or F1 train to Oslo Central Station. From there transfer to the 5 or 1 metro line and get off at Tøyen. The venue is a 5 minute walk east from the metro station. \nBook FlightsAirport TransfersCar RentalsTrain/Bus Tickets\nGallery\nRelated Festivals\nDownload Festival\n12 Jun – 14 Jun | Derby\, UK\nLytham Festival\n1 Jul – 5 Jul | Lytham Green\, UK\n		\n			\n\n				\n				\n					Search for:
URL:https://europebookings.com/festival/oyafestivalen/
LOCATION:Tøyen Park\, Tøyen Park\, Helgesens gate 90\, Oslo\, 0563\, Norway
CATEGORIES:Alternative,Indie,Multi-Genre,Rock
ATTACH;FMTTYPE=image/jpeg:https://europebookings.com/wp-content/uploads/oya-festival-ora-the-molecule-performing.jpg
END:VEVENT
END:VCALENDAR