BEGIN:VCALENDAR
VERSION:2.0
PRODID:-//Europebookings - ECPv6.15.20//NONSGML v1.0//EN
CALSCALE:GREGORIAN
METHOD:PUBLISH
X-ORIGINAL-URL:https://europebookings.com
X-WR-CALDESC:Events for Europebookings
REFRESH-INTERVAL;VALUE=DURATION:PT1H
X-Robots-Tag:noindex
X-PUBLISHED-TTL:PT1H
BEGIN:VTIMEZONE
TZID:Asia/Nicosia
BEGIN:DAYLIGHT
TZOFFSETFROM:+0200
TZOFFSETTO:+0300
TZNAME:EEST
DTSTART:20240331T010000
END:DAYLIGHT
BEGIN:STANDARD
TZOFFSETFROM:+0300
TZOFFSETTO:+0200
TZNAME:EET
DTSTART:20241027T010000
END:STANDARD
BEGIN:DAYLIGHT
TZOFFSETFROM:+0200
TZOFFSETTO:+0300
TZNAME:EEST
DTSTART:20250330T010000
END:DAYLIGHT
BEGIN:STANDARD
TZOFFSETFROM:+0300
TZOFFSETTO:+0200
TZNAME:EET
DTSTART:20251026T010000
END:STANDARD
BEGIN:DAYLIGHT
TZOFFSETFROM:+0200
TZOFFSETTO:+0300
TZNAME:EEST
DTSTART:20260329T010000
END:DAYLIGHT
BEGIN:STANDARD
TZOFFSETFROM:+0300
TZOFFSETTO:+0200
TZNAME:EET
DTSTART:20261025T010000
END:STANDARD
END:VTIMEZONE
BEGIN:VEVENT
DTSTART;VALUE=DATE:20250411
DTEND;VALUE=DATE:20250414
DTSTAMP:20260422T142801
CREATED:20210621T192930Z
LAST-MODIFIED:20250207T132245Z
UID:44752-1744329600-1744588799@europebookings.com
SUMMARY:Sónar Lisboa
DESCRIPTION:Get TicketsAccommodationTravel Info\nSónar Lisboa 2025 promises an extraordinary experience from April 11th to 13th in the vibrant heart of Lisbon. This pioneering festival seamlessly blends cutting-edge electronic music\, digital arts\, and innovative technology\, creating an immersive environment that stimulates all senses. \nRenowned for its eclectic lineup\, Sónar Lisboa 2025 will feature performances from top international artists\, including 2manydjs\, Sevdaliza\, and Helena Hauff b2b Imogen. Expect an electrifying mix of techno\, house\, and experimental sounds that will keep you dancing day and night. The festival’s unique format includes Sónar by Day\, held at the picturesque Parque Eduardo VII\, and Sónar by Night\, transforming Pavilhão Carlos Lopes into a pulsating nightlife hub. \nSónar Lisboa is more than just music; it’s a celebration of creativity and innovation. The Sónar+D program offers workshops\, talks\, and interactive installations\, showcasing the latest in digital culture and creative technologies. This festival is perfect for those who seek inspiration and want to explore the intersection of art\, music\, and technology. \nJoin thousands of music enthusiasts and digital creatives for a weekend of unforgettable performances\, groundbreaking ideas\, and vibrant community spirit. Secure your tickets now and be part of the Sónar Lisboa 2025 experience. \n\nSónar Lisboa 2025 Lineup\nAll Artists & Program\nSónar by Day\nAmor Satyr & Siu Mata / BANU / BASHKKA b2b Ogazón / The Blaze DJ Set / Bitter Babe / Clementaum / Dee Diggs / DJ Firmeza b2b Nick León / Gabber Eleganza Presents ‘The Hakke Show’ / Hagan / ISAbella / Jeff Mills / Josh Caffé Live / Juliana Huxtable / KI/KI / King Kami & João Parente AV / DJ Lomalinda / Lua de Santana / DJ Lycox / Maki / Maria Callapez / Max Cooper Presents ‘Lattice 3D/AV’ / Molero / Mu540 / DJ Narciso / NOIA / Or:la / Pedro da Linha / Quant / Rita Vian / Saint Caboclo / San Farafina / Sheri Vari b2b Kemetic / Underworld / Valesuchi b2b RHR \nSónar by Night\nAnetha Presents ‘EXHIBIT’ / DJ Caring b2b Dexter / Héctor Oaks / JASSS / Jennifer Cardini / Marcel Dettmann Presents ‘My Own Shadow’ Live / Modeselektor DJ Set / Nina Kraviz / Richie Hawtin DEX EFX X0X / Telma / ZeynepSónar Lisboa 2025 Tickets\nFull Festival & VIP Pass Tickets from €95.00 are on sale:\nTicketsSónar Lisboa\nvia Official SiteBookSónar Festival\n12 Jun – 14 Jun | Barcelona\, Spain\nTICKETS ON SALE \nAccommodation\nThe city of Lisbon offers a wide range of accommodation options. Book your stay for Sónar Lisboa using the map below or visit booking.com \nBook Hotels & Airbnbs near the Venue at the Lowest Price online!\n\nTravel Info\nBY CAR\nGet DirectionsBY TRAIN\nLisbon is well connected by rail in Portugal and major European cities. \nBY PLANE\nFrom Lisbon Airport (LIS) you can take the bus or subway to the centre of Lisbon (15 min journey). \nBook FlightsAirport TransfersCar RentalsTrain/Bus Tickets\nGallery\nRelated Festivals\nLytham Festival\n2 Jul – 6 Jul | Lytham Green\, UK\nLeeds Festival\n21 Aug – 24 Aug | Leeds\, UK\n		\n			\n\n				\n				\n					Search for:
URL:https://europebookings.com/festival/sonar-lisboa/
LOCATION:Lisbon\, Lisbon\, Portugal
CATEGORIES:Electronic
ATTACH;FMTTYPE=image/jpeg:https://europebookings.com/wp-content/uploads/sonar-lisbon-stage-colours.jpg
END:VEVENT
END:VCALENDAR