BEGIN:VCALENDAR
VERSION:2.0
PRODID:-//Europebookings - ECPv6.15.20//NONSGML v1.0//EN
CALSCALE:GREGORIAN
METHOD:PUBLISH
X-ORIGINAL-URL:https://europebookings.com
X-WR-CALDESC:Events for Europebookings
REFRESH-INTERVAL;VALUE=DURATION:PT1H
X-Robots-Tag:noindex
X-PUBLISHED-TTL:PT1H
BEGIN:VTIMEZONE
TZID:Asia/Nicosia
BEGIN:DAYLIGHT
TZOFFSETFROM:+0200
TZOFFSETTO:+0300
TZNAME:EEST
DTSTART:20240331T010000
END:DAYLIGHT
BEGIN:STANDARD
TZOFFSETFROM:+0300
TZOFFSETTO:+0200
TZNAME:EET
DTSTART:20241027T010000
END:STANDARD
BEGIN:DAYLIGHT
TZOFFSETFROM:+0200
TZOFFSETTO:+0300
TZNAME:EEST
DTSTART:20250330T010000
END:DAYLIGHT
BEGIN:STANDARD
TZOFFSETFROM:+0300
TZOFFSETTO:+0200
TZNAME:EET
DTSTART:20251026T010000
END:STANDARD
BEGIN:DAYLIGHT
TZOFFSETFROM:+0200
TZOFFSETTO:+0300
TZNAME:EEST
DTSTART:20260329T010000
END:DAYLIGHT
BEGIN:STANDARD
TZOFFSETFROM:+0300
TZOFFSETTO:+0200
TZNAME:EET
DTSTART:20261025T010000
END:STANDARD
END:VTIMEZONE
BEGIN:VEVENT
DTSTART;VALUE=DATE:20250627
DTEND;VALUE=DATE:20250630
DTSTAMP:20260420T111725
CREATED:20230917T120721Z
LAST-MODIFIED:20250207T173405Z
UID:73808-1750982400-1751241599@europebookings.com
SUMMARY:Lisb-ON Jardim Sonoro
DESCRIPTION:Get TicketsAccommodationTravel Info\nLisb-ON Jardim Sonoro 2025: Lisbon’s Urban Sound Oasis \nImmerse yourself in the heart of Lisbon’s vibrant music scene at the Lisb-ON Jardim Sonoro 2025\, a festival that seamlessly blends urban energy with the tranquillity of nature. Set against the lush backdrop of Jardim Keil do Amaral in Monsanto\, this event offers a unique experience for music enthusiasts seeking both relaxation and rhythm. \nSince its inception\, Lisb-ON Jardim Sonoro has established itself as a cornerstone of Lisbon’s cultural calendar. Celebrated for its eclectic line-ups and commitment to sustainability\, the festival has grown into a beloved gathering that attracts both locals and international visitors. Its emphasis on environmental responsibility and cultural diversity sets it apart\, making each edition a harmonious blend of music and mindful celebration. \nPast editions have featured a diverse array of genres\, including house\, techno\, disco\, funk\, and soul. Attendees can anticipate performances from both renowned international artists and emerging local talents\, ensuring a dynamic musical journey throughout the festival. \nLisb-ON Jardim Sonoro is renowned for its vibrant and inclusive atmosphere. With multiple stages\, the festival integrates some of the most powerful international artists of indie rock\, world music\, reggae\, electronic music\, and hip-hop. The scenic surroundings of Monsanto\, combined with the city’s warm climate\, create a perfect setting for festival-goers to enjoy both the performances and the natural beauty of Lisbon. \nDon’t miss the chance to be part of this extraordinary event. Stay tuned for the official dates and prepare for a weekend filled with music\, culture\, and unforgettable memories at Lisb-ON Jardim Sonoro 2025! \n\nLisb-ON Jardim Sonoro 2025 Lineup\nAll ArtistsAdam Purnell / Adiel / ANOTR / Ben Böhmer / Berllioz / Claudio PRC / Daria / Daria Kolosova / Dede / Dennis Cruz / DJ Pete / DJ Tool / Gabrielle Kwarteng / Jean Mauj / Kaesar / Luisa / Maceo Plex / Maki / Mardel / Speedy J / Sugar Free / The Lady Machine / Tiago Cruz / Tijana T / and many moreLisb-ON Jardim Sonoro 2025 Tickets\n3-Day Pass Tickets from €€118\,80 are on sale:\nTickets\nLisb-ON Jardim Sonorovia See Tickets \nBookAccommodation\nThe city of Lisbon offers a wide range of accommodation options. Book your stay for Lisb-ON Jardim Sonoro Festival using the map below or visit booking.com \nBook Hotels & Airbnbs near the Venue at the Lowest Price online!\n\nTravel Info\nBY CAR\nGet DirectionsBY METRO & BUS\nTake the Metro to the “Sete Rios” station. From “Sete Rios”\, catch a bus heading towards Monsanto. You should inquire locally or check schedules to identify which bus route will get you closest to Keil do Amaral. \nBY TRAIN\nIf you’re traveling to Lisbon by train\, it’s likely that you’ll arrive at either “Santa Apolónia” or “Oriente” stations\, both being major international train stations in Lisbon. \nFrom Santa Apolónia: Take the Metro Blue Line from “Santa Apolónia” to “Jardim Zoológico” (Sete Rios) station. From “Sete Rios”\, you can catch a bus heading towards Monsanto. \nFrom Oriente: Take the Metro Red Line from “Oriente” to “São Sebastião” station.\nSwitch to the Blue Line at “São Sebastião” and travel to “Jardim Zoológico” (Sete Rios) station. Then\, from “Sete Rios”\, take a bus to Monsanto. \nFor both scenarios\, taxis and ride-sharing services are readily available at train stations if you prefer a more direct route. \nRemember to always check schedules for potential changes or delays. And if you’re using public transport\, the Viva Viagem card can be handy as it’s usable on buses\, trams\, and the metro. \nBY PLANE\nFrom Lisbon Airport (LIS) take the Metro Red Line to “São Sebastião” station. Switch to the Blue Line at “São Sebastião” and travel to “Jardim Zoológico” (also known as Sete Rios) station. From “Sete Rios”\, you can catch a bus heading towards Monsanto. \nTaxi or Ride-Sharing Services: From the airport\, you can easily find a taxi. Alternatively\, use ride-sharing services like Uber\, Bolt\, or Kapten. It’s roughly a 15-20 minute drive to Monsanto from the airport without traffic. \nAerobus has a line that goes from the airport to Sete Rios. From there\, you can take a bus to Monsanto. \nBook FlightsAirport TransfersCar RentalsTrain/Bus Tickets\nGallery\nRelated Festivals\nDGTL Amsterdam\n3 Apr – 5 Apr | Amsterdam\, Netherlands\nFree Your Mind Festival\n6 Jun – 7 Jun | Utrecht\, Netherlands\n		\n			\n\n				\n				\n					Search for:
URL:https://europebookings.com/festival/lisb-on-jardim-sonoro/
LOCATION:LISB-ON FESTIVAL\, LISB-ON FESTIVAL\, Estrada do Penedo\, Lisbon\, 1300-651\, Portugal
CATEGORIES:Electronic,House,Techno
ATTACH;FMTTYPE=image/jpeg:https://europebookings.com/wp-content/uploads/lisb-on-jardim-sonoro-festival-main-stage-view.jpg
END:VEVENT
END:VCALENDAR