BEGIN:VCALENDAR
VERSION:2.0
PRODID:-//Europebookings - ECPv6.15.20//NONSGML v1.0//EN
CALSCALE:GREGORIAN
METHOD:PUBLISH
X-WR-CALNAME:Europebookings
X-ORIGINAL-URL:https://europebookings.com
X-WR-CALDESC:Events for Europebookings
REFRESH-INTERVAL;VALUE=DURATION:PT1H
X-Robots-Tag:noindex
X-PUBLISHED-TTL:PT1H
BEGIN:VTIMEZONE
TZID:Asia/Nicosia
BEGIN:DAYLIGHT
TZOFFSETFROM:+0200
TZOFFSETTO:+0300
TZNAME:EEST
DTSTART:20240331T010000
END:DAYLIGHT
BEGIN:STANDARD
TZOFFSETFROM:+0300
TZOFFSETTO:+0200
TZNAME:EET
DTSTART:20241027T010000
END:STANDARD
BEGIN:DAYLIGHT
TZOFFSETFROM:+0200
TZOFFSETTO:+0300
TZNAME:EEST
DTSTART:20250330T010000
END:DAYLIGHT
BEGIN:STANDARD
TZOFFSETFROM:+0300
TZOFFSETTO:+0200
TZNAME:EET
DTSTART:20251026T010000
END:STANDARD
BEGIN:DAYLIGHT
TZOFFSETFROM:+0200
TZOFFSETTO:+0300
TZNAME:EEST
DTSTART:20260329T010000
END:DAYLIGHT
BEGIN:STANDARD
TZOFFSETFROM:+0300
TZOFFSETTO:+0200
TZNAME:EET
DTSTART:20261025T010000
END:STANDARD
END:VTIMEZONE
BEGIN:VEVENT
DTSTART;VALUE=DATE:20250806
DTEND;VALUE=DATE:20250810
DTSTAMP:20260420T030110
CREATED:20231218T135333Z
LAST-MODIFIED:20250205T205331Z
UID:76998-1754438400-1754783999@europebookings.com
SUMMARY:Sudoeste Festival
DESCRIPTION:Get TicketsAccommodationTravel Info\nSudoeste Festival 2025: Your Dream Music Getaway on Portugal’s Coast \nGet ready for Sudoeste Festival 2025\, set to take place from 6th to 9th August in the beautiful coastal town of Zambujeira do Mar\, Portugal. As one of the country’s largest and most iconic summer festivals\, Sudoeste combines the best of music\, beaches\, and camping\, delivering an unforgettable experience on the stunning Alentejo coast. Set in the vast open fields of Herdade da Casa Branca\, the festival has become a must for music lovers and summer adventurers alike. \nThe 2025 edition promises a diverse lineup of top international and Portuguese artists\, spanning pop\, electronic\, and hip-hop genres. With past headliners like Anitta and Martin Garrix\, expect world-class performances that will keep you dancing day and night. The festival’s stages\, including the renowned Super Bock and MEO stages\, offer an unbeatable blend of high-energy performances and state-of-the-art production\, set against the breathtaking natural beauty of Portugal’s coastline. \nBeyond the music\, Sudoeste offers a true festival experience with on-site camping\, beach access\, and plenty of opportunities to relax and explore the local area. Whether you’re a festival veteran or a first-timer\, Sudoeste 2025 is the perfect destination for sun\, sea\, and music! \n\nSudoeste 2025 Lineup\nAll Artists & Program\nThu 7 Aug 2025\nBárbara Bandeira / DJ Dadda / DubVision / Gama WNTD / Martin Garrix / Matuê / Shaka Lion / Soraia Tavares / Teezo Touchdown / Tems \nFri 8 Aug 2025\nCharlotte de Witte / Chico da Tina / Don Toliver / Holly / LUSU / Pérola / pikika / Red Bull Francamente / Rich the Kid / Van Zee \nSat 9 Aug 2025\nAnitta / Blazy / Brazy / Cíntia / Oxlade / Raba Rave by Blaya / Richie Campbell / Yang / ZenGxrl \nSun 10 Aug 2025\nAlok / Azart / Crusy / Da Weasel / Dr. Ushuu / Kappa Jotta / Kura / Lil Yachty / Mizzy Miles / Pedro da Linha / SleepyThePrinceSudoeste 2025 Tickets\n1-Day & 4-Day Tickets from €69.00 are on sale:\nTicketsMEO Sudoeste\nvia Official SiteBookAccommodation\nCamping during the festival is included only with a 4-Day Pass Ticket with Camping\, otherwise you need a Camping Ticket purchased here. All you need is basic camping gear\, like a tent\, a camping pad and a head torch (so useful in the night). \nAlternatively\, you can book nearby hotels and apartments using the map below or visit booking.com \nBook Hotels & Airbnbs near the Venue at the Lowest Price online!\n\nTravel Info\nBY CAR\nGet DirectionsBY TRAIN\nFuncheira\, the nearest railway station to the festival is served by Regional\, Intercity and Alfa trains departing daily from Lisbon’s Gare do Oriente station towards Faro. \nBY BUS\nRede Expressos guarantees services departing from Lisbon\, Porto and Braga directly to the venue of MEO SW\, during the days of the Festival. There are direct connections to Lisbon from the majority of cities in Portugal. Whenever justified\, Rede Expressos guarantees direct transportation from any departure point to the Zambujeira do Mar. \nBY PLANE\nThe two nearest airports to Sudoeste Festival are Faro to the south of the festival\, and Lisbon to the north. From Lisbon\, Porto and Braga you can travel directly to the festival site via Rede Expressos buses\, which run on each day of the festival. However the journy from Faro is both longer and more complex. If you are landing at Faro\, firstly take an EVA coach to Faro train station before boarding a CP train to Santa Clara-Saboia. Once there\, you will need to take a taxi onto the festival site. \nBook FlightsAirport TransfersCar RentalsTrain/Bus Tickets\nGallery\nRelated Festivals\nLytham Festival\n2 Jul – 6 Jul | Lytham Green\, UK\nLeeds Festival\n21 Aug – 24 Aug | Leeds\, UK\n		\n			\n\n				\n				\n					Search for:
URL:https://europebookings.com/festival/meo-sudoeste-festival/
LOCATION:Zambujeira do Mar\, Herdade da Casa Branca\, Zambujeira\, 7630-736\, Portugal
CATEGORIES:EDM,Electronic,Multi-Genre,Pop,Urban
ATTACH;FMTTYPE=image/jpeg:https://europebookings.com/wp-content/uploads/meo-sudoeste-festival-stage-fireworks.jpg
END:VEVENT
END:VCALENDAR