BEGIN:VCALENDAR
VERSION:2.0
PRODID:-//Europebookings - ECPv6.15.20//NONSGML v1.0//EN
CALSCALE:GREGORIAN
METHOD:PUBLISH
X-WR-CALNAME:Europebookings
X-ORIGINAL-URL:https://europebookings.com
X-WR-CALDESC:Events for Europebookings
REFRESH-INTERVAL;VALUE=DURATION:PT1H
X-Robots-Tag:noindex
X-PUBLISHED-TTL:PT1H
BEGIN:VTIMEZONE
TZID:Asia/Nicosia
BEGIN:DAYLIGHT
TZOFFSETFROM:+0200
TZOFFSETTO:+0300
TZNAME:EEST
DTSTART:20220327T010000
END:DAYLIGHT
BEGIN:STANDARD
TZOFFSETFROM:+0300
TZOFFSETTO:+0200
TZNAME:EET
DTSTART:20221030T010000
END:STANDARD
BEGIN:DAYLIGHT
TZOFFSETFROM:+0200
TZOFFSETTO:+0300
TZNAME:EEST
DTSTART:20230326T010000
END:DAYLIGHT
BEGIN:STANDARD
TZOFFSETFROM:+0300
TZOFFSETTO:+0200
TZNAME:EET
DTSTART:20231029T010000
END:STANDARD
BEGIN:DAYLIGHT
TZOFFSETFROM:+0200
TZOFFSETTO:+0300
TZNAME:EEST
DTSTART:20240331T010000
END:DAYLIGHT
BEGIN:STANDARD
TZOFFSETFROM:+0300
TZOFFSETTO:+0200
TZNAME:EET
DTSTART:20241027T010000
END:STANDARD
END:VTIMEZONE
BEGIN:VEVENT
DTSTART;VALUE=DATE:20230610
DTEND;VALUE=DATE:20230611
DTSTAMP:20260421T075755
CREATED:20220314T133418Z
LAST-MODIFIED:20230518T101207Z
UID:53505-1686355200-1686441599@europebookings.com
SUMMARY:Detonate Festival
DESCRIPTION:Get TicketsAccommodationTravel InfoDetonate Festival has been postponed. You can read the festival’s full statement and refund info here \nDetonate Festival’s biggest event of the year takes over Nottingham’s Colwick Park on Saturday 10 June!  \nThe festival brings together some of the biggest DJs and live acts in electronic music. Expect more than 60 Live Artists & DJs\, floating stages and woodland hideaways\, global street food\, cocktails\, boat parties and fireworks! \nTaking place just outside the city centre\, Detonate Festival will be surrounded by the lakes and woodlands of Colwick Country Park. \n\nDetonate Festival 2023 Lineup\nHeadliners\nChase & Status \nAll ArtistsChase & Status / A Little Sound / Act On / AD / Aura b2b Contactghost / Barry Can’t Swim / Beaabea / Born On Road / Bou / Callum Lee b2b Grace / Carasel / Conducta / Dimension ft ID / Disfreq / Dr Dublate / Ell & RO / Elo / Ewan McVicar / fowdan . Friction / Girls Don’t Sync / Gray / Goddard / Gray / Hamdi / HOLL3 / Holy Goof / Interplanetary Criminal / Jaguar / Kanine / Kettama / Kyle Parsley / Lander / Lenzman / LF System / Lowqui / Luxe / LVCKY b2b DTriple J / M75 b2b Tinks / Mall Grab / Mcs Linguistics / Melle Brown / Melski / Mungos Hi-Fi ft. Charlie P / Neffa-T / Nell b2b Supply / Oppidan / Ozo Collective / Poach / Pretty Girl (Live) / Prospa / Randall b2b Dillinija / RHD / RLLG X MIGG / Rosie Jane b2b Erin / Ross From Friends (Dj Set) / Ryan Arnold / Sammy Virji / Shy FX / S.P.Y / Sub Focus b2b Dimension / Surusigne / Synic / T.Lex / TAN / To Hutch / Vibe chemistry / Whatty b2b rosie Vaccib / Wishart / Y U QT / 4AM Kru (Live)Detonate Festival 2023 Tickets\nGeneral Release & VIP Tickets from £59.50 (€67.59) are on sale:\nPayment Plan Available\nTicketsDetonate Festival\nvia SkiddleBookAccommodation\nThe city of Nottingham offers a wide range of accommodation options. Book your stay for Detonate Festival using the map below or visit booking.com \nBooking.comBook Hotels & Airbnbs near the Venue at the Lowest Price online!\n\nTravel Info\nBY CAR\nThere will be no parking at the site\, so park elsewhere and use public transport. \nGet DirectionsBY TRAIN\nNottingham is well connected by rail in the United Kingdom. At Nottingham Station take the Bus from Broadmarsh station to Colwick\, Candle Meadow station (7 min journey)\, just 700 meters from the venue. Alternatively you can take a short 10 min taxi ride to the venue. \nBY BUS\nBuses No. 44 & 44A go close to the festival site. \nBY TAXI\nThere will be a taxi drop off point close to Nottingham Racecourse in the Park and Ride car park. They will also be waiting in the Park and Ride site. \nBook FlightsAirport TransfersCar RentalsTrain/Bus Tickets\nGallery
URL:https://europebookings.com/festival/detonate-festival/
LOCATION:Colwick Country Park\, Colwick Country Park\, End of\, Racecourse Rd\, Nottingham\, NG2 4BH\, United Kingdom
CATEGORIES:Drum & Bass,Electronic,House
ATTACH;FMTTYPE=image/jpeg:https://europebookings.com/wp-content/uploads/detonate-festival-stage-fireworks.jpg
END:VEVENT
BEGIN:VEVENT
DTSTART;VALUE=DATE:20230627
DTEND;VALUE=DATE:20230628
DTSTAMP:20260421T075755
CREATED:20200811T113753Z
LAST-MODIFIED:20230223T220546Z
UID:39835-1687824000-1687910399@europebookings.com
SUMMARY:Guns N' Roses Concert Glasgow
DESCRIPTION:Get TicketsAccommodationTravel Info\nGuns N’ Roses will be performing at Glasgow’s Bellahouston Park for one night. \nGuns N’ Roses is headed back out on the road in 2023 with a global tour that will touch down in the Middle East\, Europe and North America. \nCheck Guns N’ Roses European Tour here \nThe powerhouse rock band launch this jaunt on June 5 in Tel Aviv\, Israel at Park Hayarkon and will continue across Europe through July 22\, wrapping in Athens\, Greece. The band will continue onto North America\, starting on Saturday\, August 5 in Moncton\, NB at Medavie Blue Cross Stadium\, and will visit historic venues across the country such as Fenway Park in Boston\, MA on August 21 and Wrigley Field in Chicago\, IL on August 24. The tour concludes in Vancouver\, BC at BC Place on Monday\, October 16. \n\nGuns N’ Roses Concert Glasgow 2023 Lineup\nGuns N’ Roses \nGuns N’ Roses Concert Glasgow 2023 Tickets\nTickets from £85.90 (€97.46) are on sale :\nTickets\nGuns N’ Roses Glasgowvia Ticketmaster \nBookAccommodation\nThe city of Glasgow offers a wide range of accommodation options. Book your stay for Guns N’ Roses Concert using the map below or visit booking.com \nBooking.comBook Hotels & Airbnbs near the Venue at the Lowest Price online!\n\nTravel Info\nBY CAR\nGet DirectionsBY BUS\nBus lines 10\, 34\, 38\, 9 & 9A have routes that pass near Bellahouston Park \nBY TRAIN\nGlasgow is well connected by rail in the United Kingdom and from all major European cities. From Glasgow Central Station take the Bus line 38 to Bellahouston Drive station (18 min journey)\, just a short 8 min walk to the venue. Alternatively you can take a short 7 min taxi ride to the venue. \nBY PLANE\nFrom Glasgow International Airport (GLA) take the subway from Paisley St James station to Cardonald station (10 min journey). The venue is a short taxi ride away (2.4 km). \nBook FlightsAirport TransfersCar RentalsTrain/Bus Tickets\nGallery\nRelated Festivals\nSting European Tour Tickets\n6 Jun – 18 Jul | Europe\nIron Maiden The Future Past Tour Tickets\n13 Jun – 15 Jul | Europe\n		\n			\n\n				\n				\n					Search for:
URL:https://europebookings.com/festival/guns-n-roses-concert-glasgow/
LOCATION:Bellahouston Park\, Bellahouston Park\, Bellahouston\, Glasgow\, G52 1HH\, United Kingdom
CATEGORIES:Concerts,Heavy Metal,Rock
ATTACH;FMTTYPE=image/jpeg:https://europebookings.com/wp-content/uploads/guns-n-roses-tour-stage-lights-show.jpg
END:VEVENT
END:VCALENDAR