BEGIN:VCALENDAR
VERSION:2.0
PRODID:-//Europebookings - ECPv6.15.20//NONSGML v1.0//EN
CALSCALE:GREGORIAN
METHOD:PUBLISH
X-ORIGINAL-URL:https://europebookings.com
X-WR-CALDESC:Events for Europebookings
REFRESH-INTERVAL;VALUE=DURATION:PT1H
X-Robots-Tag:noindex
X-PUBLISHED-TTL:PT1H
BEGIN:VTIMEZONE
TZID:Asia/Nicosia
BEGIN:DAYLIGHT
TZOFFSETFROM:+0200
TZOFFSETTO:+0300
TZNAME:EEST
DTSTART:20220327T010000
END:DAYLIGHT
BEGIN:STANDARD
TZOFFSETFROM:+0300
TZOFFSETTO:+0200
TZNAME:EET
DTSTART:20221030T010000
END:STANDARD
BEGIN:DAYLIGHT
TZOFFSETFROM:+0200
TZOFFSETTO:+0300
TZNAME:EEST
DTSTART:20230326T010000
END:DAYLIGHT
BEGIN:STANDARD
TZOFFSETFROM:+0300
TZOFFSETTO:+0200
TZNAME:EET
DTSTART:20231029T010000
END:STANDARD
BEGIN:DAYLIGHT
TZOFFSETFROM:+0200
TZOFFSETTO:+0300
TZNAME:EEST
DTSTART:20240331T010000
END:DAYLIGHT
BEGIN:STANDARD
TZOFFSETFROM:+0300
TZOFFSETTO:+0200
TZNAME:EET
DTSTART:20241027T010000
END:STANDARD
END:VTIMEZONE
BEGIN:VEVENT
DTSTART;VALUE=DATE:20230725
DTEND;VALUE=DATE:20230813
DTSTAMP:20260421T045920
CREATED:20210802T204136Z
LAST-MODIFIED:20230210T164823Z
UID:46064-1690243200-1691884799@europebookings.com
SUMMARY:Summer Nights at the Bandstand
DESCRIPTION:Get TicketsAccommodationTravel Info\nSummer Nights is returning in 2023 to Kelvingrove Park for the eighth year\, with an incredible lineup including Anastacia\, Squeeze\, Jack Savoretti\, Sugababes and so many more. In the heart of Glasgow’s West End\, take in views of Glasgow University and Kelvingrove Art Gallery while being entertained by some of the best in the business. \nSummer Nights at the Bandstand has a deserved reputation for being a very special experience for both audience and artists alike. For the audience it is seeing their favourite artists up close\, the great atmosphere\, mixing with friends and singing along with the crowd\, and for the artists\, its connecting with the audience in such an intimate setting and feeling the energy from an arena full of excited fans. \n\nSummer Nights at the Bandstand 2023 Program & Tickets\n25 July @ 18.30 - SiouxsieBuy Tickets26 Jul @ 18.30 - Anastacia\nBuy Tickets\n27 Jul @ 18.30 - Kassidy\nBuy Tickets\n28 Jul @ 18.30 - The Shires\nBuy Tickets\n29 Jul @ 18.30 - Jack Savoretti\nBuy Tickets\n2 & 3 Aug @ 18.30 - Del Amitri\nBuy Tickets\n04 Aug @ 18.30 - Sophie Ellis Bextor\nBuy Tickets\n05 Aug @ 18.30 - Squeeze\nBuy Tickets\n08 Aug @ 18.30 - Sugababes\nBuy Tickets\n09 Aug @ 18.30 - Callum Beattie\nBuy Tickets\n11 Aug @ 18.30 - Glasvegas\nBuy Tickets\n12 Aug @ 18.30 - The Delgados\nBuy Tickets\nAccommodation\nThe city of Glasgow offers a wide range of accommodation options. Book your stay for Summer Nights using the map below or visit booking.com \nBooking.comBook Hotels & Airbnbs near the Venue at the Lowest Price online!\n\nTravel Info\nBY CAR\nGet DirectionsBY TRAIN\nGlasgow is well connected by rail in the United Kingdom. From Glasgow Central Station take the Line 100 Bus from the Glasgow\, Radisson Hotel station to Kelvingrove\, Haugh Road station (18 min journey)\, just 500 meters away from the Venue. Alternatively you can take a short 5 min taxi ride to the venue. \nBY PLANE\nFrom Glasgow Airport (GLA) take the train Paisley St James to Glasgow Central (19 min journey) and from there take the train to Exhibition Centre (4 min journey)\, a 15 min walk away to the venue. Alternatively you can take a 15 min taxi ride to the venue. \nBook FlightsAirport TransfersCar RentalsTrain/Bus Tickets\nGallery\nRelated Festivals\nParklife Festival\n20 Jun – 21 Jun | Manchester\, UK\nReading Festival\n27 Aug – 30 Aug | Reading\, UK\n		\n			\n\n				\n				\n					Search for:
URL:https://europebookings.com/festival/summer-nights-at-the-bandstand/
LOCATION:Kelvingrove Bandstand\, Kelvingrove Bandstand\, Kelvin Way\, Glasgow\, G12 8NR\, United Kingdom
CATEGORIES:Pop,Rock
ATTACH;FMTTYPE=image/jpeg:https://europebookings.com/wp-content/uploads/summer-nights-at-the-bandstand-stage-lights.jpg
END:VEVENT
BEGIN:VEVENT
DTSTART;VALUE=DATE:20230805
DTEND;VALUE=DATE:20230806
DTSTAMP:20260421T045920
CREATED:20230314T213509Z
LAST-MODIFIED:20230728T102243Z
UID:68970-1691193600-1691279999@europebookings.com
SUMMARY:Diynamic Festival London
DESCRIPTION:Get TicketsAccommodationTravel Info\nDiynamic Festival London takes place in a beautiful tree-lined carriageway within Finsbury Park. Catch Solomun play an extended 5 hour set in London this year with some very special guests. \nDiynamic Festival London offers two stages with two big sound-systems. This is the perfect opportunity to see Solomun in the capital this summer. Add to this mouth-watering street food\, cold craft beers and summer-inspired cocktails. \n\nDiynamic Festival London 2023 Lineup\nHeadliners\nSolomun \nAll ArtistsSolomun (5hr Set)\nDisfreq\nCromby\nChloé Robinson\nKrankbrotherDiynamic Festival London 2023 Tickets\nGA & VIP Tickets from £61.00 (€70.26) are on sale:\nTicketsDiynamic Festival London\nvia Official SiteBookAccommodation\nThe city of London offers a wide range of accommodation options. Book your stay for Diynamic Festival London using the map below or visit booking.com \nBooking.comBook Hotels & Airbnbs at the lowest Price online!\n\nTravel Info\nBY CAR\nGet DirectionsBY BUS\nBus lines that have routes that pass near Finsbury Park Station: 19\, 259\, 29 & 4 \nBY TUBE\nPiccadilly and Victoria Line pass near Finsbury Park Station. \nBY TRAIN\nLondon is well connected by rail in the United Kingdom and major European cities. From Paddington Station take the subway to Piccadilly Circus station (10 min journey) and from there take the subway to Manor House station (18 min journey)\, where Finsbury Park is a 5 min walk away (450 meters). Alternatively you can take a 15 min taxi ride to the venue. \nBook FlightsAirport TransfersCar RentalsTrain/Bus Tickets\nGallery\nRelated Festivals\nKappa Futur Festival\n4 Jul – 6 Jul | Turin\, Italy\nUltra Europe Festival\n11 Jul – 13 Jul | Split\, Croatia\n		\n			\n\n				\n				\n					Search for:
URL:https://europebookings.com/festival/diynamic-festival/
LOCATION:Finsbury Park\, Endymion Road\, London\, N4\, United Kingdom
CATEGORIES:Electronic,House,Techno
ATTACH;FMTTYPE=image/jpeg:https://europebookings.com/wp-content/uploads/diynamic-festival-london-2023.jpg
END:VEVENT
BEGIN:VEVENT
DTSTART;VALUE=DATE:20230825
DTEND;VALUE=DATE:20230828
DTSTAMP:20260421T045920
CREATED:20220411T160112Z
LAST-MODIFIED:20230303T101847Z
UID:54208-1692921600-1693180799@europebookings.com
SUMMARY:Connect Music Festival
DESCRIPTION:Get TicketsAccommodationTravel Info\nConnect Music Festival will take place at the Royal Highland Centre near Edinburgh Airport in 2023. \nConnect Music Festival will celebrate the best of times\, allowing us to reconnect with live music and with each other. We will share the music and our experiences as we live in the moment together. Let’s reconnect with the people and things we love. This is Connect. \nBringing you the very best music from global stars to local heroes\, from grassroots to international\, we are building a festival for you to discover and enjoy. But Connect Music Festival is so much more than music\, it’s wrapped in outstanding experiences; comedy\, spoken word\, debate\, visual arts as well as exceptional food and drink from local talent and big-name Scottish chefs. Open minds and open hearts welcome. \n\nConnect Music Festival 2023 Lineup\nHeadliners\nPrimal Scream\nFred Again..\nboygenius\nLoyle Carner \nAll Artists & Program\nFri 25 August 2023\nPrimal Scream  /Franz Ferdinand / Future Islands / House Gospel Choir / Ethan P. Flynn / Confidence Man / Jockstrap / Humour / Kruder & Dorfmeister / David Holmes / DIJA \nSat 26 August 2023\nFred again.. / Young Fathers / Roisin Murphy / MUNA / Kelly Lee Owens / Biig Piig / Free Love / Friendly Fires / Rachel Chinouriri / TAAHLIAH / Leith Ross / Terra Kin / Redolent / Louis Culture / L’objectif / Optimo (Espacio) / Eclair Fifi / Sofay / Joy (Anonymous) / J Wax / Jamie Gunn \nSun 27 August 2023\nboygenius / Loyle Carner / Raye / Olivia Dean\nPublic Service Broadcasting / Lightning Seeds / Christian Lee Hutson / Arab Strap / Beth Orton / Wunderhorse / Kamal. / Katie Gregson Macleod / Panic Shack / Daniel Avery / Mona Yim (DJ Set) / Frankie ElyseConnect Music Festival 2023 Tickets\n1-Day\, 2-Day & 3- Day Tickets from £74.25 (€83.92) are on sale:\nTickets\nConnect Music Festivalvia Ticketmaster \nBookAccommodation\nCamping during the festival requires a Camping Ticket purchased here. All you need is basic camping gear\, like a tent\, a camping pad and a head torch (so useful in the night). If you don’t want to bring your own tent\, the festival offers Pre-pitched & Premium Camping options purchased here \nAlternatively\, you can book nearby hotels and apartments using the map below or visit booking.com \nBooking.comBook Hotels & Airbnbs near the Venue at the Lowest Price online!\n\nTravel Info\nBY CAR\n1-Day & 3-Day Parking tickets from £11.00 can be purchased here \nGet DirectionsBY TRAIN\nEdinburgh is easily accessible rail or coach from the rest of the UK and a direct train from London takes around five hours. From Edinburgh Waverley Station take one of the Bus lines X17\, X18\, X38\, X38\, X24\, X25 or C19 to Ingliston Showground (25 min journey)\, just 400 meters from the Venue. \nBY BUS\nLocal Edinburgh transport will be available via the 98 bus service for Terminal V\, that leaves from St Andrew Square (north side) and also stops at Shandwick Place\, Haymarket and all other bus stops along the A8 to Maybury. Journey time will be approximately 30 minutes. \nBY PLANE\nEdinburgh Airport (EDI) is very close to the Venue. You can take the Bus to Ingliston Showground (4 min journey)\, just 400 meters from the Venue. Alternatively you can take a short 3 min taxi ride. \nBook FlightsAirport TransfersCar RentalsTrain/Bus Tickets\nGallery
URL:https://europebookings.com/festival/connect-music-festival/
LOCATION:Royal Highland Centre\, Royal Highland Centre\, Ingliston\, Edinburgh\, EH28 8NB\, United Kingdom
CATEGORIES:Electronic,Indie,Rock
ATTACH;FMTTYPE=image/jpeg:https://europebookings.com/wp-content/uploads/connect-music-festival-stage-lights-show.jpg
END:VEVENT
END:VCALENDAR