BEGIN:VCALENDAR
VERSION:2.0
PRODID:-//Europebookings - ECPv6.15.20//NONSGML v1.0//EN
CALSCALE:GREGORIAN
METHOD:PUBLISH
X-WR-CALNAME:Europebookings
X-ORIGINAL-URL:https://europebookings.com
X-WR-CALDESC:Events for Europebookings
REFRESH-INTERVAL;VALUE=DURATION:PT1H
X-Robots-Tag:noindex
X-PUBLISHED-TTL:PT1H
BEGIN:VTIMEZONE
TZID:Asia/Nicosia
BEGIN:DAYLIGHT
TZOFFSETFROM:+0200
TZOFFSETTO:+0300
TZNAME:EEST
DTSTART:20230326T010000
END:DAYLIGHT
BEGIN:STANDARD
TZOFFSETFROM:+0300
TZOFFSETTO:+0200
TZNAME:EET
DTSTART:20231029T010000
END:STANDARD
BEGIN:DAYLIGHT
TZOFFSETFROM:+0200
TZOFFSETTO:+0300
TZNAME:EEST
DTSTART:20240331T010000
END:DAYLIGHT
BEGIN:STANDARD
TZOFFSETFROM:+0300
TZOFFSETTO:+0200
TZNAME:EET
DTSTART:20241027T010000
END:STANDARD
BEGIN:DAYLIGHT
TZOFFSETFROM:+0200
TZOFFSETTO:+0300
TZNAME:EEST
DTSTART:20250330T010000
END:DAYLIGHT
BEGIN:STANDARD
TZOFFSETFROM:+0300
TZOFFSETTO:+0200
TZNAME:EET
DTSTART:20251026T010000
END:STANDARD
END:VTIMEZONE
BEGIN:VEVENT
DTSTART;VALUE=DATE:20240614
DTEND;VALUE=DATE:20240825
DTSTAMP:20260420T044310
CREATED:20210322T155246Z
LAST-MODIFIED:20231101T204416Z
UID:43405-1718323200-1724543999@europebookings.com
SUMMARY:Fatboy Slim Tour Tickets
DESCRIPTION:Get TicketsAccommodation\nFatboy Slim announced Loves Summer Tour 2024\, where he will play 8 dates across the UK. \nThe superstar DJ\, producer and songwriter Norman Cook\, who is known by his stage name Fatboy Slim among many other aliases\, has topped the charts\, winning numerous BRIT\, Grammy and MTV Awards for his music as well as setting records for the big way he takes to the decks. \nBefore he became revered for his floor-filling tunes\, Cook played bass for the indie-rock band The Housemartins in the late ’80s. In the ’90s\, he got into producing and started experimenting with bassline\, dub\, house and reggae. By 1996\, he’d adopted name Fatboy Slim and released the album Better Living Through Chemistry. \nThroughout the ’00s and ’10s\, often donning a Hawaiian shirt\, he held numerous club residencies and made many unforgettable live performances playing festivals\, stadiums and even boats. In late 2016\, Fatboy Slim decided to go even bigger by creating an in-the-round experience\, where huge venues like arenas are essentially transformed into nightclubs. He took his in-the-round experience on a headline arena tour in 2019 and broke records including the biggest capacity DJ event ever held at The SSE Arena\, Wembley. \n\nFatboy Slim Tour 2024 Tickets\n14 Jun @ Fairview Park\, Dublin\, IrelandBuy Tickets05 Jul @ Castlefield Bowl\, Manchester\, UKBuy Tickets06 Jul @ Scarborough Open Air Theatre\, Scarborough\, UKBuy Tickets20 Jul @ Galvanizers Yard SWG3\, Glasgow\, UKBuy Tickets09 Aug @ Galway Airport\, Galway\, IrelandBuy Tickets24 Aug @ The Piece Hall\, Halifax\, UKBuy TicketsAccommodation\nBook your accommodation in any city (type destination & add dates) using the map below or visit booking.com \nBooking.comBook Hotels & Airbnbs near the Venue at the Lowest Price online!\n\nBook FlightsAirport TransfersCar RentalsTrain/Bus Tickets\nRelated Concerts\nPink Concert Tickets\n15 Sep 2023 – 23 Mar 2024\nSimple Minds Concert Tickets\n27 Jan – 20 Apr\n		\n			\n\n				\n				\n					Search for:
URL:https://europebookings.com/festival/fatboy-slim-tickets/
LOCATION:Various Venues
CATEGORIES:Concerts,EDM,Electronic
ATTACH;FMTTYPE=image/jpeg:https://europebookings.com/wp-content/uploads/fatboy-slim-uk-tour-tickets.jpg
END:VEVENT
BEGIN:VEVENT
DTSTART;VALUE=DATE:20240802
DTEND;VALUE=DATE:20240805
DTSTAMP:20260420T044310
CREATED:20210729T153845Z
LAST-MODIFIED:20240726T142844Z
UID:45874-1722556800-1722815999@europebookings.com
SUMMARY:Rewind Festival North
DESCRIPTION:Get TicketsAccommodationTravel Info\nRewind Festival North is a family friendly festival\, welcoming people of all ages. The Festival turns the clock back\, showcasing musical legends across a weekend in the grounds of the spectacular Capesthorne Hall in Cheshire. \nRewind Festival North is a weekend filled with performances from musical legends\, themed venues\, pop-up entertainment and a welcoming festival atmosphere. \nTake a wander around the festival site and festival-goers can get involved in all sorts of quirky shenanigans\, from the legendary silent disco and pop-up pubs\, to comedy and karaoke. \n\nRewind Festival North 2024 Lineup\nHeadliners\nBiily Ocean\nSqueeze \nAll Artists & Program\nSat 3 Aug 2024\nBilly Ocean / Gabrielle / Bad Manners / Studio 54 (Live) / Boyzlife / Tiffany / Kim Wilde / Roland Gift / Altered Images / Katrina \nSun 4 Aug 2024\nSqueeze / Tony Hadley / Hue & Cry / David Grant / Peter Hook And The Light / Shakatak / Midge Ure / The Cristians / Aswad / Living In A BoxRewind Festival North 2024 Tickets\nDay & Weekend Tickets from £78.40 (€91.87) are on sale:\nTicketsRewind Festival North\nvia TicketmasterBookRewind Festival South\n16 Aug – 18 Aug | Henley-on-Thames\, UK\nTICKETS ON SALE \nAccommodation\nCamping during the festival requires a Weekend Camping Ticket purchased here. All you need is basic camping gear\, like a tent\, a camping pad and a head torch (so useful in the night). If you don’t want to bring your own tent\, the festival offers Premium Camping options purchased here \nAlternatively\, you can book nearby hotels & apartments using the map below or visit booking.com \nBook Hotels & Airbnbs near the Venue at the Lowest Price online!\n\nTravel Info\nBY CAR\nParking is available and Car Parking Tickets can be purchased here \nGet DirectionsBY TRAIN\nTrain access to Capesthorne Hall is easiest via Wilmslow train station\, although Macclesfield station is also nearby. Capesthorne Hall is only a 10 minute journey via car / taxi from Wilmslow train station. \nBY PLANE\nManchester Airport (MAN) is the closest to the festival. From the airport take the bus to Monks Heath\, Crossroads (43 min journey)\, just a short taxi ride away from the venue. Alternatively you can take a 20 min taxi ride to the venue. \nBook FlightsAirport TransfersCar RentalsTrain/Bus Tickets\nGallery
URL:https://europebookings.com/festival/rewind-festival-north/
LOCATION:Capesthorne Hall\, Capesthorne Hall\, Congleton Rd\, Siddington\, Macclesfield\, SK11 9JY\, United Kingdom
CATEGORIES:Indie,Pop,Rock
ATTACH;FMTTYPE=image/jpeg:https://europebookings.com/wp-content/uploads/rewind-festival-north-mian-stage-lights-show.jpg
END:VEVENT
BEGIN:VEVENT
DTSTART;VALUE=DATE:20240803
DTEND;VALUE=DATE:20240804
DTSTAMP:20260420T044311
CREATED:20191031T200421Z
LAST-MODIFIED:20240726T143631Z
UID:26064-1722643200-1722729599@europebookings.com
SUMMARY:51st Festival
DESCRIPTION:Get TicketsAccommodationTravel Info\n51st Festival 2024 is set to continue its illustrious tradition of bridging the epochs of dance music culture in a vibrant display of auditory and historical diversity. Nestled in the heart of London\, this festival unravels a musical narrative that spans from the soulful echoes of US Gospel\, Soul\, Disco\, and House to the iconic beats of Garage\, 2-step\, Acid House\, Dancehall\, R&B\, and beyond. Each rhythm and melody echoes the technicoloured heritage of dance\, showcasing a saga that has evolved yet retained its essence over time. \nWith a lineage of hosting dance music royalty like Masters At Work\, Soul II Soul\, Basement Jaxx\, Carl Cox\, and many other luminaries\, the festival is a harmonious battlefield where the seminal figures and the avant-garde of dance music converge. The attendees are not merely spectators but a part of a living\, breathing narrative that continues to shape the ethos of dance music culture in the UK. As the beats resound through the London skyline on this August day\, 51st Festival 2024 promises a captivating journey through the annals of dance music\, an experience enriched with the past\, present\, and future of a genre that continues to unify\, enthral\, and inspire across generations. \n\n51st Festival 2024 Lineup\nLineup to be announced soon: \n2023 LineupKings of House NYC / body+soul / Dimitri From Paris / Roger Sanchez / TODD TERRY / DJ Jazzy Jeff / Roy Ayers / Norman Jay MBE / Todd Edwards / and many more51st Festival 2024 Tickets\nPre-sale starts Fri 3 Nov @ 9:00 AM BST. Sign up here\nTickets51st State Festival\nComing SoonBookAccommodation\nThe city of London offers a wide range of accommodation options. Book your stay using the interactive map below or visit booking.com \nBooking.comBook Hotels & Airbnbs near the Venue at the Lowest Price online!\n\nTravel Info\nBY CAR\nThere is car parking space for 800 cars and tickets to be announced soon: \nGet DirectionsBY TRAIN\nThe nearest train station is Mill Hill Broadway which is on Thameslink and a 5 minute taxi journey from Copthall Playing Fields. Mill Hill Broadway is only 17 minutes from King’s Cross St Pancras or 20 minutes from Farringdon. There will be shuttle buses available on the day\, more info will be released soon. \nBY TUBE\nThe nearest tube station is Mill Hill East which is on the Northern Line and a 7 minute taxi journey to the Copthall Playing Fields. There will be shuttle buses available on the day\, more info will be released soon. \nBY BUS\nThe 221 route runs from Edgware bus station to Turnpike Lane station. Alight at the Copthall Sports Centre for the Copthall Playing Fields\, which is a 5 minute walk away.\nThe 113 Bus route runs from Edgware Bus Station to Marble Arch. Alight at Five Ways Corner for Copthall Playing Fields\, which is a 10 minute walk away. \nBook FlightsAirport TransfersCar RentalsTrain/Bus Tickets\nGallery\nRelated Festivals\nAirbeat One Festival\n8 Jul – 12 Jul | Neustadt-Glewe\, Germany\nSea You Festival\n17 Jul – 19 Jul | Freiburg\, Germany\n		\n			\n\n				\n				\n					Search for:
URL:https://europebookings.com/festival/51st-state-festival/
LOCATION:Copthall Playing Fields\, Copthall Playing Fields\, Champions Way\, London\, NW4 1PS
CATEGORIES:Garage,House
ATTACH;FMTTYPE=image/jpeg:https://europebookings.com/wp-content/uploads/51st-state-festival-outdoor-stage-dancing.jpg
END:VEVENT
BEGIN:VEVENT
DTSTART;VALUE=DATE:20240815
DTEND;VALUE=DATE:20240819
DTSTAMP:20260420T044311
CREATED:20211205T155136Z
LAST-MODIFIED:20240812T084124Z
UID:51331-1723680000-1724025599@europebookings.com
SUMMARY:Camp Bestival Shropshire
DESCRIPTION:Get TicketsAccommodationTravel Info\nCamp Bestival Shropshire is a brand new festival\, a stellar sister show to the UK’s favourite family festival coming to Weston Park. Following hot on the heels of the pioneering Dorset-based jamboree\, Camp Bestival Shropshire will be bringing all the unique and essential elements of the original Camp Bestival to the heart of England. \nAn ardent take on Team CB’s tried and tested recipe\, Camp Bestival Shropshire will make a home in Weston Park’s immaculate grounds designed by England’s greatest gardener\, Capability Brown. A wonderland of expansive green spaces\, luxuriant lawns\, verdant parkland\, and enchanting woodlands\, festival goers can enjoy a host of glittering family treats from our famous kids’ gardens jam-packed with action\, and all manner of frolics and fun\, to magic meadows and whole arenas abounding with a myriad of screen free activities for kids of all ages. \nCurated by Josie and Rob da Bank\, with the help of a long-established backroom crew\, as every edition has been since it launched in 2008\, Camp Bestival truly is a family affair. So\, adding Camp Bestival Shropshire to the well-loved Dorset original gives us the opportunity to spread the joy\, bringing the very best family festival adventure to an even wider audience. \n\nCamp Bestival Shropshire 2024 Lineup\nAll ArtistsBig Fish Little Fish / Brainiac Live / Chris Hawkins / Craig Charles Funk & Soul House Party / Dan The Hat / Dick & Dom / Dogshow / Ellie Sax / Faithless / Fred Roberts / Gok Wan / Goldierocks / Hak Baker / Hacker T Dog & Katie Thistleton / Horrible Histories: Rotten Royals / Jake Shears / Jemma Bolt / Jim8track / Junior Jungle / Katie Grace / Level 42 / Marlee / Mcfly / Miles Hunt / Mister Maker / Mr B Gentleman Rhymer / Mr Tumble / Old Time Sailors / Orbital / Paloma Faith / Rascal Raves / Rick Astley / Sara Cox / Say She She / Snayx / The Amy Winehouse Band / The Cuban Brothers / The Darkness / The K’S / The Magic Numbers / The Mum Club / Tom Aspaul / The Beatles Dub Club / The Pop Bingo DiscoCamp Bestival Shropshire 2024 Tickets\n1-Day & Weekend Tickets from £85.00 (€99.35) are on sale:\nTickets\nCamp Bestival\nvia Ticketmaster \nBookAccommodation\nAll Weekend Camping Tickets include access to the general campsites. All you need is basic camping gear\, like a tent\, a camping pad and a head torch (so useful in the night). If you don’t want to bring your own tent the festival offers Premium Camping options here. \nAlternatively\, you can book nearby hotels and apartments using the map below or visit booking.com \nBook Hotels & Airbnbs near the Venue at the Lowest Price online!\n\nTravel Info\nBY CAR\nParking is available and tickets can be purchased here \nGet DirectionsBY TRAIN\nYou can get the train to rail stations in Telford (12 minutes)\, Wolverhampton (25 minutes) or Stafford (20 minutes) and take a taxi to Weston Park. \nBook FlightsAirport TransfersCar RentalsTrain/Bus Tickets\nGallery
URL:https://europebookings.com/festival/camp-bestival-shropshire/
LOCATION:Weston Park\, Weston Park\, Shifnal\, TF11 8\, United Kingdom
CATEGORIES:Electronic,Indie,Multi-Genre,Pop,Rock
ATTACH;FMTTYPE=image/jpeg:https://europebookings.com/wp-content/uploads/camp-bestival-shropshire-fireworks-1.jpg
END:VEVENT
BEGIN:VEVENT
DTSTART;VALUE=DATE:20240817
DTEND;VALUE=DATE:20240818
DTSTAMP:20260420T044311
CREATED:20200303T202521Z
LAST-MODIFIED:20240317T230548Z
UID:34034-1723852800-1723939199@europebookings.com
SUMMARY:Elrow Town London
DESCRIPTION:Get TicketsAccommodationTravel Info\nElrow Town London sees the famous party brand bring its shenanigans to London\, taking over the capital’s Parsloes Park for a day of madness soundtracked by some of house music’s finest DJs. \nThat means festival-goers can expect all the usual elrow trimmings that make an elrow party so immersive and unforgettable\, such as performers\, stilt walkers\, confetti\, games\, inflatables\, and much more. \n\nElrow Town London 2024 Lineup\nAll ArtistsArtwork / Chromeo / Craig Charles / Dan Shake / Denis Sulta / Dr Dubplate / Eats Everything / Flava D / Fleur Shore / Folamour / Girls Don’t Sync / Goldie / House Gospel Choir / Kitty Amor / Max Dean / Melle Brown / Olvie F / Sammy Virji / Tini Gessler / Y U QTElrow Town London 2024 Tickets\nGeneral Admission & VIP Tickets from £55.00 (€63.20) are on sale!\nTicketsElrow Town London\nvia Official SiteBookAccommodation\nThe city of London offers a wide range of accommodation options. Book your stay using the interactive map below or visit booking.com \nBooking.comBook Hotels & Airbnbs near the Venue at the Lowest Price online!\n\nTravel Info\nBY CAR\nGet DirectionsBY TRAIN\nThe nearest station to Parsloes Park is Becontree station. The park is just a short walk (650 meters) from the station. \nBook FlightsAirport TransfersCar RentalsTrain/Bus Tickets\nGallery\nRelated Festivals\nMarvellous Island\n23 May – 24 May | Paris\, France\nHideout Festival\n30 Jun – 03 Jul | Novalja\, Croatia\n		\n			\n\n				\n				\n					Search for:\n													\n											\n				\n				\n					\n										\n									\n\n				\n			\n\n\n							\n			\n		\n		\nLondon Travel Guide
URL:https://europebookings.com/festival/elrow-town-london/
LOCATION:Parsloes Park\, Parsloes Park\, 333 Ivyhouse Rd\, Dagenham\, RM9 5SA\, United Kingdom
CATEGORIES:Electronic,House
ATTACH;FMTTYPE=image/jpeg:https://europebookings.com/wp-content/uploads/elrow-town-london-festival-fireworks.jpg
END:VEVENT
BEGIN:VEVENT
DTSTART;VALUE=DATE:20240817
DTEND;VALUE=DATE:20240825
DTSTAMP:20260420T044311
CREATED:20200915T183217Z
LAST-MODIFIED:20240813T202102Z
UID:41147-1723852800-1724543999@europebookings.com
SUMMARY:Edinburgh Summer Sessions
DESCRIPTION:Get TicketsAccommodationTravel Info\nEdinburgh Summer Sessions 2024: A Musical Extravaganza in the Heart of Scotland \nMark your calendars for Edinburgh Summer Sessions 2024\, taking place from August 17th to 24th at the scenic Royal Highland Showgrounds. This iconic festival is set to bring an array of top-tier talent to Edinburgh\, creating an unforgettable experience for music lovers. The festival kicks off with a stellar lineup featuring Ocean Colour Scene\, The View\, Embrace\, and more on August 17th. Closing the festival on August 24th\, the stage will be set ablaze by the indie rock sensations Catfish and the Bottlemen\, promising a night to remember. \nThe festival is renowned for its vibrant atmosphere and picturesque setting\, making it a summer highlight in the UK festival calendar. Whether you’re a fan of rock\, indie\, or alternative music\, Edinburgh Summer Sessions offers something for everyone\, ensuring a diverse and dynamic experience. \nDon’t miss out on this incredible event! Secure your tickets now and prepare for a week of outstanding performances\, stunning scenery\, and the unique charm of Edinburgh. \n\nEdinburgh Summer Sessions 2024 Lineup\nAll Artists & Program\nSat 17 Aug 2024\nOcean Colour Scene / The View / Embrace / Alabama 3 / Reverend And The Makers / Republica \nSat 24 Aug 2024\nCatfish and the BottlemenEdinburgh Summer Sessions 2024 Tickets\nTickets for both dates are on sale:\nTickets\nEdinburgh Summer Sessionsvia Ticketmaster \nBookAccommodation\nThe city of Edinburgh offers a wide range of accommodation options. Book your stay for Edinburgh Summer Sessions using the map below or visit booking.com \nBook Hotels & Airbnbs near the Venue at the Lowest Price online!\n\nTravel Info\nBY CAR\nGet DirectionsBY TRAIN\nEdinburgh is easily accessible rail or coach from the rest of the UK and a direct train from London takes around five hours. From Edinburgh Waverley Station take one of the Bus lines X17\, X18\, X38\, X38\, X24\, X25 or C19 to Ingliston Showground (25 min journey)\, just 400 meters from the Venue. \nBY BUS\nLocal Edinburgh transport will be available via the 98 bus service for Terminal V\, that leaves from St Andrew Square (north side) and also stops at Shandwick Place\, Haymarket and all other bus stops along the A8 to Maybury. Journey time will be approximately 30 minutes. \nBY PLANE\nEdinburgh Airport (EDI) is very close to the Venue. You can take the Bus to Ingliston Showground (4 min journey)\, just 400 meters from the Venue. Alternatively you can take a short 3 min taxi ride. \nBook FlightsAirport TransfersCar RentalsTrain/Bus Tickets\nGallery\nRelated Festivals\nDownload Festival\n12 Jun – 14 Jun | Derby\, UK\nLytham Festival\n1 Jul – 5 Jul | Lytham Green\, UK\n		\n			\n\n				\n				\n					Search for:
URL:https://europebookings.com/festival/edinburgh-summer-sessions/
LOCATION:Royal Highland Centre\, Royal Highland Centre\, Ingliston\, Edinburgh\, EH28 8NB\, United Kingdom
CATEGORIES:Indie,Multi-Genre,Pop,Rock
ATTACH;FMTTYPE=image/jpeg:https://europebookings.com/wp-content/uploads/edinburgh-summer-sessions-fans-dancing.jpg
END:VEVENT
BEGIN:VEVENT
DTSTART;VALUE=DATE:20240823
DTEND;VALUE=DATE:20240827
DTSTAMP:20260420T044311
CREATED:20210322T215419Z
LAST-MODIFIED:20240802T102015Z
UID:43437-1724371200-1724716799@europebookings.com
SUMMARY:Manchester Pride Festival
DESCRIPTION:Get TicketsAccommodationTravel Info\nManchester Pride Festival 2024: A Vibrant Celebration of LGBTQ+ Culture \nGet ready for a spectacular celebration at Manchester Pride Festival 2024\, taking place from August 23rd to 26th. This renowned event in the heart of Manchester is a vibrant celebration of LGBTQ+ culture\, equality\, and diversity\, promising a weekend filled with music\, parades\, and community spirit. \nThe festival features an impressive lineup\, including headliners Jessie J\, Sugababes\, Rita Ora\, and Eurovision star Loreen. Additional performances by Katy B\, Chinchilla\, and Radio 1’s Dean McCullough will keep the energy high across multiple stages. The event also highlights local LGBTQ+ talent\, ensuring a diverse and inclusive celebration. \nCentral to the festival is the iconic Gay Village Party\, a joyous street celebration with a variety of entertainment and performances. The Manchester Pride Parade\, taking place on August 24th\, is a vibrant procession advocating for LGBTQ+ rights and visibility. The Candlelit Vigil on August 26th provides a poignant moment of reflection and remembrance\, closing the festival on a note of unity and hope. \nTickets are available now\, with a portion of proceeds supporting LGBTQ+ causes in Greater Manchester. Secure your spot at this unmissable event and join thousands in celebrating love\, diversity\, and community. \n\nManchester Pride Festival 2024 Lineup\nAll Artists & Program\nFri 23 Aug 2024\nBimini / Denon James / DJ XZAN / Fat Pride MCR / Felix Mufti / Jess Rose / Jessie J / Keala Settle / Nelly / Pecs: Black is King / Queer Stage Revolution / Runway by Banksie / Sam Buttery / The Enby Show / Tito Bone / Trans Filth & Joy / Violet Blonde \nSat 24 Aug 2024\nAsifa Lahore / Bennettiscoming / Black Peppa / Black Pride MCR Takeover / Cadbury Parfait / Chris Blackmore / Club Zindagi / Coco Cannell / Coco Deville / Craig Law / Duniya Dhoom / Dave Cooper / DJ Jade / DJ Paulette / DJ Stacy Bee / Duniya Dhoom / Fortune / Freequency3 / Gaydio Dance Arena / Ghetto Fabulous / Goodie / House Of Spice / Immy Terial / Jaii Andrews / Jaxon / Jsky / Katy B / Kriss Herbert / Lady Macrocosm / Loreen / Louis III / Lucky Roy Singh / Martell Munro / Mayumi Fukiko / Michelle Mckenna / Minara ‘El Waters / Mohammed Barber / Mr Blaque / Naveen Sonne / Natasha Moonshine / Night-Thomas / Platnum / Punjabi Roots / Qupid Harrow / Queer Asian Takeover / Rajan Das / Rachel Pro-Filing Dan Chan / Rita Ora / Roman / Saki Yew / Sam Hofman / Shanika Sunrise / STNLY / Swagga / Tequila Thirst / The Bitten Peach / Val The Brown Queen / Ydsa / Zahira Zapanta \nSun 25 Aug 2024\nAnna Phylactic / Angie Brown / Bailey J Mills / Banksie / Big Dee / Chinchilla / Charlieeeee / Claire Richards / Danny Beard / Dean Mccullough’s Pop Machine / DJ Billy Andrew / Divas Only With Misty Chance / Fatt Butcher / Freequency3 / Ginger Hunter / Ginny Lemon’s Dog Show / Hayley-Ria Christian / Haus Of Lasair / Kimmie Smith / Lauren Lo Sung / Lill / Mix-Stress / Missie Jay / Naveen Sonne / Narcissa Nightshade / Natasha Hamilton / Olivia Mae / Queenz: The Show With Balls / Queer Women’s Takeover / Rainbow Nation Dance Academy / Rave With Pride / Rozalla / Saki Yew / Stephani B / Sugababes / Swagga / Tam Poles / The Canal Street Kings / Verrycherry / Viola / What She Said / Your Manchester Live! Hosted By Belinda ScandalManchester Pride Festival 2024 Tickets\nWeekend Tickets at £43.75 (€51.18) are on sale:\nTickets\nManchester Pride Festival\nvia Ticketmaster \nBookAccommodation\nThe city of Manchester offers a wide range of accommodation options. Book your stay for Manchester Pride Festival using the map below or visit booking.com \nBooking.comBook Hotels & Airbnbs near the Venue at the Lowest Price online!\n\nTravel Info\nBY CAR\nGet DirectionsBY Bus\nTake a bus to Manchester Piccadilly Gardens. From there\, the Gay Village Party event site is a two minute walk. \nBY TRAM\nThe easiest way to get to and from Manchester Pride Festival is using Metrolink.\nNearest stop: \n\nFor MCR Pride Live: Piccadilly\nFor Gay Village Party: Piccadilly Gardens\nFor the Parade: Deansgate Castlefield & St Peters Square\n\nBY TRAIN\nManchester is well connected by rail in the UK. Manchester Piccadilly Station is 200 meters away from the venue. \nBY PLANE\nFrom Manchester Airport (MAN) take the train to Manchester Piccadilly Station (16 min journey). The venue is 200 meters away. \nBook FlightsAirport TransfersCar RentalsTrain/Bus Tickets\nGallery\nRelated Festivals\nKappa Futur Festival\n4 Jul – 6 Jul | Turin\, Italy\nUltra Europe Festival\n11 Jul – 13 Jul | Split\, Croatia\n		\n			\n\n				\n				\n					Search for:
URL:https://europebookings.com/festival/manchester-pride-festival/
LOCATION:Manchester Pride\, LGBT Pride Event Venue Area\, Canal St\, Sackville St\, Manchester\, M1 3NF\, United Kingdom
CATEGORIES:Indie,Pop
ATTACH;FMTTYPE=image/jpeg:https://europebookings.com/wp-content/uploads/manchester-pride-festival-party.jpg
END:VEVENT
END:VCALENDAR