BEGIN:VCALENDAR
VERSION:2.0
PRODID:-//Europebookings - ECPv6.15.20//NONSGML v1.0//EN
CALSCALE:GREGORIAN
METHOD:PUBLISH
X-WR-CALNAME:Europebookings
X-ORIGINAL-URL:https://europebookings.com
X-WR-CALDESC:Events for Europebookings
REFRESH-INTERVAL;VALUE=DURATION:PT1H
X-Robots-Tag:noindex
X-PUBLISHED-TTL:PT1H
BEGIN:VTIMEZONE
TZID:Asia/Nicosia
BEGIN:DAYLIGHT
TZOFFSETFROM:+0200
TZOFFSETTO:+0300
TZNAME:EEST
DTSTART:20230326T010000
END:DAYLIGHT
BEGIN:STANDARD
TZOFFSETFROM:+0300
TZOFFSETTO:+0200
TZNAME:EET
DTSTART:20231029T010000
END:STANDARD
BEGIN:DAYLIGHT
TZOFFSETFROM:+0200
TZOFFSETTO:+0300
TZNAME:EEST
DTSTART:20240331T010000
END:DAYLIGHT
BEGIN:STANDARD
TZOFFSETFROM:+0300
TZOFFSETTO:+0200
TZNAME:EET
DTSTART:20241027T010000
END:STANDARD
BEGIN:DAYLIGHT
TZOFFSETFROM:+0200
TZOFFSETTO:+0300
TZNAME:EEST
DTSTART:20250330T010000
END:DAYLIGHT
BEGIN:STANDARD
TZOFFSETFROM:+0300
TZOFFSETTO:+0200
TZNAME:EET
DTSTART:20251026T010000
END:STANDARD
END:VTIMEZONE
BEGIN:VEVENT
DTSTART;VALUE=DATE:20240914
DTEND;VALUE=DATE:20250101
DTSTAMP:20260420T014410
CREATED:20220907T100648Z
LAST-MODIFIED:20240730T210116Z
UID:60800-1726272000-1735689599@europebookings.com
SUMMARY:The Warehouse Project
DESCRIPTION:Warehouse Project 2024 in Manchester is set to be an electrifying season of events\, kicking off on September 14th at the iconic Depot Mayfield. Renowned for its unparalleled lineup and vibrant atmosphere\, this year’s series promises to deliver unforgettable nights featuring top-tier artists and immersive experiences. \nThe opening party\, Repercussion\, will feature an eclectic mix of performances\, including a DJ set by Bonobo and a live show by Jungle. Spread across multiple stages at Depot Mayfield and nearby venues\, attendees can enjoy sets from Honey Dijon\, Major League DJz\, and many more. \nWarehouse Project consistently showcases diverse musical genres\, from techno and house to drum and bass. The 2024 lineup includes standout events like Patrick Topping’s TRICK label party\, Nia Archives’ UP YA ARCHIVES\, and a special Haçienda celebration featuring legends like Orbital and DJ Paulette. \nWith its blend of cutting-edge music\, dynamic venues\, and a passionate community\, Warehouse Project 2024 is the must-attend series for dance music enthusiasts. Dive into the heart of Manchester’s club scene and experience the energy that makes Warehouse Project a global phenomenon. \n\nThe Warehouse Project Calendar 2024\n04 Sep @ 16:00 – REPERCUSSION20 Sep @ 21:30 – SONNY FODERA21 Sep @ 21:30 – SONNY FODERA27 Sep @ 20:00 – HANNAH LAING28 Sep @ 16:00 – WELCOME TO THE WAREHOUSE03 Oct @ 19:00 – YEAT04 Oct @ 21:00 – HEDEX05 Oct @ 19:00 – BOILER ROOM MANCHESTER11 Oct @ 20:00 – TRICK12 Oct @ 16:00 – OVERMONO25 Oct @ 20:00 – Disclosure26 Oct @ 16:00 – BLACK COFFEE01 Nov @ 20:00 – UP YA ARCHIVES02 Nov @ 20:00 – PAWSA07 Nov @ 19:00 – SCOOTER08 Nov @ 20:00 – GORGON CITY & DOM DOLLA14 Nov @ 19:00 – BEN BÖHMER21 Nov @ 19:00 – BEN BÖHMER23 Nov @ 18:00 – Worried About Henry 10th Birthday30 Nov @ 17:00 – XXL07 Nov @ 16:00 – THE HAÇIENDA31 Dec @ 19:00 – NEW YEAR’S EVE \nThe Warehouse Project Tickets 2024\nBook Tickets for all events at the link below:\nTicketsThe Warehouse Project\nvia TicketmasterBookAccommodation\nThe city of Manchester offers a wide range of accommodation options. Book your stay for Warehouse Project Events using the map below or visit booking.com \nBook Hotels & Airbnbs near the Venue at the Lowest Price online!\n\nTravel Info\nBY CAR\nGet DirectionsBY TRAIN\nManchester is well connected by rail from major cities in the UK. The nearest stop to Depot Mayfield is Piccadilly station\, approximately a two-minute walk away. Victoria Station is approximately a 25-minute walk to Depot Mayfield. \nBY PLANE\nFrom Manchester Airport (MAN) take the train to Manchester Piccadilly (15 min journey)\, just a two-minute walk away from the venue. \nBook FlightsAirport TransfersCar RentalsTrain/Bus Tickets\nRelated Festivals\nKappa Futur Festival\n4 Jul – 6 Jul | Turin\, Italy\nUltra Europe Festival\n11 Jul – 13 Jul | Split\, Croatia\n		\n			\n\n				\n				\n					Search for:
URL:https://europebookings.com/festival/the-warehouse-project/
LOCATION:Depot Mayfield\, Fairfield Street\, Manchester\, M1 2QF\, United Kingdom
CATEGORIES:Dubstep,EDM,House,Techno,Trance
ATTACH;FMTTYPE=image/jpeg:https://europebookings.com/wp-content/uploads/the-warehouse-project-events.jpg
END:VEVENT
BEGIN:VEVENT
DTSTART;VALUE=DATE:20241025
DTEND;VALUE=DATE:20241027
DTSTAMP:20260420T014410
CREATED:20210504T145153Z
LAST-MODIFIED:20241006T163034Z
UID:44013-1729814400-1729987199@europebookings.com
SUMMARY:Terminal V Halloween
DESCRIPTION:Get TicketsAccommodationTravel Info\nTerminal V Halloween 2024 is set to transform Edinburgh’s Royal Highland Centre into a techno and house music haven on October 25-26. This indoor edition\, reimagined for 2024\, will run over two consecutive nights\, showcasing an elite collection of the biggest acts in the electronic music scene. \nRenowned for its cutting-edge production and mind-blowing visuals\, Terminal V Halloween promises an unforgettable experience. The lineup features world-class artists including Alex Farell\, Anetha\, Ben Hemsley\, I Hate Models\, Ki/Ki\, Kobosil\, and Mall Grab. These performances\, combined with the festival’s iconic stage designs\, will create an electrifying atmosphere that captures the essence of Edinburgh’s vibrant electronic music culture. \nThe festival stands out for its commitment to providing a high-energy environment\, drawing a diverse and passionate crowd. The unique blend of top-tier music\, innovative production\, and immersive visuals ensures that Terminal V Halloween remains a standout event in the European festival calendar. \n\nTerminal V Halloween 2024 Lineup\nAll Artists & ProgramAlex Farell / Anetha / Bae Blade / Ben Hemsley / Ben Kenney / Cadency / Cadzow / CARV / Cera Khin / Charlie Sparks / DBBD / I Hate Models / Janis Zielinski / Juicy Romance / Ki/Ki / Kobosil / LB aka LABAT / Lessss / Mall Grab / MCR-T / Miss Bashful / Sara Landry / SNTS / SPFDJ / The Obsessed (DJ) / X-CoastTerminal V Halloween 2024 Tickets\n1-Day\, 2-Day & Weekend Tickets from £69.95 (€82.71) are on sale:\n\nTicketsTerminal V Halloween\nvia SkiddleBookTerminal V Festival\n19 Apr – 20 Apr | Edinburgh\, UK\nTICKETS INFO\nAccommodation\nThe city of Edinburgh offers a wide range of accommodation options. Book your stay for Terminal V Halloween using the map below or visit booking.com \nBook Hotels & Airbnbs near the Venue at the Lowest Price online!\n\nTravel Info\nBY CAR\nGet DirectionsBY TRAIN\nEdinburgh is easily accessible rail or coach from the rest of the UK and a direct train from London takes around five hours. From Edinburgh Waverley Station take one of the Bus lines X17\, X18\, X38\, X38\, X24\, X25 or C19 to Ingliston Showground (25 min journey)\, just 400 meters from the Venue. \nBY BUS\nLocal Edinburgh transport will be available via the 98 bus service for Terminal V\, that leaves from St Andrew Square (north side) and also stops at Shandwick Place\, Haymarket and all other bus stops along the A8 to Maybury. Journey time will be approximately 30 minutes. \nBY PLANE\nEdinburgh Airport (EDI) is very close to the Venue. You can take the Bus to Ingliston Showground (4 min journey)\, just 400 meters from the Venue. Alternatively you can take a short 3 min taxi ride. \nBook FlightsAirport TransfersCar RentalsTrain/Bus Tickets\nGallery\nRelated Festivals\nAirbeat One Festival\n9 Jul – 13 Jul | Neustadt-Glewe\, Germany\nNature One Festival\n31 Jul – 3 Aug | Kastellaun\, Germany\n		\n			\n\n				\n				\n					Search for:
URL:https://europebookings.com/festival/terminal-v-festival-halloween/
LOCATION:Royal Highland Centre\, Royal Highland Centre\, Ingliston\, Edinburgh\, EH28 8NB\, United Kingdom
CATEGORIES:Electronic,House,Techno
ATTACH;FMTTYPE=image/jpeg:https://europebookings.com/wp-content/uploads/terminal-v-festival-halloween-laser-show.jpg
END:VEVENT
BEGIN:VEVENT
DTSTART;VALUE=DATE:20241025
DTEND;VALUE=DATE:20241027
DTSTAMP:20260420T014411
CREATED:20220802T195803Z
LAST-MODIFIED:20240801T112805Z
UID:59206-1729814400-1729987199@europebookings.com
SUMMARY:Forbidden Halloween
DESCRIPTION:Get TicketsAccommodationTravel Info\nForbidden Halloween 2024 is set to take over The Motorpoint Arena in Nottingham on October 25-26\, offering an electrifying two-night event that promises to be the UK’s biggest electronic Halloween celebration. Known for its spine-tingling atmosphere\, this festival brings together top-tier house and bass DJs\, creating a thrilling experience for all attendees. \nAlthough the lineup is yet to be announced\, previous editions have featured some of the most forward-thinking artists in the electronic music scene\, ensuring a dynamic and unforgettable musical journey. The festival’s immersive production includes stunning visuals\, state-of-the-art sound systems\, and Halloween-themed décor\, making it a unique spectacle. \nWhat sets Forbidden Halloween apart is its ability to blend high-energy music with a festive\, eerie ambiance\, creating a one-of-a-kind experience that captures the essence of Halloween. This event is a must-visit for electronic music fans looking to celebrate the spookiest night of the year in style. \n\nForbidden Halloween 2024 Lineup\nAll Artists & Program\nFri 25 Oct 2024\nAdrianna / Ben Hemsley / BK / BLK / Faster Horses / Schak \nSat 26 Oct 2024\nAD-APT / Brodie / DrEps / Emily Makis / Hybrid / ID / Minds / Kanine / K Motionz / Pendulum (DJ) / Something Something / Sub Focus / TEMPZA / Turno / WilkinsonForbidden Halloween 2024 Tickets\nTickets for both dates from £26.50 (€31.37) are on sale:\nTicketsForbidden Halloween\nvia Official SiteBookAccommodation\nThe city of Peterborough offers a wide range of accommodation options. Book your stay for Forbidden Halloween using the map below or visit booking.com \nBook Hotels & Airbnbs near the Venue at the Lowest Price online!\n\nTravel Info\nBY CAR\nGet DirectionsBY WALKING\nMotorpoint Arena Nottingham is located in the heart of the city. If you’re in the town center\, walking is the most convenient option. It takes about 10-15 minutes to walk from most central locations. \nBY BUS\nNumerous buses run through Nottingham city center. Look for routes that stop near Lace Market or Nottingham Station\, which are both close to the arena. \nKey bus services include routes 6\, 10\, and 11\, which stop at Lower Parliament Street\, just a short walk from the arena. \nBY TRAIN\nNottingham is well connected by rail from cities in the UK. The arena is approximately a 15-minute walk from Nottingham Station and Taxis are available outside Nottingham Station\, offering a quick 5-minute ride to Motorpoint Arena. \nBook FlightsAirport TransfersCar RentalsTrain/Bus Tickets\nGallery\nRelated Festivals\nDownload Festival\n12 Jun – 14 Jun | Derby\, UK\nLytham Festival\n1 Jul – 5 Jul | Lytham Green\, UK\n		\n			\n\n				\n				\n					Search for:
URL:https://europebookings.com/festival/forbidden-halloween/
LOCATION:Motorpoint Arena Nottingham\, Motorpoint Arena Nottingham\, Bolero Square\, Nottingham\, NG1 1LA\, United Kingdom
ATTACH;FMTTYPE=image/jpeg:https://europebookings.com/wp-content/uploads/forbidden-halloween-stage-laser-show.jpg
END:VEVENT
END:VCALENDAR