BEGIN:VCALENDAR
VERSION:2.0
PRODID:-//Europebookings - ECPv6.15.20//NONSGML v1.0//EN
CALSCALE:GREGORIAN
METHOD:PUBLISH
X-ORIGINAL-URL:https://europebookings.com
X-WR-CALDESC:Events for Europebookings
REFRESH-INTERVAL;VALUE=DURATION:PT1H
X-Robots-Tag:noindex
X-PUBLISHED-TTL:PT1H
BEGIN:VTIMEZONE
TZID:Asia/Nicosia
BEGIN:DAYLIGHT
TZOFFSETFROM:+0200
TZOFFSETTO:+0300
TZNAME:EEST
DTSTART:20220327T010000
END:DAYLIGHT
BEGIN:STANDARD
TZOFFSETFROM:+0300
TZOFFSETTO:+0200
TZNAME:EET
DTSTART:20221030T010000
END:STANDARD
BEGIN:DAYLIGHT
TZOFFSETFROM:+0200
TZOFFSETTO:+0300
TZNAME:EEST
DTSTART:20230326T010000
END:DAYLIGHT
BEGIN:STANDARD
TZOFFSETFROM:+0300
TZOFFSETTO:+0200
TZNAME:EET
DTSTART:20231029T010000
END:STANDARD
BEGIN:DAYLIGHT
TZOFFSETFROM:+0200
TZOFFSETTO:+0300
TZNAME:EEST
DTSTART:20240331T010000
END:DAYLIGHT
BEGIN:STANDARD
TZOFFSETFROM:+0300
TZOFFSETTO:+0200
TZNAME:EET
DTSTART:20241027T010000
END:STANDARD
END:VTIMEZONE
BEGIN:VEVENT
DTSTART;VALUE=DATE:20230720
DTEND;VALUE=DATE:20230724
DTSTAMP:20260421T080107
CREATED:20181212T185618Z
LAST-MODIFIED:20240317T171912Z
UID:18122-1689811200-1690156799@europebookings.com
SUMMARY:Bluedot Festival
DESCRIPTION:Get TicketsAccommodationTravel Info\nBludot Festival will not take place in 2024 \nBluedot Festival is a British festival of music\, art and discovery\, held each summer at the Jodrell Bank Discovery Centre in Macclesfield. The Jodrell Bank Discovery Centre is an educational observatory museum with science exhibits and the Lovell Radio Telescope. The centre is part of the University of Manchester. \nReturning in 2024\, Bluedot Festival will once again take up residency against the stunning backdrop of the Lovell Radio Telescope\, curating a weekend of music from across the indie and alternative spectrum. \nAnd beyond the music\, Bluedot Festival’s weekend of discovery includes a range of live science experiments\, expert talks and immersive artworks\, encouraging festival-goers to ask questions and stimulate their minds in the company of some of science’s finest brains. \n\nBluedot Festival 2023 Lineup\n2023 Lineup\nPavement / Grace Jones / Roisin Murphy / Leftfield / Max Richter / Young Fathers / Anni Mac / Nubya Garcia / Black Country / New Road / Max Cooper / Georgia / Beak> / David Holmes / Gwenno / Cmat / Teleman / Snapped Ankles / Nihiloxica / Lava La Rue / Henge / Big Joanie / Skinny Pelembe / Scalping / Pictish Trail / Radiophonic Workshop / Tuam / Belief / Divorce / MadMadMad / and many more \nBluedot Festival 2023 Tickets\nTicketsBluedot Festival\nComing SoonBookAccommodation\nCamping during the festival is included in the Weekend Camping Ticket\, so all you need is basic camping gear\, like a tent\, a camping pad and a head torch (so useful in the night). If you don’t want to bring your own tent\, the festival offers pre-pitched tents with extra comfort and Glamping options purchased here \nAlternatively\, you can book nearby hotels and apartments using the map below or visit booking.com \nBooking.comBook Hotels & Airbnbs near the Venue at the Lowest Price online!\n\nTravel Info\nBY CAR\nParking is available and tickets can be purchased here \nGet DirectionsBY COACH\nCoach tickets are on sale here from a variety of UK locations \nBY TRAIN\nThe closest train station to bluedot is Goostrey. As the roads by the station are dark country roads at night\, and there are no buses that run to and from the station\, it is recommended travelling from Macclesfield train station.\nManchester Piccadilly to Macclesfield Station – 20 minutes journey\nLondon Euston to Macclesfield Station – 1 hour 41 minutes journey \nBY TAXI\nThe following suppliers are well-reviewed local cab companies:\nINTIME Macclesfield Taxis – 01625 610000\nCabco Taxis – 01625 614666\nSilvertown Taxis – 01625 611333 \nBY PLANE\nThe closest airport to bluedot is Manchester Airport (MAN)\, just a mere 26 minute drive away. \nBook FlightsAirport TransfersCar RentalsTrain/Bus Tickets\nGallery
URL:https://europebookings.com/festival/bluedot-festival/
LOCATION:Jodrell Bank Observatory\, Jodrell Bank Observatory\, Bomish Ln\, Macclesfield\, SK11 9DL\, United Kingdom
CATEGORIES:Alternative,Electronic,Indie,Multi-Genre,Rock
ATTACH;FMTTYPE=image/jpeg:https://europebookings.com/wp-content/uploads/bluedot-festival-stage-lights-show.jpg
END:VEVENT
END:VCALENDAR