BEGIN:VCALENDAR
VERSION:2.0
PRODID:-//Europebookings - ECPv6.15.20//NONSGML v1.0//EN
CALSCALE:GREGORIAN
METHOD:PUBLISH
X-WR-CALNAME:Europebookings
X-ORIGINAL-URL:https://europebookings.com
X-WR-CALDESC:Events for Europebookings
REFRESH-INTERVAL;VALUE=DURATION:PT1H
X-Robots-Tag:noindex
X-PUBLISHED-TTL:PT1H
BEGIN:VTIMEZONE
TZID:Asia/Nicosia
BEGIN:DAYLIGHT
TZOFFSETFROM:+0200
TZOFFSETTO:+0300
TZNAME:EEST
DTSTART:20220327T010000
END:DAYLIGHT
BEGIN:STANDARD
TZOFFSETFROM:+0300
TZOFFSETTO:+0200
TZNAME:EET
DTSTART:20221030T010000
END:STANDARD
BEGIN:DAYLIGHT
TZOFFSETFROM:+0200
TZOFFSETTO:+0300
TZNAME:EEST
DTSTART:20230326T010000
END:DAYLIGHT
BEGIN:STANDARD
TZOFFSETFROM:+0300
TZOFFSETTO:+0200
TZNAME:EET
DTSTART:20231029T010000
END:STANDARD
BEGIN:DAYLIGHT
TZOFFSETFROM:+0200
TZOFFSETTO:+0300
TZNAME:EEST
DTSTART:20240331T010000
END:DAYLIGHT
BEGIN:STANDARD
TZOFFSETFROM:+0300
TZOFFSETTO:+0200
TZNAME:EET
DTSTART:20241027T010000
END:STANDARD
END:VTIMEZONE
BEGIN:VEVENT
DTSTART;VALUE=DATE:20230825
DTEND;VALUE=DATE:20230828
DTSTAMP:20260421T062218
CREATED:20220411T160112Z
LAST-MODIFIED:20230303T101847Z
UID:54208-1692921600-1693180799@europebookings.com
SUMMARY:Connect Music Festival
DESCRIPTION:Get TicketsAccommodationTravel Info\nConnect Music Festival will take place at the Royal Highland Centre near Edinburgh Airport in 2023. \nConnect Music Festival will celebrate the best of times\, allowing us to reconnect with live music and with each other. We will share the music and our experiences as we live in the moment together. Let’s reconnect with the people and things we love. This is Connect. \nBringing you the very best music from global stars to local heroes\, from grassroots to international\, we are building a festival for you to discover and enjoy. But Connect Music Festival is so much more than music\, it’s wrapped in outstanding experiences; comedy\, spoken word\, debate\, visual arts as well as exceptional food and drink from local talent and big-name Scottish chefs. Open minds and open hearts welcome. \n\nConnect Music Festival 2023 Lineup\nHeadliners\nPrimal Scream\nFred Again..\nboygenius\nLoyle Carner \nAll Artists & Program\nFri 25 August 2023\nPrimal Scream  /Franz Ferdinand / Future Islands / House Gospel Choir / Ethan P. Flynn / Confidence Man / Jockstrap / Humour / Kruder & Dorfmeister / David Holmes / DIJA \nSat 26 August 2023\nFred again.. / Young Fathers / Roisin Murphy / MUNA / Kelly Lee Owens / Biig Piig / Free Love / Friendly Fires / Rachel Chinouriri / TAAHLIAH / Leith Ross / Terra Kin / Redolent / Louis Culture / L’objectif / Optimo (Espacio) / Eclair Fifi / Sofay / Joy (Anonymous) / J Wax / Jamie Gunn \nSun 27 August 2023\nboygenius / Loyle Carner / Raye / Olivia Dean\nPublic Service Broadcasting / Lightning Seeds / Christian Lee Hutson / Arab Strap / Beth Orton / Wunderhorse / Kamal. / Katie Gregson Macleod / Panic Shack / Daniel Avery / Mona Yim (DJ Set) / Frankie ElyseConnect Music Festival 2023 Tickets\n1-Day\, 2-Day & 3- Day Tickets from £74.25 (€83.92) are on sale:\nTickets\nConnect Music Festivalvia Ticketmaster \nBookAccommodation\nCamping during the festival requires a Camping Ticket purchased here. All you need is basic camping gear\, like a tent\, a camping pad and a head torch (so useful in the night). If you don’t want to bring your own tent\, the festival offers Pre-pitched & Premium Camping options purchased here \nAlternatively\, you can book nearby hotels and apartments using the map below or visit booking.com \nBooking.comBook Hotels & Airbnbs near the Venue at the Lowest Price online!\n\nTravel Info\nBY CAR\n1-Day & 3-Day Parking tickets from £11.00 can be purchased here \nGet DirectionsBY TRAIN\nEdinburgh is easily accessible rail or coach from the rest of the UK and a direct train from London takes around five hours. From Edinburgh Waverley Station take one of the Bus lines X17\, X18\, X38\, X38\, X24\, X25 or C19 to Ingliston Showground (25 min journey)\, just 400 meters from the Venue. \nBY BUS\nLocal Edinburgh transport will be available via the 98 bus service for Terminal V\, that leaves from St Andrew Square (north side) and also stops at Shandwick Place\, Haymarket and all other bus stops along the A8 to Maybury. Journey time will be approximately 30 minutes. \nBY PLANE\nEdinburgh Airport (EDI) is very close to the Venue. You can take the Bus to Ingliston Showground (4 min journey)\, just 400 meters from the Venue. Alternatively you can take a short 3 min taxi ride. \nBook FlightsAirport TransfersCar RentalsTrain/Bus Tickets\nGallery
URL:https://europebookings.com/festival/connect-music-festival/
LOCATION:Royal Highland Centre\, Royal Highland Centre\, Ingliston\, Edinburgh\, EH28 8NB\, United Kingdom
CATEGORIES:Electronic,Indie,Rock
ATTACH;FMTTYPE=image/jpeg:https://europebookings.com/wp-content/uploads/connect-music-festival-stage-lights-show.jpg
END:VEVENT
END:VCALENDAR