BEGIN:VCALENDAR
VERSION:2.0
PRODID:-//Europebookings - ECPv6.15.20//NONSGML v1.0//EN
CALSCALE:GREGORIAN
METHOD:PUBLISH
X-ORIGINAL-URL:https://europebookings.com
X-WR-CALDESC:Events for Europebookings
REFRESH-INTERVAL;VALUE=DURATION:PT1H
X-Robots-Tag:noindex
X-PUBLISHED-TTL:PT1H
BEGIN:VTIMEZONE
TZID:Asia/Nicosia
BEGIN:DAYLIGHT
TZOFFSETFROM:+0200
TZOFFSETTO:+0300
TZNAME:EEST
DTSTART:20230326T010000
END:DAYLIGHT
BEGIN:STANDARD
TZOFFSETFROM:+0300
TZOFFSETTO:+0200
TZNAME:EET
DTSTART:20231029T010000
END:STANDARD
BEGIN:DAYLIGHT
TZOFFSETFROM:+0200
TZOFFSETTO:+0300
TZNAME:EEST
DTSTART:20240331T010000
END:DAYLIGHT
BEGIN:STANDARD
TZOFFSETFROM:+0300
TZOFFSETTO:+0200
TZNAME:EET
DTSTART:20241027T010000
END:STANDARD
BEGIN:DAYLIGHT
TZOFFSETFROM:+0200
TZOFFSETTO:+0300
TZNAME:EEST
DTSTART:20250330T010000
END:DAYLIGHT
BEGIN:STANDARD
TZOFFSETFROM:+0300
TZOFFSETTO:+0200
TZNAME:EET
DTSTART:20251026T010000
END:STANDARD
END:VTIMEZONE
BEGIN:VEVENT
DTSTART;VALUE=DATE:20240614
DTEND;VALUE=DATE:20240825
DTSTAMP:20260420T062046
CREATED:20210322T155246Z
LAST-MODIFIED:20231101T204416Z
UID:43405-1718323200-1724543999@europebookings.com
SUMMARY:Fatboy Slim Tour Tickets
DESCRIPTION:Get TicketsAccommodation\nFatboy Slim announced Loves Summer Tour 2024\, where he will play 8 dates across the UK. \nThe superstar DJ\, producer and songwriter Norman Cook\, who is known by his stage name Fatboy Slim among many other aliases\, has topped the charts\, winning numerous BRIT\, Grammy and MTV Awards for his music as well as setting records for the big way he takes to the decks. \nBefore he became revered for his floor-filling tunes\, Cook played bass for the indie-rock band The Housemartins in the late ’80s. In the ’90s\, he got into producing and started experimenting with bassline\, dub\, house and reggae. By 1996\, he’d adopted name Fatboy Slim and released the album Better Living Through Chemistry. \nThroughout the ’00s and ’10s\, often donning a Hawaiian shirt\, he held numerous club residencies and made many unforgettable live performances playing festivals\, stadiums and even boats. In late 2016\, Fatboy Slim decided to go even bigger by creating an in-the-round experience\, where huge venues like arenas are essentially transformed into nightclubs. He took his in-the-round experience on a headline arena tour in 2019 and broke records including the biggest capacity DJ event ever held at The SSE Arena\, Wembley. \n\nFatboy Slim Tour 2024 Tickets\n14 Jun @ Fairview Park\, Dublin\, IrelandBuy Tickets05 Jul @ Castlefield Bowl\, Manchester\, UKBuy Tickets06 Jul @ Scarborough Open Air Theatre\, Scarborough\, UKBuy Tickets20 Jul @ Galvanizers Yard SWG3\, Glasgow\, UKBuy Tickets09 Aug @ Galway Airport\, Galway\, IrelandBuy Tickets24 Aug @ The Piece Hall\, Halifax\, UKBuy TicketsAccommodation\nBook your accommodation in any city (type destination & add dates) using the map below or visit booking.com \nBooking.comBook Hotels & Airbnbs near the Venue at the Lowest Price online!\n\nBook FlightsAirport TransfersCar RentalsTrain/Bus Tickets\nRelated Concerts\nPink Concert Tickets\n15 Sep 2023 – 23 Mar 2024\nSimple Minds Concert Tickets\n27 Jan – 20 Apr\n		\n			\n\n				\n				\n					Search for:
URL:https://europebookings.com/festival/fatboy-slim-tickets/
LOCATION:Various Venues
CATEGORIES:Concerts,EDM,Electronic
ATTACH;FMTTYPE=image/jpeg:https://europebookings.com/wp-content/uploads/fatboy-slim-uk-tour-tickets.jpg
END:VEVENT
BEGIN:VEVENT
DTSTART;VALUE=DATE:20240817
DTEND;VALUE=DATE:20240825
DTSTAMP:20260420T062046
CREATED:20200915T183217Z
LAST-MODIFIED:20240813T202102Z
UID:41147-1723852800-1724543999@europebookings.com
SUMMARY:Edinburgh Summer Sessions
DESCRIPTION:Get TicketsAccommodationTravel Info\nEdinburgh Summer Sessions 2024: A Musical Extravaganza in the Heart of Scotland \nMark your calendars for Edinburgh Summer Sessions 2024\, taking place from August 17th to 24th at the scenic Royal Highland Showgrounds. This iconic festival is set to bring an array of top-tier talent to Edinburgh\, creating an unforgettable experience for music lovers. The festival kicks off with a stellar lineup featuring Ocean Colour Scene\, The View\, Embrace\, and more on August 17th. Closing the festival on August 24th\, the stage will be set ablaze by the indie rock sensations Catfish and the Bottlemen\, promising a night to remember. \nThe festival is renowned for its vibrant atmosphere and picturesque setting\, making it a summer highlight in the UK festival calendar. Whether you’re a fan of rock\, indie\, or alternative music\, Edinburgh Summer Sessions offers something for everyone\, ensuring a diverse and dynamic experience. \nDon’t miss out on this incredible event! Secure your tickets now and prepare for a week of outstanding performances\, stunning scenery\, and the unique charm of Edinburgh. \n\nEdinburgh Summer Sessions 2024 Lineup\nAll Artists & Program\nSat 17 Aug 2024\nOcean Colour Scene / The View / Embrace / Alabama 3 / Reverend And The Makers / Republica \nSat 24 Aug 2024\nCatfish and the BottlemenEdinburgh Summer Sessions 2024 Tickets\nTickets for both dates are on sale:\nTickets\nEdinburgh Summer Sessionsvia Ticketmaster \nBookAccommodation\nThe city of Edinburgh offers a wide range of accommodation options. Book your stay for Edinburgh Summer Sessions using the map below or visit booking.com \nBook Hotels & Airbnbs near the Venue at the Lowest Price online!\n\nTravel Info\nBY CAR\nGet DirectionsBY TRAIN\nEdinburgh is easily accessible rail or coach from the rest of the UK and a direct train from London takes around five hours. From Edinburgh Waverley Station take one of the Bus lines X17\, X18\, X38\, X38\, X24\, X25 or C19 to Ingliston Showground (25 min journey)\, just 400 meters from the Venue. \nBY BUS\nLocal Edinburgh transport will be available via the 98 bus service for Terminal V\, that leaves from St Andrew Square (north side) and also stops at Shandwick Place\, Haymarket and all other bus stops along the A8 to Maybury. Journey time will be approximately 30 minutes. \nBY PLANE\nEdinburgh Airport (EDI) is very close to the Venue. You can take the Bus to Ingliston Showground (4 min journey)\, just 400 meters from the Venue. Alternatively you can take a short 3 min taxi ride. \nBook FlightsAirport TransfersCar RentalsTrain/Bus Tickets\nGallery\nRelated Festivals\nDownload Festival\n12 Jun – 14 Jun | Derby\, UK\nLytham Festival\n1 Jul – 5 Jul | Lytham Green\, UK\n		\n			\n\n				\n				\n					Search for:
URL:https://europebookings.com/festival/edinburgh-summer-sessions/
LOCATION:Royal Highland Centre\, Royal Highland Centre\, Ingliston\, Edinburgh\, EH28 8NB\, United Kingdom
CATEGORIES:Indie,Multi-Genre,Pop,Rock
ATTACH;FMTTYPE=image/jpeg:https://europebookings.com/wp-content/uploads/edinburgh-summer-sessions-fans-dancing.jpg
END:VEVENT
BEGIN:VEVENT
DTSTART;VALUE=DATE:20240823
DTEND;VALUE=DATE:20240827
DTSTAMP:20260420T062047
CREATED:20210322T215419Z
LAST-MODIFIED:20240802T102015Z
UID:43437-1724371200-1724716799@europebookings.com
SUMMARY:Manchester Pride Festival
DESCRIPTION:Get TicketsAccommodationTravel Info\nManchester Pride Festival 2024: A Vibrant Celebration of LGBTQ+ Culture \nGet ready for a spectacular celebration at Manchester Pride Festival 2024\, taking place from August 23rd to 26th. This renowned event in the heart of Manchester is a vibrant celebration of LGBTQ+ culture\, equality\, and diversity\, promising a weekend filled with music\, parades\, and community spirit. \nThe festival features an impressive lineup\, including headliners Jessie J\, Sugababes\, Rita Ora\, and Eurovision star Loreen. Additional performances by Katy B\, Chinchilla\, and Radio 1’s Dean McCullough will keep the energy high across multiple stages. The event also highlights local LGBTQ+ talent\, ensuring a diverse and inclusive celebration. \nCentral to the festival is the iconic Gay Village Party\, a joyous street celebration with a variety of entertainment and performances. The Manchester Pride Parade\, taking place on August 24th\, is a vibrant procession advocating for LGBTQ+ rights and visibility. The Candlelit Vigil on August 26th provides a poignant moment of reflection and remembrance\, closing the festival on a note of unity and hope. \nTickets are available now\, with a portion of proceeds supporting LGBTQ+ causes in Greater Manchester. Secure your spot at this unmissable event and join thousands in celebrating love\, diversity\, and community. \n\nManchester Pride Festival 2024 Lineup\nAll Artists & Program\nFri 23 Aug 2024\nBimini / Denon James / DJ XZAN / Fat Pride MCR / Felix Mufti / Jess Rose / Jessie J / Keala Settle / Nelly / Pecs: Black is King / Queer Stage Revolution / Runway by Banksie / Sam Buttery / The Enby Show / Tito Bone / Trans Filth & Joy / Violet Blonde \nSat 24 Aug 2024\nAsifa Lahore / Bennettiscoming / Black Peppa / Black Pride MCR Takeover / Cadbury Parfait / Chris Blackmore / Club Zindagi / Coco Cannell / Coco Deville / Craig Law / Duniya Dhoom / Dave Cooper / DJ Jade / DJ Paulette / DJ Stacy Bee / Duniya Dhoom / Fortune / Freequency3 / Gaydio Dance Arena / Ghetto Fabulous / Goodie / House Of Spice / Immy Terial / Jaii Andrews / Jaxon / Jsky / Katy B / Kriss Herbert / Lady Macrocosm / Loreen / Louis III / Lucky Roy Singh / Martell Munro / Mayumi Fukiko / Michelle Mckenna / Minara ‘El Waters / Mohammed Barber / Mr Blaque / Naveen Sonne / Natasha Moonshine / Night-Thomas / Platnum / Punjabi Roots / Qupid Harrow / Queer Asian Takeover / Rajan Das / Rachel Pro-Filing Dan Chan / Rita Ora / Roman / Saki Yew / Sam Hofman / Shanika Sunrise / STNLY / Swagga / Tequila Thirst / The Bitten Peach / Val The Brown Queen / Ydsa / Zahira Zapanta \nSun 25 Aug 2024\nAnna Phylactic / Angie Brown / Bailey J Mills / Banksie / Big Dee / Chinchilla / Charlieeeee / Claire Richards / Danny Beard / Dean Mccullough’s Pop Machine / DJ Billy Andrew / Divas Only With Misty Chance / Fatt Butcher / Freequency3 / Ginger Hunter / Ginny Lemon’s Dog Show / Hayley-Ria Christian / Haus Of Lasair / Kimmie Smith / Lauren Lo Sung / Lill / Mix-Stress / Missie Jay / Naveen Sonne / Narcissa Nightshade / Natasha Hamilton / Olivia Mae / Queenz: The Show With Balls / Queer Women’s Takeover / Rainbow Nation Dance Academy / Rave With Pride / Rozalla / Saki Yew / Stephani B / Sugababes / Swagga / Tam Poles / The Canal Street Kings / Verrycherry / Viola / What She Said / Your Manchester Live! Hosted By Belinda ScandalManchester Pride Festival 2024 Tickets\nWeekend Tickets at £43.75 (€51.18) are on sale:\nTickets\nManchester Pride Festival\nvia Ticketmaster \nBookAccommodation\nThe city of Manchester offers a wide range of accommodation options. Book your stay for Manchester Pride Festival using the map below or visit booking.com \nBooking.comBook Hotels & Airbnbs near the Venue at the Lowest Price online!\n\nTravel Info\nBY CAR\nGet DirectionsBY Bus\nTake a bus to Manchester Piccadilly Gardens. From there\, the Gay Village Party event site is a two minute walk. \nBY TRAM\nThe easiest way to get to and from Manchester Pride Festival is using Metrolink.\nNearest stop: \n\nFor MCR Pride Live: Piccadilly\nFor Gay Village Party: Piccadilly Gardens\nFor the Parade: Deansgate Castlefield & St Peters Square\n\nBY TRAIN\nManchester is well connected by rail in the UK. Manchester Piccadilly Station is 200 meters away from the venue. \nBY PLANE\nFrom Manchester Airport (MAN) take the train to Manchester Piccadilly Station (16 min journey). The venue is 200 meters away. \nBook FlightsAirport TransfersCar RentalsTrain/Bus Tickets\nGallery\nRelated Festivals\nKappa Futur Festival\n4 Jul – 6 Jul | Turin\, Italy\nUltra Europe Festival\n11 Jul – 13 Jul | Split\, Croatia\n		\n			\n\n				\n				\n					Search for:
URL:https://europebookings.com/festival/manchester-pride-festival/
LOCATION:Manchester Pride\, LGBT Pride Event Venue Area\, Canal St\, Sackville St\, Manchester\, M1 3NF\, United Kingdom
CATEGORIES:Indie,Pop
ATTACH;FMTTYPE=image/jpeg:https://europebookings.com/wp-content/uploads/manchester-pride-festival-party.jpg
END:VEVENT
END:VCALENDAR